BEGIN:VCALENDAR
VERSION:2.0
PRODID:-//Το Φεστιβάλ του Δήμου Αθηναίων - ECPv6.12.0.1//NONSGML v1.0//EN
CALSCALE:GREGORIAN
METHOD:PUBLISH
X-ORIGINAL-URL:https://cityfestival.thisisathens.org
X-WR-CALDESC:Events for Το Φεστιβάλ του Δήμου Αθηναίων
REFRESH-INTERVAL;VALUE=DURATION:PT1H
X-Robots-Tag:noindex
X-PUBLISHED-TTL:PT1H
BEGIN:VTIMEZONE
TZID:Europe/Athens
BEGIN:DAYLIGHT
TZOFFSETFROM:+0200
TZOFFSETTO:+0300
TZNAME:EEST
DTSTART:20250330T010000
END:DAYLIGHT
BEGIN:STANDARD
TZOFFSETFROM:+0300
TZOFFSETTO:+0200
TZNAME:EET
DTSTART:20251026T010000
END:STANDARD
END:VTIMEZONE
BEGIN:VEVENT
DTSTART;TZID=Europe/Athens:20250524T110000
DTEND;TZID=Europe/Athens:20250524T150000
DTSTAMP:20260420T111644
CREATED:20250424T102622Z
LAST-MODIFIED:20250425T160020Z
UID:10003791-1748084400-1748098800@cityfestival.thisisathens.org
SUMMARY:CONQUISTADORS
DESCRIPTION:Ο Νίκος Κυριακόπουλος και οι conquistadors του\, αποβιβάζονται στη Λένορμαν.\nΔράκοι και άγρια θηρία\, ντόπιοι και conquistadors αλλά και ο Θάνατος αυτοπροσώπως\, μάχονται μέσα σε απάτητες ζούγκλες.\n\nΤα 36 έργα που απαρτίζουν την έκθεση\, δεν έχουν στόχο να υπηρετήσουν την ιστορία ή το ιστορικό genre της ζωγραφικής. Ο καλλιτέχνης αντλεί το υλικό του από τον μύθο που συνοδεύει την Εποχή των Ανακαλύψεων και πλάθει εικόνες μακριά και πέραν του νατουραλισμού\, τόσο σε μορφολογικό όσο και σε επίπεδο θεματικού περιεχομένου.\nΤα έργα έχουν δημιουργηθεί με την μέθοδο της μονοτυπίας\, τεχνική που χρονολογείται από τον 16ο αιώνα και που\, σε συνδυασμό με τις ιστορίες που περιγράφουν\, αποκτούν ένα ακόμη ιδιαίτερο ενδιαφέρον.\nΟι περιπέτειες των ηρώων αποτελούν αφορμή όχι μόνο για τις περιπέτειες της γραμμής και του χρώματος\, αλλά και αφετηρία για στοχασμό πάνω σε έννοιες όπως αυτές της επιθυμίας\, του φόβου\, της σύγκρουσης ή της πλάνης.\n\nΕγκαίνια: Πέμπτη 8 Μαΐου 2025 και ώρα 19:30 – 23:00\n\nΏρες λειτουργίας:\nΚαθημερινά 10:00 – 18:00\nΣάββατο 11:00 – 15:00\nΚυριακή κλειστά
URL:https://cityfestival.thisisathens.org/event/conquistadors/2025-05-24/
LOCATION:Πολιτιστικός Χώρος Macart\, Λένορμαν 244\, Αθήνα\, Αθήνα\, 104 43\, Greece
CATEGORIES:ΓΚΑΛΕΡΙ,ΔΩΡΕΑΝ,ΕΚΘΕΣΗ,ΨΥΧΑΓΩΓΙΑ
ATTACH;FMTTYPE=image/jpeg:https://cityfestival.thisisathens.org/wp-content/uploads/2025/04/DSC_7775-1.jpg
END:VEVENT
BEGIN:VEVENT
DTSTART;TZID=Europe/Athens:20250524T113000
DTEND;TZID=Europe/Athens:20250524T150000
DTSTAMP:20260420T111644
CREATED:20250424T085600Z
LAST-MODIFIED:20250506T132608Z
UID:10003749-1748086200-1748098800@cityfestival.thisisathens.org
SUMMARY:Βασίλης Παπαγεωργίου - Ζωγραφική και Γλυπτική: Lignea Creatura Stans
DESCRIPTION:Ο φυτικός\, ζωικός και ανθρώπινος κόσμος\, ο θρύλος\, ο μύθος\, η φαντασία και το όνειρο συνθέτουν τη νέα εικαστική θεματική του Βασίλη Παπαγεωργίου. Οι οξύμωροι ήρωες του\, τα ξυλοπλάσματα που εφευρίσκει\, βρίσκονται στον δισδιάστατο και τρισδιάστατο χώρο που μας περιβάλλει\, σε μια διαρκή περιδίνηση. Εποπτεύοντας αισθητικά\, το βάθος των συνεπειών της καταστροφής του κόσμου από την ανθρώπινη παρέμβαση\, δημιουργεί αξίες από πολιτισμικές αναφορές της παράδοσης και της φύσης\, οι οποίες ορίζουν τις παραμέτρους της συνύπαρξης.\n\nΏρες λειτουργίας: Δευτέρα-Παρασκευή 11:30- 14:30 & 17:30 – 20:30\, Σάββατο: 11:30-15:00
URL:https://cityfestival.thisisathens.org/event/vassilis-papageorgiou-zografiki-lignea-creatura-stans-2/2025-05-24/
LOCATION:Γκαλερί Έρση\, Κλεομένους 4\, Αθήνα\, Αθήνα\, 106 75\, Greece
CATEGORIES:ΓΚΑΛΕΡΙ,ΔΩΡΕΑΝ,ΕΚΘΕΣΗ,ΨΥΧΑΓΩΓΙΑ
ATTACH;FMTTYPE=image/jpeg:https://cityfestival.thisisathens.org/wp-content/uploads/2025/04/ΒΑΣΙΛΗΣ-ΠΑΠΑΓΕΩΡΓΙΟΥΑνάγνωση2023-Λάδι-σε-λινό-160-195-cm.jpg
END:VEVENT
BEGIN:VEVENT
DTSTART;TZID=Europe/Athens:20250524T173000
DTEND;TZID=Europe/Athens:20250524T230000
DTSTAMP:20260420T111644
CREATED:20250408T110811Z
LAST-MODIFIED:20250506T120110Z
UID:10003458-1748107800-1748127600@cityfestival.thisisathens.org
SUMMARY:Street Outdoors Block Party
DESCRIPTION:Μία από τις πιο όμορφες και ταυτόχρονα αδικημένες από τους περαστικούς πλατείες της Αθήνας\, η πλατεία Κουμουνδούρου\, μετατρέπεται σε ένα μοναδικό\, υπαίθριο club από την κορυφαία ομάδα των Street Outdoors. Μουσική από το μέλλον\, ένα δημιουργικό και δραστήριο κοινό και μια ιστορία δέκα ετών στη διοργάνωση επικών event συνθέτουν το απόλυτο party σε μια «δύσκολη» γειτονιά της πόλης που σιγά – σιγά βγαίνει στην επιφάνεια.\n\n 
URL:https://cityfestival.thisisathens.org/event/street-outdoors-block-party/
LOCATION:Πλατεία Κουμουνδούρου\, Πλ. Κουμουνδουρου\, Athens\, Αθήνα\, 105 53\, Greece
CATEGORIES:DJ SET,ΔΩΡΕΑΝ,ΠΑΡΤΙ,ΥΠΑΙΘΡΙΑ ΔΡΑΣΗ,ΨΥΧΑΓΩΓΙΑ
ATTACH;FMTTYPE=image/jpeg:https://cityfestival.thisisathens.org/wp-content/uploads/2025/04/20240518-TiACF-MKR-StreetOutdoorsEleftheriasPark-0049-scaled.jpg
END:VEVENT
BEGIN:VEVENT
DTSTART;TZID=Europe/Athens:20250524T190000
DTEND;TZID=Europe/Athens:20250524T220000
DTSTAMP:20260420T111644
CREATED:20250424T080846Z
LAST-MODIFIED:20250428T145316Z
UID:10003715-1748113200-1748124000@cityfestival.thisisathens.org
SUMMARY:Μήνυμα σε RGB and WHITE
DESCRIPTION:Το Mosaico Fine Art Studio στην Αθήνα και η Mobil Bóde Gallery στην Βουδαπέστη παρουσιάζουν μία έκθεση mail art\, που πραγματοποιείται με τη συμμετοχή ελλήνων και ούγγρων καλλιτεχνών.\n\nΕγκαίνια: Σάββατο 24 Μαΐου 2025\, 19:00\n\nΔευτέρα εως Παρασκευή 18:00-21:00\, Σάββατο 11:00-15:00\, Κυριακή κλειστά.
URL:https://cityfestival.thisisathens.org/event/minima-rgb-white/2025-05-24/
LOCATION:Mosaico Fine Art Studio\, Καισαρείας 18-20\, Αθήνα\, Αθήνα\, 115 27\, Greece
CATEGORIES:ΓΚΑΛΕΡΙ,ΔΩΡΕΑΝ,ΕΚΘΕΣΗ,ΨΥΧΑΓΩΓΙΑ
ATTACH;FMTTYPE=image/jpeg:https://cityfestival.thisisathens.org/wp-content/uploads/2025/04/mosaico-Eva-Papagianni-scaled.jpg
END:VEVENT
BEGIN:VEVENT
DTSTART;TZID=Europe/Athens:20250524T190000
DTEND;TZID=Europe/Athens:20250524T230000
DTSTAMP:20260420T111644
CREATED:20250327T110538Z
LAST-MODIFIED:20250524T145719Z
UID:10001260-1748113200-1748127600@cityfestival.thisisathens.org
SUMMARY:Athens Cocktail Week Party
DESCRIPTION:Μια από τις μεγαλύτερες παγκόσμιες τάσεις\, εκείνη των κοκτέιλ\, βρίσκει την καλύτερη εκδοχή της στην Αθήνα\, την πόλη που στεγάζει μερικά από τα καλύτερα μπαρ του κόσμου. Αυτή την καταπληκτική bar σκηνή της πόλης μας\, βάζει στο προσκήνιο το Athens Cocktail Week\, σε συνεργασία με το Φεστιβάλ του Δήμου Αθηναίων\, με ένα εντυπωσιακό opening party και 12+ διαφορετικά bar stations μέσα σε μία άγνωστη για πολλούς όαση στην καρδιά της Αθήνας\, το Πάρκο Ριζάρη. Ευφάνταστες συνταγές\, σπάνια αποστάγματα\, μυστικά συστατικά\, τέχνη και εμπειρία ετών αλλά πάνω απ΄ όλα\, μεράκι και πάθος για ένα αψεγάδιαστο cocktail στο χέρι και κορυφαίες μουσικές επιλογές να βγαίνουν από τα ηχεία.
URL:https://cityfestival.thisisathens.org/event/athens-cocktail-week-party/
LOCATION:Πάρκο Ριζάρη\, Ριζάρη 5\, Αθήνα\, Αθήνα\, 106 76\, Greece
CATEGORIES:ΓΑΣΤΡΟΝΟΜΙΑ,ΔΩΡΕΑΝ,ΥΠΑΙΘΡΙΑ ΔΡΑΣΗ,ΨΥΧΑΓΩΓΙΑ
ATTACH;FMTTYPE=image/jpeg:https://cityfestival.thisisathens.org/wp-content/uploads/2025/03/20220528-TGR-AthensCityFestival-CocktailFestivalParty-0051-scaled.jpg
END:VEVENT
BEGIN:VEVENT
DTSTART;TZID=Europe/Athens:20250524T220000
DTEND;TZID=Europe/Athens:20250525T050000
DTSTAMP:20260420T111644
CREATED:20250403T130216Z
LAST-MODIFIED:20250506T164636Z
UID:10003371-1748124000-1748149200@cityfestival.thisisathens.org
SUMMARY:En Lefko Spring Party
DESCRIPTION:Το καθιερωμένο ανοιξιάτικο ξεφάντωμα έχει\, χρόνια τώρα\, ένα όνομα: «En Lefko Spring Party».\n\nΣυμμετέχοντας για 3η συνεχή χρονιά στο Φεστιβάλ του Δήμου Αθηναίων\, η ομάδα του En Lefko 87.7 αφήνει τα στούντιο του σταθμού και κατευθύνεται στον πολυχώρο Ω2 του Ωδείου Αθηνών για να μας συγκλονίσει με ευφάνταστα concept και συγκλονιστικές μουσικές\, που θα μας κρατήσουν εκεί μέχρι τις πρωινές ώρες.
URL:https://cityfestival.thisisathens.org/event/en-lefko-spring-party/
LOCATION:Ωδείο Αθηνών\, Ρηγίλλης &\, Vasileos Georgiou B 17-19\, Αθήνα\, Αθήνα\, 106 75\, Greece
CATEGORIES:DJ SET,ΠΑΡΤΙ,ΨΥΧΑΓΩΓΙΑ
ATTACH;FMTTYPE=image/jpeg:https://cityfestival.thisisathens.org/wp-content/uploads/2025/04/230520_GMK_En_Lefko_Spring_Party_27-scaled.jpg
GEO:37.973423563659;23.743181774147
X-APPLE-STRUCTURED-LOCATION;VALUE=URI;X-ADDRESS=Ωδείο Αθηνών Ρηγίλλης & Vasileos Georgiou B 17-19 Αθήνα Αθήνα 106 75 Greece;X-APPLE-RADIUS=500;X-TITLE=Ρηγίλλης &\, Vasileos Georgiou B 17-19:geo:23.743181774147,37.973423563659
END:VEVENT
END:VCALENDAR