BEGIN:VCALENDAR
VERSION:2.0
PRODID:-//Το Φεστιβάλ του Δήμου Αθηναίων - ECPv6.12.0.1//NONSGML v1.0//EN
CALSCALE:GREGORIAN
METHOD:PUBLISH
X-ORIGINAL-URL:https://cityfestival.thisisathens.org
X-WR-CALDESC:Events for Το Φεστιβάλ του Δήμου Αθηναίων
REFRESH-INTERVAL;VALUE=DURATION:PT1H
X-Robots-Tag:noindex
X-PUBLISHED-TTL:PT1H
BEGIN:VTIMEZONE
TZID:Europe/Athens
BEGIN:DAYLIGHT
TZOFFSETFROM:+0200
TZOFFSETTO:+0300
TZNAME:EEST
DTSTART:20250330T010000
END:DAYLIGHT
BEGIN:STANDARD
TZOFFSETFROM:+0300
TZOFFSETTO:+0200
TZNAME:EET
DTSTART:20251026T010000
END:STANDARD
END:VTIMEZONE
BEGIN:VEVENT
DTSTART;TZID=Europe/Athens:20250528T100000
DTEND;TZID=Europe/Athens:20250528T180000
DTSTAMP:20260420T111645
CREATED:20250424T102622Z
LAST-MODIFIED:20250425T160020Z
UID:10003794-1748426400-1748455200@cityfestival.thisisathens.org
SUMMARY:CONQUISTADORS
DESCRIPTION:Ο Νίκος Κυριακόπουλος και οι conquistadors του\, αποβιβάζονται στη Λένορμαν.\nΔράκοι και άγρια θηρία\, ντόπιοι και conquistadors αλλά και ο Θάνατος αυτοπροσώπως\, μάχονται μέσα σε απάτητες ζούγκλες.\n\nΤα 36 έργα που απαρτίζουν την έκθεση\, δεν έχουν στόχο να υπηρετήσουν την ιστορία ή το ιστορικό genre της ζωγραφικής. Ο καλλιτέχνης αντλεί το υλικό του από τον μύθο που συνοδεύει την Εποχή των Ανακαλύψεων και πλάθει εικόνες μακριά και πέραν του νατουραλισμού\, τόσο σε μορφολογικό όσο και σε επίπεδο θεματικού περιεχομένου.\nΤα έργα έχουν δημιουργηθεί με την μέθοδο της μονοτυπίας\, τεχνική που χρονολογείται από τον 16ο αιώνα και που\, σε συνδυασμό με τις ιστορίες που περιγράφουν\, αποκτούν ένα ακόμη ιδιαίτερο ενδιαφέρον.\nΟι περιπέτειες των ηρώων αποτελούν αφορμή όχι μόνο για τις περιπέτειες της γραμμής και του χρώματος\, αλλά και αφετηρία για στοχασμό πάνω σε έννοιες όπως αυτές της επιθυμίας\, του φόβου\, της σύγκρουσης ή της πλάνης.\n\nΕγκαίνια: Πέμπτη 8 Μαΐου 2025 και ώρα 19:30 – 23:00\n\nΏρες λειτουργίας:\nΚαθημερινά 10:00 – 18:00\nΣάββατο 11:00 – 15:00\nΚυριακή κλειστά
URL:https://cityfestival.thisisathens.org/event/conquistadors/2025-05-28/
LOCATION:Πολιτιστικός Χώρος Macart\, Λένορμαν 244\, Αθήνα\, Αθήνα\, 104 43\, Greece
CATEGORIES:ΓΚΑΛΕΡΙ,ΔΩΡΕΑΝ,ΕΚΘΕΣΗ,ΨΥΧΑΓΩΓΙΑ
ATTACH;FMTTYPE=image/jpeg:https://cityfestival.thisisathens.org/wp-content/uploads/2025/04/DSC_7775-1.jpg
END:VEVENT
BEGIN:VEVENT
DTSTART;TZID=Europe/Athens:20250528T113000
DTEND;TZID=Europe/Athens:20250528T203000
DTSTAMP:20260420T111645
CREATED:20250424T085600Z
LAST-MODIFIED:20250506T132608Z
UID:10003752-1748431800-1748464200@cityfestival.thisisathens.org
SUMMARY:Βασίλης Παπαγεωργίου - Ζωγραφική και Γλυπτική: Lignea Creatura Stans
DESCRIPTION:Ο φυτικός\, ζωικός και ανθρώπινος κόσμος\, ο θρύλος\, ο μύθος\, η φαντασία και το όνειρο συνθέτουν τη νέα εικαστική θεματική του Βασίλη Παπαγεωργίου. Οι οξύμωροι ήρωες του\, τα ξυλοπλάσματα που εφευρίσκει\, βρίσκονται στον δισδιάστατο και τρισδιάστατο χώρο που μας περιβάλλει\, σε μια διαρκή περιδίνηση. Εποπτεύοντας αισθητικά\, το βάθος των συνεπειών της καταστροφής του κόσμου από την ανθρώπινη παρέμβαση\, δημιουργεί αξίες από πολιτισμικές αναφορές της παράδοσης και της φύσης\, οι οποίες ορίζουν τις παραμέτρους της συνύπαρξης.\n\nΏρες λειτουργίας: Δευτέρα-Παρασκευή 11:30- 14:30 & 17:30 – 20:30\, Σάββατο: 11:30-15:00
URL:https://cityfestival.thisisathens.org/event/vassilis-papageorgiou-zografiki-lignea-creatura-stans-2/2025-05-28/
LOCATION:Γκαλερί Έρση\, Κλεομένους 4\, Αθήνα\, Αθήνα\, 106 75\, Greece
CATEGORIES:ΓΚΑΛΕΡΙ,ΔΩΡΕΑΝ,ΕΚΘΕΣΗ,ΨΥΧΑΓΩΓΙΑ
ATTACH;FMTTYPE=image/jpeg:https://cityfestival.thisisathens.org/wp-content/uploads/2025/04/ΒΑΣΙΛΗΣ-ΠΑΠΑΓΕΩΡΓΙΟΥΑνάγνωση2023-Λάδι-σε-λινό-160-195-cm.jpg
END:VEVENT
BEGIN:VEVENT
DTSTART;TZID=Europe/Athens:20250528T180000
DTEND;TZID=Europe/Athens:20250528T210000
DTSTAMP:20260420T111645
CREATED:20250424T080846Z
LAST-MODIFIED:20250428T145316Z
UID:10003718-1748455200-1748466000@cityfestival.thisisathens.org
SUMMARY:Μήνυμα σε RGB and WHITE
DESCRIPTION:Το Mosaico Fine Art Studio στην Αθήνα και η Mobil Bóde Gallery στην Βουδαπέστη παρουσιάζουν μία έκθεση mail art\, που πραγματοποιείται με τη συμμετοχή ελλήνων και ούγγρων καλλιτεχνών.\n\nΕγκαίνια: Σάββατο 24 Μαΐου 2025\, 19:00\n\nΔευτέρα εως Παρασκευή 18:00-21:00\, Σάββατο 11:00-15:00\, Κυριακή κλειστά.
URL:https://cityfestival.thisisathens.org/event/minima-rgb-white/2025-05-28/
LOCATION:Mosaico Fine Art Studio\, Καισαρείας 18-20\, Αθήνα\, Αθήνα\, 115 27\, Greece
CATEGORIES:ΓΚΑΛΕΡΙ,ΔΩΡΕΑΝ,ΕΚΘΕΣΗ,ΨΥΧΑΓΩΓΙΑ
ATTACH;FMTTYPE=image/jpeg:https://cityfestival.thisisathens.org/wp-content/uploads/2025/04/mosaico-Eva-Papagianni-scaled.jpg
END:VEVENT
BEGIN:VEVENT
DTSTART;TZID=Europe/Athens:20250528T190000
DTEND;TZID=Europe/Athens:20250528T203000
DTSTAMP:20260420T111645
CREATED:20250327T110643Z
LAST-MODIFIED:20250506T113942Z
UID:10001262-1748458800-1748464200@cityfestival.thisisathens.org
SUMMARY:Παραμύθια στο Πάρκο: Ταξιάρχης Μπεληγιάννης - Μαρία Πλούμη
DESCRIPTION:Παραμύθια για ατρόμητα παιδιά!\nΠοιος δεν αγαπάει μια καλή ιστορία γεμάτη περιπέτεια; Ήρωες που δεν φοβούνται τίποτα\, παιδιά που τα βάζουν με δράκους\, και μικροί ατρόμητοι φίλοι που καταφέρνουν τα πάντα! Με μουσική και αφήγηση\, ετοιμαστείτε για παραμύθια που θα σας δώσουν δύναμη και θάρρος!\n\nΑφήγηση: Ταξιάρχης Μπεληγιάννης\nΜουσική: Μαρία Πλουμή
URL:https://cityfestival.thisisathens.org/event/paramythia-plateia-beligiannis-ploumi/
LOCATION:Άλσος Παγκρατίου\, Άλσος Παγκρατίου\, Αθήνα\, Αθήνα\, 116 35\, Greece
CATEGORIES:ΔΩΡΕΑΝ,ΠΑΙΔΙ,ΥΠΑΙΘΡΙΑ ΔΡΑΣΗ,ΨΥΧΑΓΩΓΙΑ
ATTACH;FMTTYPE=image/jpeg:https://cityfestival.thisisathens.org/wp-content/uploads/2025/03/230501-GMK-Athens_Urban_Picnic_15-scaled.jpg
END:VEVENT
BEGIN:VEVENT
DTSTART;TZID=Europe/Athens:20250528T200000
DTEND;TZID=Europe/Athens:20250528T230000
DTSTAMP:20260420T111645
CREATED:20250404T134520Z
LAST-MODIFIED:20250509T080537Z
UID:10003355-1748462400-1748473200@cityfestival.thisisathens.org
SUMMARY:Αντωνία Καούρη Live
DESCRIPTION:Ένα από τα πιο αινιγματικά πρόσωπα του νέου ελληνικού τραγουδιού\, η Αντωνία Καούρη\, έρχεται στο Φεστιβάλ του Δήμου Αθηναίων για ένα live γεμάτο μυστήριο και ηλεκτρονικούς ήχους\, που θα μας εκπλήξουν.\nΗ ίδια εντυπωσίασε στο «The Voice» με τη σαγηνευτική φωνή της\, ενώ μάγεψε το κοινό ως opening act στις sold out συναυλίες των Coldplay. Θα εμφανιστεί στην «αυλή» της Πινακοθήκης του Δήμου Αθηναίων\, ενός κτιρίου με ιστορία ετών και σημείου πολιτισμού για την πόλη.
URL:https://cityfestival.thisisathens.org/event/antonia-kauri-live/
LOCATION:Πινακοθήκη Δήμου Αθηναίων\, Municipal Gallery of Athens\, Αθήνα\, Αθήνα\, 104 36\, Greece
CATEGORIES:ΔΩΡΕΑΝ,ΣΥΝΑΥΛΙΑ,ΥΠΑΙΘΡΙΑ ΔΡΑΣΗ,ΨΥΧΑΓΩΓΙΑ
ATTACH;FMTTYPE=image/png:https://cityfestival.thisisathens.org/wp-content/uploads/2025/04/Στιγμιότυπο-οθόνης-2024-06-08-134630-1024x573-1.png
END:VEVENT
END:VCALENDAR