BEGIN:VCALENDAR
VERSION:2.0
PRODID:-//Το Φεστιβάλ του Δήμου Αθηναίων - ECPv6.12.0.1//NONSGML v1.0//EN
CALSCALE:GREGORIAN
METHOD:PUBLISH
X-WR-CALNAME:Το Φεστιβάλ του Δήμου Αθηναίων
X-ORIGINAL-URL:https://cityfestival.thisisathens.org
X-WR-CALDESC:Events for Το Φεστιβάλ του Δήμου Αθηναίων
REFRESH-INTERVAL;VALUE=DURATION:PT1H
X-Robots-Tag:noindex
X-PUBLISHED-TTL:PT1H
BEGIN:VTIMEZONE
TZID:Europe/Athens
BEGIN:DAYLIGHT
TZOFFSETFROM:+0200
TZOFFSETTO:+0300
TZNAME:EEST
DTSTART:20250330T010000
END:DAYLIGHT
BEGIN:STANDARD
TZOFFSETFROM:+0300
TZOFFSETTO:+0200
TZNAME:EET
DTSTART:20251026T010000
END:STANDARD
END:VTIMEZONE
BEGIN:VEVENT
DTSTART;TZID=Europe/Athens:20250529T203000
DTEND;TZID=Europe/Athens:20250529T213000
DTSTAMP:20260421T210151
CREATED:20250327T112914Z
LAST-MODIFIED:20250513T142537Z
UID:10001274-1748550600-1748554200@cityfestival.thisisathens.org
SUMMARY:Η Κρατική Σχολή Χορού Βγαίνει Έξω
DESCRIPTION:Χορευτικές στιγμές σε απρόσμενα σημεία μέσα στην πόλη από τους σπουδαστές της Κρατικής Σχολής Ορχηστικής Τέχνης\, υπό την καλλιτεχνική διεύθυνση του κορυφαίου χοροδιδασκάλου της\, Δάφνι Κόκκινου.
URL:https://cityfestival.thisisathens.org/event/kratiki-sxoli-xorou/
LOCATION:Πλατεία Κοτζιά\, Πλατεία Κοτζιά\, Αθήνα\, Αθήνα\, 105 51\, Greece
CATEGORIES:ΔΩΡΕΑΝ,ΥΠΑΙΘΡΙΑ ΔΡΑΣΗ,ΧΟΡΟΣ,ΨΥΧΑΓΩΓΙΑ
ATTACH;FMTTYPE=image/jpeg:https://cityfestival.thisisathens.org/wp-content/uploads/2025/03/20240530TiACF-GMK-KSOTOmonoia-0025-scaled.jpg
END:VEVENT
END:VCALENDAR