BEGIN:VCALENDAR
VERSION:2.0
PRODID:-//Το Φεστιβάλ του Δήμου Αθηναίων - ECPv6.12.0.1//NONSGML v1.0//EN
CALSCALE:GREGORIAN
METHOD:PUBLISH
X-WR-CALNAME:Το Φεστιβάλ του Δήμου Αθηναίων
X-ORIGINAL-URL:https://cityfestival.thisisathens.org
X-WR-CALDESC:Events for Το Φεστιβάλ του Δήμου Αθηναίων
REFRESH-INTERVAL;VALUE=DURATION:PT1H
X-Robots-Tag:noindex
X-PUBLISHED-TTL:PT1H
BEGIN:VTIMEZONE
TZID:Europe/Athens
BEGIN:DAYLIGHT
TZOFFSETFROM:+0200
TZOFFSETTO:+0300
TZNAME:EEST
DTSTART:20250330T010000
END:DAYLIGHT
BEGIN:STANDARD
TZOFFSETFROM:+0300
TZOFFSETTO:+0200
TZNAME:EET
DTSTART:20251026T010000
END:STANDARD
END:VTIMEZONE
BEGIN:VEVENT
DTSTART;TZID=Europe/Athens:20250531T100000
DTEND;TZID=Europe/Athens:20250531T230000
DTSTAMP:20260419T174214
CREATED:20250529T090829Z
LAST-MODIFIED:20250530T133121Z
UID:10004005-1748685600-1748732400@cityfestival.thisisathens.org
SUMMARY:Πολιτιστική Ημέρα του Κονγκό 2025
DESCRIPTION:Έκθεση – Πώληση\n 	Γαστρονομία\n 	Φολκλόρ με το συγκρότημα KADIYOYO από το Κονγκό\n 	Κονγκολέζικη Ρούμπα με τον WENGE BCBG by J.B. Mpiana\, διεθνώς αναγνωρισμένο καλλιτέχνη\n 	Προβολή για τις πόλεις\, την ιστορία και τον πολιτισμό του Κογκό \n\nΗ τελετή έναρξης θα πραγματοποιηθεί στις 11:30
URL:https://cityfestival.thisisathens.org/event/kongo/
LOCATION:Πλατεία Κουμουνδούρου\, Πλ. Κουμουνδουρου\, Athens\, Αθήνα\, 105 53\, Greece
CATEGORIES:ΔΩΡΕΑΝ,ΥΠΑΙΘΡΙΑ ΔΡΑΣΗ
ATTACH;FMTTYPE=image/jpeg:https://cityfestival.thisisathens.org/wp-content/uploads/2025/05/ΚΟΝΓΚΟ.jpg
END:VEVENT
BEGIN:VEVENT
DTSTART;TZID=Europe/Athens:20250531T170000
DTEND;TZID=Europe/Athens:20250531T190000
DTSTAMP:20260419T174214
CREATED:20250321T102110Z
LAST-MODIFIED:20250509T144133Z
UID:10000044-1748710800-1748718000@cityfestival.thisisathens.org
SUMMARY:Πρώτο Κοιμητήριο Αθηνών: Μία Υπαίθρια Γλυπτοθήκη II
DESCRIPTION:Ο αρχαιολόγος και διπλωματούχος ξεναγός Μιχάλης Γιοχάλας\, σε συνεργασία με το Φεστιβάλ του Δήμου Αθηναίων\, πραγματοποιεί μία ξενάγηση στη γλυπτοθήκη του Α’ Κοιμητηρίου Αθηνών.\n\nΠέρα από την «Κοιμωμένη»\n\nΤο μνημείο της Σοφίας Αφεντάκη\, η μορφή που είναι γνωστή ως «Η Κοιμωμένη» του Γιαννούλη Χαλεπά είναι\, δίχως αμφιβολία\, το πιο γνωστό γλυπτό που συναντάμε στο Α΄Κοιμητήριο Αθηνών. Δεν είναι\, ωστόσο\, το μόνο αξιόλογο.\n\nΜέσα από μία εναλλακτική διαδρομή\, πέρα από την κεντρική και πολυδιάβατη οδό\, θα γνωρίσουμε μία άλλη\, ενδεχομένως λιγότερο γνωστή αλλά σίγουρα αξιόλογη πλευρά της υπαίθριας γλυπτοθήκης του Α΄ Κοιμητηρίου Αθηνών. Στα ανηφορικά δρομάκια θα συναντήσουμε μαυσωλεία δοξασμένων νεκρών\, εκεί όπου οι θνητοί συνομιλούν με τους αθάνατους\, ενώ το μεγαλόστομο πάθος για υστεροφημία συνυπάρχει με τη συντριπτική σιωπή.\n\nΣημείο συνάντησης: Eίσοδος Α’ Κοιμητηρίου Αθηνών\n\nΑπαιτείται η κράτηση θέσης.
URL:https://cityfestival.thisisathens.org/event/proto-koimitirio-athinon-4/
LOCATION:Α’ Κοιμητήριο Αθηνών\, Λογγίνου 3\, Αθήνα\, Αθήνα\, 116 36\, Greece
CATEGORIES:ΔΩΡΕΑΝ,ΠΕΡΙΗΓΗΣΗ,ΥΠΑΙΘΡΙΑ ΔΡΑΣΗ
ATTACH;FMTTYPE=image/jpeg:https://cityfestival.thisisathens.org/wp-content/uploads/2025/03/Ηλιοβασίλεμα-στο-Νεκροταφείο-027-scaled.jpg
END:VEVENT
BEGIN:VEVENT
DTSTART;TZID=Europe/Athens:20250531T170000
DTEND;TZID=Europe/Athens:20250531T230000
DTSTAMP:20260419T174214
CREATED:20250327T103257Z
LAST-MODIFIED:20250506T112934Z
UID:10001250-1748710800-1748732400@cityfestival.thisisathens.org
SUMMARY:Seds Lifestyle X Needless with Palms Trax UK
DESCRIPTION:Το Φεστιβάλ Δήμου Αθηναίων επιστρέφει\, ξυπνώντας τον παλμό της πόλης! Από το 2022\, κάθε Μάιο\, το κέντρο της Αθήνας μεταμορφώνεται σε μια τεράστια\, ανοιχτή γιορτή\, γεμάτη happenings και εκδηλώσεις που δίνουν ζωή στους δημόσιους χώρους.\n\nΦέτος\, για πρώτη φορά\, το Seds Lifestyle – μία από τις μεγαλύτερες\, εγχώριες πλατφόρμες της dance μουσικής\, ενώνει τις δυνάμεις του με το Αθηναϊκό mobile party Needless\, και μαζί στήνουν ένα μεγάλο open-air street party στην Πλατεία Σανταρόζα – μετατρέποντας την στο απόλυτο σημείο συνάντησης για όσους ζουν και αναπνέουν για την ηλεκτρονική\, χορευτική μουσική.\n\nΣτα decks: Palms Trax (UK) – ο περίφημος Βρετανός selector και ένας από τους πιο επιδραστικούς DJs της Ευρώπης\, έρχεται για να απογειώσει τη βραδιά με ένα εκλεκτικό dance set που ενώνει disco\, house\, electro και techno vibes.\n\nWarm-up από τους κορυφαίους local DJs\, Lex & Chevy\, σε ένα μοναδικό B2B set που θα προετοιμάσει το έδαφος για μια νύχτα γεμάτη ρυθμό και μουσική “μαγεία”.\n\nΗ Αθήνα χορεύει – εσύ θα λείπεις;
URL:https://cityfestival.thisisathens.org/event/seds-needless-palms-trax/
LOCATION:Πλατεία Δικαιοσύνης\, Πανεπιστημίου & Σανταρόζα\, Αθήνα\, Αθήνα\, 105 64\, Greece
CATEGORIES:DJ SET,ΔΩΡΕΑΝ,ΥΠΑΙΘΡΙΑ ΔΡΑΣΗ,ΧΟΡΟΣ,ΨΥΧΑΓΩΓΙΑ
ATTACH;FMTTYPE=image/jpeg:https://cityfestival.thisisathens.org/wp-content/uploads/2025/03/Palms-Trax-–-Press-Photo-7-scaled.jpg
END:VEVENT
BEGIN:VEVENT
DTSTART;TZID=Europe/Athens:20250531T173000
DTEND;TZID=Europe/Athens:20250531T230000
DTSTAMP:20260419T174214
CREATED:20250404T112149Z
LAST-MODIFIED:20250524T081549Z
UID:10003402-1748712600-1748732400@cityfestival.thisisathens.org
SUMMARY:Lambrini Block  Party by ENTEKA Athens
DESCRIPTION:Το ENTEKA Athens συμμετέχει στη μεγάλη γιορτή του Φεστιβάλ του Δήμου Αθηναίων με ένα μεγάλο υπαίθριο πάρτυ στην πλατεία Αγίου Ανδρέα στη Λαμπρινή.\n\nΣε αυτήν τη γωνιά των βόρειων ορίων του Δήμου Αθηναίων\, το ENTEKA Athens φέρνει κοντά μερικούς από τους πιο δραστήριους DJ της ελληνικής ηλεκτρονικής σκηνής σε ένα εντυπωσιακό set up με ένα κοινό χιλιάδων ανθρώπων να συγκεντρώνεται σε μία άγνωστη\, για τους περισσότερους\, πλατεία.
URL:https://cityfestival.thisisathens.org/event/lambrini-block-party-by-enteka-athens/
LOCATION:Πλατεία Αγίου Ανδρέα\, Πλατεία Τράλλεων\, Αθήνα\, Αθήνα\, 111 42\, Greece
CATEGORIES:DJ SET,ΔΩΡΕΑΝ,ΠΑΡΤΙ,ΥΠΑΙΘΡΙΑ ΔΡΑΣΗ,ΨΥΧΑΓΩΓΙΑ
ATTACH;FMTTYPE=image/jpeg:https://cityfestival.thisisathens.org/wp-content/uploads/2025/04/20230526-OSF-AthensCityFestival-FlowersInMyGarden-0028-scaled.jpg
END:VEVENT
BEGIN:VEVENT
DTSTART;TZID=Europe/Athens:20250531T180000
DTEND;TZID=Europe/Athens:20250531T200000
DTSTAMP:20260419T174214
CREATED:20250407T111402Z
LAST-MODIFIED:20250525T081638Z
UID:10003396-1748714400-1748721600@cityfestival.thisisathens.org
SUMMARY:Διαδρομές στην Παριλίσσια Αθήνα
DESCRIPTION:Ο περίπατος αυτός επιχειρεί να ανασυστήσει μία μικρή αλλά σημαντική και ενδιαφέρουσα περιοχή της Αθήνας στις όχθες του ποταμού Ιλισσού (ενός εκ των «χαμένων» ποταμών της Αθήνας). Παρουσιάζει την εξέλιξή της στην αρχαιότητα και τους μεσαιωνικούς χρόνους\, ενώ εστιάζει στην περίοδο από την ανακήρυξη της Αθήνας ως πρωτεύουσας και στη ζωή στην πόλη τον 19ο και το πρώτο μισό του 20ού αιώνα.\n\nΒασικά σημεία ενδιαφέροντος: Πύλη του Αδριανού\, Ολυμπιείο\, σημεία στη λεωφόρο Βασιλίσσης Όλγας\, Ζάππειο (Μέγαρο και Κήπος)\, Καλλιμάρμαρο\, Αγία Φωτεινή Ιλισσού.\n\nΤον περίπατο θα πραγματοποιήσει η Τόνια Καφετζάκη\, Δρ. Ιστορίας\, Εκπαιδευτικός (Πρότυπο Γυμνάσιο Ευαγγελικής Σχολής Σμύρνης).\n\nΣημείο συνάντησης: Πύλη του Αδριανού.\n\nΑπαιτείται η κράτηση θέσης.
URL:https://cityfestival.thisisathens.org/event/diadromes-parilissia-athina/
LOCATION:Πύλη του Αδριανού\, Λεωφ. Βασ. Αμαλίας 50\, Αθήνα\, Αθήνα\, 105 58\, Greece
CATEGORIES:ΔΩΡΕΑΝ,ΠΕΡΙΗΓΗΣΗ,ΥΠΑΙΘΡΙΑ ΔΡΑΣΗ
ATTACH;FMTTYPE=image/jpeg:https://cityfestival.thisisathens.org/wp-content/uploads/2025/04/20240512-TiACF-GMK-WalkOnIlissos-0008-scaled.jpg
END:VEVENT
BEGIN:VEVENT
DTSTART;TZID=Europe/Athens:20250531T180000
DTEND;TZID=Europe/Athens:20250531T230000
DTSTAMP:20260419T174214
CREATED:20250525T123524Z
LAST-MODIFIED:20250527T055355Z
UID:10004001-1748714400-1748732400@cityfestival.thisisathens.org
SUMMARY:Athens Deejay Party
DESCRIPTION:Ο ATHENS DEEJAY και ο δημιουργός του Μιχάλης Τσαουσόπουλος γιορτάζουν 25 χρόνια συνεχούς πρωτοπορίας στα ερτζιανά\, 25 χρόνια διασκέδασης\, αμέτρητων μουσικών κομματιών\, χαρούμενων ακροατών και ξέφρενων party.\n\nO ATHENS DEEJAY είναι από τους κορυφαίους ραδιοφωνικούς σταθμούς της χώρας. Σίγουρα ένας με τεράστια επίδραση και στο τιμόνι μια από τις πιο αναγνωρίσιμες φωνές των ερτζιανών εδώ και πολλές δεκαετίες. Ο Μιχάλης Τσαουσόπουλος. Αεικίνητος\, ακούραστος\, πάντα με φρέσκες ιδέες και στα πλατό την πιο updated μουσική που περιμένει κάποιος να ακούσει. Ο Μιχάλης Τσαουσόπουλος συμμετέχει για 4η συνεχή χρονιά στο Φεστιβάλ του Δήμου Αθηναίων με μια από τις εντυπωσιακές του εμφανίσεις\, στον πεζόδρομο της οδού Ερμού & Ασωμάτων\, στην καρδιά της Αθήνας.
URL:https://cityfestival.thisisathens.org/event/athens-deejay-party/
LOCATION:Πλατεία Αγίων Ασωμάτων\, Πλατεία Αγίων Ασωμάτων\, Αθήνα\, Αθήνα\, 105 53\, Greece
CATEGORIES:DJ SET,ΠΑΡΤΙ,ΥΠΑΙΘΡΙΑ ΔΡΑΣΗ
ATTACH;FMTTYPE=image/jpeg:https://cityfestival.thisisathens.org/wp-content/uploads/2025/05/Μιχάλης-Τσαουσόπουλος-2.jpg
END:VEVENT
END:VCALENDAR