BEGIN:VCALENDAR
VERSION:2.0
PRODID:-//Το Φεστιβάλ του Δήμου Αθηναίων - ECPv6.12.0.1//NONSGML v1.0//EN
CALSCALE:GREGORIAN
METHOD:PUBLISH
X-ORIGINAL-URL:https://cityfestival.thisisathens.org
X-WR-CALDESC:Events for Το Φεστιβάλ του Δήμου Αθηναίων
REFRESH-INTERVAL;VALUE=DURATION:PT1H
X-Robots-Tag:noindex
X-PUBLISHED-TTL:PT1H
BEGIN:VTIMEZONE
TZID:Europe/Athens
BEGIN:DAYLIGHT
TZOFFSETFROM:+0200
TZOFFSETTO:+0300
TZNAME:EEST
DTSTART:20250330T010000
END:DAYLIGHT
BEGIN:STANDARD
TZOFFSETFROM:+0300
TZOFFSETTO:+0200
TZNAME:EET
DTSTART:20251026T010000
END:STANDARD
END:VTIMEZONE
BEGIN:VEVENT
DTSTART;TZID=Europe/Athens:20250920T200000
DTEND;TZID=Europe/Athens:20250921T230000
DTSTAMP:20260422T001953
CREATED:20250917T083351Z
LAST-MODIFIED:20250917T083352Z
UID:10004047-1758398400-1758495600@cityfestival.thisisathens.org
SUMMARY:Κυκλοφοριακές Ρυθμίσεις
DESCRIPTION:Σε αυτή την εκδήλωση\, το αυτοκίνητο δεν έχει θέση! Η Παγκόσμια Ημέρα Χωρίς Αυτοκίνητο “μεταφράζεται” σε μια 24ωρη γιορτή γεμάτη από εκδηλώσεις. Για τη διευκόλυνση όλων των επισκεπτών\, ισχύουν κυκλοφοριακές ρυθμίσεις.\n\nΜΕΤΡΟ (Γραμμή 2\, 3) – 24ωρη λειτουργία.\n\nΠροσωρινή τροποποίηση της διαδρομής των λεωφορειακών γραμμών\, από 20/09/2024 και ώρα 20:00 έως 21/09/2024 και ώρα 23:00\, ως εξής:\n\nΛΕΩΦΟΡΕΙΑΚΕΣ ΓΡΑΜΜΕΣ:\n\n1. Γραμμή (227): Προς Αγ. Αρτέμιο: Από Πειραιώς\, συνέχεια ευθεία Πειραιώς\, πλατεία Ομόνοιας\, συνέχεια κανονικά. Προς Πετράλωνα: Από Σωκράτους\, δεξιά Πειραιώς\, συνέχεια κανονικά.\n\n2. Γραμμές (025) (026): Από Ιπποκράτους: Από Ομήρου\, δεξιά Πανεπιστημίου\, πλατεία Ομόνοιας\, αριστερά Σωκράτους\, δεξιά Πειραιώς\, δεξιά Μυλλέρου\, συνέχεια κανονικά.\n\nΠρος Ιπποκράτους: Από Θερμοπυλών\, αριστερά Πειραιώς\, πλατεία Ομόνοιας\, Σταδίου\, συνέχεια κανονικά.\n\n3. Γραμμή (035): Προς Ταύρο: Από Σωκράτους\, δεξιά Πειραιώς\, συνέχεια κανονικά.\n\nΠρος Κυψέλη: Από Πειραιώς\, συνέχεια ευθεία Πειραιώς\, πλατεία Ομόνοιας\, συνέχεια κανονικά.\n\nΟι ανωτέρω λεωφορειακές γραμμές στα τροποποιημένα τμήματα διαδρομής θα πραγματοποιούν στάσεις στις ήδη υπάρχουσες άλλων γραμμών.\n\nΤΑ ΜΕΤΡΑ ΤΗΣ ΤΡΟΧΑΙΑΣ: Από το Σάββατο 20/09/2024 ώρα 20.00 έως την Κυριακή 21/09/2024 και ώρα 23.00\, θα ισχύσουν τα παρακάτω μέτρα:\n\nΔιακοπή της κυκλοφορίας των οχημάτων και απαγόρευση της στάσης και της στάθμευσης των οχημάτων\, ως εξής:\n\nΑθηνάς\, στο τμήμα της μεταξύ των οδών Ευριπίδου και Ερμού και στα δύο ρεύματα κυκλοφορίας και στις καθέτους αυτής έως την πρώτη παράλληλο οδό.\n\nΚαρ. Σερβίας\, σε όλο το μήκος της.\n\nΠερικλέους\, σε όλο το μήκος της.\n\nΑθηναΐδος\, σε όλο το μήκος της.\n\nΑγ. Ειρήνης\, σε όλο το μήκος της.\n\nΠλατεία Αγ. Ασωμάτων\, στο τμήμα της μεταξύ των οδών Σαρρή και Ερμού και στα δύο ρεύματα κυκλοφορίας\nκαι στις καθέτους αυτής έως την πρώτη παράλληλη οδό.\n\nΕρμού\, στο τμήμα της μεταξύ των οδών Αγ. Ασωμάτων και Αθηνάς και στα δύο ρεύματα κυκλοφορίας\nκαι στις καθέτους αυτής έως την πρώτη παράλληλη οδό.\n\nΤο χρονικό διάστημα της παραπάνω κυκλοφοριακής ρύθμισης\, μπορεί να παραταθεί ή να μειωθεί και πέραν των καθορισμένων ωρών\, καθώς και να μην εφαρμοσθεί\, εφόσον το επιβάλλουν οι κυκλοφοριακές συνθήκες κατά την κρίση του επικεφαλής των μέτρων τροχαίας της Υ.Τ. Αθηνών. Η Υ.Τ. Αθηνών θα μεριμνήσει σε συνεργασία με τον αρμόδιο φορέα για την υλοποίηση της παρούσας. Από την τοποθέτηση των πινακίδων οδικής σήμανσης\, τη διαγράμμιση οδοστρωμάτων\, καθώς και τις υποδείξεις – σήματα των Τροχονόμων\, οι παραβάτες της Απόφασης αυτής διώκονται και τιμωρούνται σύμφωνα με τις διατάξεις του Ν. 2696/99 (Α-57) «Περί κυρώσεως του Κώδικα Οδικής Κυκλοφορίας».
URL:https://cityfestival.thisisathens.org/event/kykloforiakes-rythmiseis/
LOCATION:Αθηνάς\, Αθηνάς\, Αθήνα\, Αθήνα\, 105 52\, Greece
ATTACH;FMTTYPE=image/jpeg:https://cityfestival.thisisathens.org/wp-content/uploads/2025/09/GMK-Antiquities-ArtOnTheUnderground-26-scaled.jpg
END:VEVENT
BEGIN:VEVENT
DTSTART;TZID=Europe/Athens:20250920T203000
DTEND;TZID=Europe/Athens:20250920T230000
DTSTAMP:20260422T001953
CREATED:20250902T132823Z
LAST-MODIFIED:20250903T105628Z
UID:10004012-1758400200-1758409200@cityfestival.thisisathens.org
SUMMARY:Disco Roller Party: DJ Nicola Lavacca
DESCRIPTION:Οι δισκοθήκες ανοίγουν και ο αέρας της πόλης γεμίζει με τις καλύτερες μουσικές στιγμές των θρυλικών club των ’70s και ’80s. Στην κονσόλα\, ο κορυφαίος συλλέκτης και DJ της Αθήνας\, ο θρυλικός Nicola Lavacca\, υπογράφει ένα μοναδικό αφιέρωμα στην αυθεντική disco εποχή. Ένα ασταμάτητο κυνήγι της απόλυτης χορευτικής φιγούρας\, ένα κάλεσμα σε όλους όσοι υποκλίνονται στη ντισκομπάλα. Η απόλυτη έννοια του «party» στήνεται στην οδό Αθηνάς\, στην καρδιά της πρωτεύουσας.
URL:https://cityfestival.thisisathens.org/event/disco-roller-party-dj-nicola-lavacca/
LOCATION:Αθηνάς\, Αθηνάς\, Αθήνα\, Αθήνα\, 105 52\, Greece
CATEGORIES:DJ SET,ΔΩΡΕΑΝ,ΠΑΡΤΙ,ΥΠΑΙΘΡΙΑ ΔΡΑΣΗ,ΨΥΧΑΓΩΓΙΑ
ATTACH;FMTTYPE=image/jpeg:https://cityfestival.thisisathens.org/wp-content/uploads/2025/09/20240922-TGR-AthinasCarFree-Saturday-0477-scaled.jpg
END:VEVENT
BEGIN:VEVENT
DTSTART;TZID=Europe/Athens:20250920T233000
DTEND;TZID=Europe/Athens:20250921T053000
DTSTAMP:20260422T001953
CREATED:20250902T141342Z
LAST-MODIFIED:20250904T071335Z
UID:10004015-1758411000-1758432600@cityfestival.thisisathens.org
SUMMARY:Μεταμεσονύχτιες Προβολές με το Midnight Express
DESCRIPTION:Η ιδέα του κινηματογραφικού γκουρού Άκη Καπράνου\, επιστρέφει και ξαναφέρνει στη ζωή τη μαγεία των μεταμεσονύχτιων προβολών. Τρεις ταινίες\, τρεις διαφορετικοί κόσμοι\, μια κινηματογραφική εμπειρία κάτω από τα αστέρια της πόλης.\n\n 	The Love Bug (Κατσαριδάκι Αγάπη μου)\, Robert Stevenson\, 1968 (108′)\n\nΟ αξιαγάπητος Χέρμπι\, το «σκαθάρι» με ψυχή\, χαρίζει γέλιο και δράση σε μια κλασική κωμωδία της Disney. Ένας ραλίστας σε κρίση καριέρας και ένα αυτοκίνητο με προσωπικότητα αποδεικνύουν ότι η φιλία και η αφοσίωση κερδίζουν κάθε αγώνα. Μια ανάλαφρη\, feel-good ταινία που συνεχίζει να μαγεύει μικρούς και μεγάλους.\n\n 	Christine\, John Carpent\, 1983 (110′)\n\nΑπό τη φαντασία του Στίβεν Κινγκ και τη σκηνοθεσία του Τζον Κάρπεντερ\, έρχεται ένα από τα πιο χαρακτηριστικά κινηματογραφικά θρίλερ των ’80s. Ένα φαινομενικά αθώο κόκκινο Plymouth Fury αποκτά δική του προσωπικότητα και παρασύρει τον νεαρό ιδιοκτήτη του σε μια σκοτεινή εμμονή. Ένα cult φιλμ για την άλλη όψη του πάθους\, που αποτυπώνει μοναδικά την ατμόσφαιρα της δεκαετίας του ’80 και παραμένει αγαπημένο στους φίλους του κινηματογράφου του τρόμου μέχρι σήμερα.\n\n 	Blade Runner (Μπλέιντ Ράνερς: Ομάδες Eξόντωσης)\, Ridley Scott\, 1982 (117′)\n\nΠερισσότερο από μια ταινία επιστημονικής φαντασίας\, το αξεπέραστο φουτουριστικό φιλμ νουάρ του Ρίντλεϊ Σκοτ μάς μεταφέρει στο σκοτεινό\, βροχερό Λος Άντζελες του 2019. Οι «blade runners» κυνηγούν ρέπλικες\, γενετικά τροποποιημένους ανθρώπους\, σε μια ιστορία που ξεπερνά την αστυνομική πλοκή και αγγίζει τα μεγάλα υπαρξιακά ερωτήματα για την ταυτότητα και την ανθρωπιά. Ένα αριστούργημα που καθόρισε το είδος.
URL:https://cityfestival.thisisathens.org/event/metamesonixties-provoles-midnight-express/
LOCATION:Αθηνάς\, Αθηνάς\, Αθήνα\, Αθήνα\, 105 52\, Greece
CATEGORIES:ΔΩΡΕΑΝ,ΣΙΝΕΜΑ,ΥΠΑΙΘΡΙΑ ΔΡΑΣΗ,ΨΥΧΑΓΩΓΙΑ
ATTACH;FMTTYPE=image/jpeg:https://cityfestival.thisisathens.org/wp-content/uploads/2025/09/20240922-TGR-AthinasCarFree-Saturday-0623-scaled.jpg
END:VEVENT
END:VCALENDAR