BEGIN:VCALENDAR
VERSION:2.0
PRODID:-//Το Φεστιβάλ του Δήμου Αθηναίων - ECPv6.12.0.1//NONSGML v1.0//EN
CALSCALE:GREGORIAN
METHOD:PUBLISH
X-WR-CALNAME:Το Φεστιβάλ του Δήμου Αθηναίων
X-ORIGINAL-URL:https://cityfestival.thisisathens.org
X-WR-CALDESC:Events for Το Φεστιβάλ του Δήμου Αθηναίων
REFRESH-INTERVAL;VALUE=DURATION:PT1H
X-Robots-Tag:noindex
X-PUBLISHED-TTL:PT1H
BEGIN:VTIMEZONE
TZID:Europe/Athens
BEGIN:DAYLIGHT
TZOFFSETFROM:+0200
TZOFFSETTO:+0300
TZNAME:EEST
DTSTART:20250330T010000
END:DAYLIGHT
BEGIN:STANDARD
TZOFFSETFROM:+0300
TZOFFSETTO:+0200
TZNAME:EET
DTSTART:20251026T010000
END:STANDARD
END:VTIMEZONE
BEGIN:VEVENT
DTSTART;TZID=Europe/Athens:20250921T183000
DTEND;TZID=Europe/Athens:20250921T200000
DTSTAMP:20260423T005057
CREATED:20250905T095718Z
LAST-MODIFIED:20250905T095718Z
UID:10004039-1758479400-1758484800@cityfestival.thisisathens.org
SUMMARY:Πάνος Βλάχος Live
DESCRIPTION:Μια μοναδική συναυλία γεμάτη αυτοσχεδιασμούς\, τραγούδι\, γέλιο και αυθορμητισμό έρχεται στην καρδιά της Αθήνας! Όσα έχει συγκεντρώσει όλα αυτά τα χρόνια στις αποσκευές του\, ο αεικίνητος ηθοποιός και τραγουδοποιός\, Πάνος Βλάχος\, τα καταθέτει στη σκηνή του «Αθηνάς Χωρίς Αυτοκίνητο»\, με γενναιοδωρία και συγκίνηση.\n\nΤα τραγούδια του αποτελούν μια αφήγηση με προσωπική\, κοινωνική και πολιτική διάσταση. Για τον Πάνο Βλάχο\, η τέχνη είναι παρέα και στη μέση της οδού Αθηνάς\, η παρέα αυτή γίνεται ακόμη πιο ζωντανή\, υποσχόμενη στιγμές μέθεξης\, συγκίνησης και χαράς.
URL:https://cityfestival.thisisathens.org/event/panos-vlahos-live/
LOCATION:Αθηνάς\, Αθηνάς\, Αθήνα\, Αθήνα\, 105 52\, Greece
CATEGORIES:ΔΩΡΕΑΝ,ΣΥΝΑΥΛΙΑ,ΥΠΑΙΘΡΙΑ ΔΡΑΣΗ,ΨΥΧΑΓΩΓΙΑ
ATTACH;FMTTYPE=image/jpeg:https://cityfestival.thisisathens.org/wp-content/uploads/2025/09/1B1A7965-copy-scaled.jpg
END:VEVENT
END:VCALENDAR