BEGIN:VCALENDAR
VERSION:2.0
PRODID:-//Το Φεστιβάλ του Δήμου Αθηναίων - ECPv6.12.0.1//NONSGML v1.0//EN
CALSCALE:GREGORIAN
METHOD:PUBLISH
X-ORIGINAL-URL:https://cityfestival.thisisathens.org
X-WR-CALDESC:Events for Το Φεστιβάλ του Δήμου Αθηναίων
REFRESH-INTERVAL;VALUE=DURATION:PT1H
X-Robots-Tag:noindex
X-PUBLISHED-TTL:PT1H
BEGIN:VTIMEZONE
TZID:Europe/Athens
BEGIN:DAYLIGHT
TZOFFSETFROM:+0200
TZOFFSETTO:+0300
TZNAME:EEST
DTSTART:20250330T010000
END:DAYLIGHT
BEGIN:STANDARD
TZOFFSETFROM:+0300
TZOFFSETTO:+0200
TZNAME:EET
DTSTART:20251026T010000
END:STANDARD
END:VTIMEZONE
BEGIN:VEVENT
DTSTART;TZID=Europe/Athens:20251220T143000
DTEND;TZID=Europe/Athens:20251221T233000
DTSTAMP:20260419T215626
CREATED:20251211T105756Z
LAST-MODIFIED:20251211T105756Z
UID:10004062-1766241000-1766359800@cityfestival.thisisathens.org
SUMMARY:Pizza Out of the Box - Latino Xmas Party
DESCRIPTION:Χριστούγεννα με αίσθηση… Αυγούστου; Στην Αθήνα γίνεται κι αυτό! Τη μεγαλύτερη νύχτα του χρόνου\, η Σαλαμίνος στον Κεραμεικό υποδέχεται μια μικρή λατινοαμερικάνικη γιορτή. Sandos που αχνίζουν\, Empanadas που μοσχοβολούν\, Caipirinhas που δροσίζουν σαν θαλασσινό αεράκι και βινύλια που στροβιλίζονται σε ρυθμούς από το Ρίο μέχρι την Αβάνα. Ο πεζόδρομος μεταμορφώνεται σε μια φωτεινή\, πολύχρωμη όαση όπου το καλοκαίρι κάνει την πιο… ανατρεπτική εμφάνισή του.
URL:https://cityfestival.thisisathens.org/event/pizza-out-of-the-box-latino-xmas-party/
LOCATION:Πεζόδρομος Σαλαμίνος\, Πεζόδρομος Σαλαμίνος\, Μεταξουργείο\, 104 35\, Greece
CATEGORIES:DJ SET,ΓΑΣΤΡΟΝΟΜΙΑ,ΔΩΡΕΑΝ
ATTACH;FMTTYPE=image/png:https://cityfestival.thisisathens.org/wp-content/uploads/2025/12/Untitled-2.png
GEO:37.982157428648;23.716472370367
X-APPLE-STRUCTURED-LOCATION;VALUE=URI;X-ADDRESS=Πεζόδρομος Σαλαμίνος Πεζόδρομος Σαλαμίνος Μεταξουργείο 104 35 Greece;X-APPLE-RADIUS=500;X-TITLE=Πεζόδρομος Σαλαμίνος:geo:23.716472370367,37.982157428648
END:VEVENT
BEGIN:VEVENT
DTSTART;TZID=Europe/Athens:20251220T173000
DTEND;TZID=Europe/Athens:20251221T230000
DTSTAMP:20260419T215626
CREATED:20251211T105744Z
LAST-MODIFIED:20251211T105744Z
UID:10004058-1766251800-1766358000@cityfestival.thisisathens.org
SUMMARY:Πρωτογένους Street Party
DESCRIPTION:Στην καρδιά της πόλης\, η Πρωτογένους ανάβει φώτα για ένα εορταστικό διήμερο. Ο δρόμος μεταμορφώνεται σε μια μικρή “πολιτεία” μουσικής και δημιουργίας\, όπου οι DJs την πρώτη νύχτα ανεβάζουν τον ρυθμό\, ενώ τη δεύτερη νύχτα τη σκυτάλη παίρνουν οι ανερχόμενες μπάντες της εναλλακτικής σκηνής. Το κοινό περιμένουν happenings\, καλλιτέχνες και μικρές εκπλήξεις\, ενώ τα καταστήματα και τα εργαστήρια της γειτονιάς μένουν ανοιχτά για να ενισχύσουν τις δύο βραδιές με γεύσεις και αρώματα. Δύο νύχτες στις οποίες η πόλη πάλλεται και η Πρωτογένους γίνεται το απρόσμενο σημείο γιορτινής συνάντησης. \n\n20 Δεκεμβρίου: DJ sets\n21 Δεκεμβρίου: Live μπάντες
URL:https://cityfestival.thisisathens.org/event/protogenous-street-party/
LOCATION:Πρωτογένους\, Πρωτογένους\, Αθήνα\, Athens\, 105 54\, Greece
CATEGORIES:DJ SET,ΓΑΣΤΡΟΝΟΜΙΑ,ΔΩΡΕΑΝ,ΠΑΡΤΙ,ΣΥΝΑΥΛΙΑ,ΥΠΑΙΘΡΙΑ ΔΡΑΣΗ,ΨΥΧΑΓΩΓΙΑ
ATTACH;FMTTYPE=image/jpeg:https://cityfestival.thisisathens.org/wp-content/uploads/2025/11/Protogenous-Street-Party.jpg
END:VEVENT
END:VCALENDAR