BEGIN:VCALENDAR
VERSION:2.0
PRODID:-//Το Φεστιβάλ του Δήμου Αθηναίων - ECPv6.12.0.1//NONSGML v1.0//EN
CALSCALE:GREGORIAN
METHOD:PUBLISH
X-ORIGINAL-URL:https://cityfestival.thisisathens.org
X-WR-CALDESC:Events for Το Φεστιβάλ του Δήμου Αθηναίων
REFRESH-INTERVAL;VALUE=DURATION:PT1H
X-Robots-Tag:noindex
X-PUBLISHED-TTL:PT1H
BEGIN:VTIMEZONE
TZID:Europe/Athens
BEGIN:DAYLIGHT
TZOFFSETFROM:+0200
TZOFFSETTO:+0300
TZNAME:EEST
DTSTART:20260329T010000
END:DAYLIGHT
BEGIN:STANDARD
TZOFFSETFROM:+0300
TZOFFSETTO:+0200
TZNAME:EET
DTSTART:20261025T010000
END:STANDARD
END:VTIMEZONE
BEGIN:VEVENT
DTSTART;TZID=Europe/Athens:20260501T120000
DTEND;TZID=Europe/Athens:20260503T230000
DTSTAMP:20260419T203424
CREATED:20260403T093044Z
LAST-MODIFIED:20260403T093044Z
UID:10005135-1777636800-1777849200@cityfestival.thisisathens.org
SUMMARY:Labor Day Market
DESCRIPTION:Με κεντρικό σύνθημα «Φως της Εργασίας · Ανοιξιάτικη Συνδημιουργία»\, ο φετινός εορτασμός της Πρωτομαγιάς μεταμορφώνεται σε μια ζωντανή γέφυρα πολιτισμού ανάμεσα στην Κίνα και την Ελλάδα\, στο πλαίσιο του Φεστιβάλ του Δήμου Αθηναίων 2026. Τιμώντας την Παγκόσμια Ημέρα των Εργαζομένων\, η ξεχωριστή αυτή πολιτιστική αγορά αναδεικνύει τη δύναμη της χειρονακτικής δημιουργίας μέσα από ένα πλούσιο\, πολυαισθητηριακό πρόγραμμα. Οι επισκέπτες περιηγούνται σε πρωτότυπες φωτιστικές εγκαταστάσεις εμπνευσμένες από εργαλεία της καθημερινής εργασίας\, γνωρίζουν από κοντά την παραδοσιακή κινεζική ενδυμασία Hanfu και συμμετέχουν σε εργαστήρια που εξυμνούν τη «σοφία των χεριών». Η ατμόσφαιρα γεμίζει με ήχους παραδοσιακών οργάνων και απαγγελίες ποίησης\, ενώ η διαδραστική ζώνη με τα «Αινίγματα των Εργαλείων» προσφέρει μια δημιουργική ματιά στις κοινές αξίες των δύο λαών. Η εμπειρία κορυφώνεται με τη δημιουργία ενός συλλογικού mural\, όπου κοινό και καλλιτέχνες συνδιαμορφώνουν ένα έργο αφιερωμένο στην ενότητα\, εκεί όπου η παράδοση της εργασίας συναντά την ανοιξιάτικη ενέργεια και τον σύγχρονο διάλογο δύο αρχαίων πολιτισμών.
URL:https://cityfestival.thisisathens.org/event/labor-day-market/
LOCATION:Πλατεία Αγίων Ασωμάτων\, Πλατεία Αγίων Ασωμάτων\, Αθήνα\, Αθήνα\, 105 53\, Greece
CATEGORIES:ΓΑΣΤΡΟΝΟΜΙΑ,ΔΩΡΕΑΝ,ΕΚΘΕΣΗ,ΕΡΓΑΣΤΗΡΙΑ,ΛΟΓΟΤΕΧΝΙΑ,ΣΥΝΑΥΛΙΑ,ΥΠΑΙΘΡΙΑ ΔΡΑΣΗ
ATTACH;FMTTYPE=image/png:https://cityfestival.thisisathens.org/wp-content/uploads/2026/04/image-10.png
END:VEVENT
BEGIN:VEVENT
DTSTART;TZID=Europe/Athens:20260501T170000
DTEND;TZID=Europe/Athens:20260503T230000
DTSTAMP:20260419T203424
CREATED:20260331T120824Z
LAST-MODIFIED:20260331T120926Z
UID:10004126-1777654800-1777849200@cityfestival.thisisathens.org
SUMMARY:Πρωτογένους Urban Market
DESCRIPTION:Η οδός Πρωτογένους\, ένα από τα πιο ζωντανά και ιδιαίτερα σημεία του αθηναϊκού κέντρου\, υποδέχεται το Φεστιβάλ του Δήμου Αθηναίων για τρεις ημέρες γεμάτες μουσική\, χορό και αστική ενέργεια. Ένας δρόμος που έχει ταυτιστεί με τη δημιουργικότητα\, τις εναλλακτικές διαδρομές της πόλης και την αίσθηση της αυθόρμητης συνάντησης\, αλλάζει ρυθμό και μετατρέπεται σε μια ανοιχτή γιορτής.\n\nΚαθώς πέφτει η νύχτα\, η Πρωτογένους γεμίζει με συναυλίες\, DJs\, φαγητό στο χέρι\, pop-ups και μικρές εκπλήξεις που ξεπηδούν σε κάθε γωνία. Η εμπειρία θυμίζει ένα μεγάλο αστικό πάρτι\, όπου άγνωστοι γίνονται παρέα και η πόλη αποκαλύπτει τον πιο ανοιχτό και ανεπιτήδευτο εαυτό της. Μια δράση που αναδεικνύει την πιο ζωντανή και σύγχρονη πλευρά της Αθήνας.
URL:https://cityfestival.thisisathens.org/event/protogenous-urban-market/
LOCATION:Πρωτογένους\, Πρωτογένους\, Αθήνα\, Athens\, 105 54\, Greece
CATEGORIES:DJ SET,ΓΑΣΤΡΟΝΟΜΙΑ,ΔΩΡΕΑΝ,ΠΑΡΤΙ,ΣΥΝΑΥΛΙΑ,ΥΠΑΙΘΡΙΑ ΔΡΑΣΗ,ΨΥΧΑΓΩΓΙΑ
ATTACH;FMTTYPE=image/jpeg:https://cityfestival.thisisathens.org/wp-content/uploads/2026/03/Photo-May-09-2025-19-58-01-scaled.jpg
END:VEVENT
BEGIN:VEVENT
DTSTART;TZID=Europe/Athens:20260502T130000
DTEND;TZID=Europe/Athens:20260503T230000
DTSTAMP:20260419T203424
CREATED:20260331T122315Z
LAST-MODIFIED:20260331T122315Z
UID:10004124-1777726800-1777849200@cityfestival.thisisathens.org
SUMMARY:Athens Asian Food Festival 2026
DESCRIPTION:Η Δημοτική Αγορά Κυψέλης γεμίζει αρώματα\, γεύσεις και εικόνες από την Ασία σε ένα διήμερο αφιερωμένο στην ασιατική γαστρονομία και κουλτούρα\, στο πλαίσιο του Φεστιβάλ του Δήμου Αθηναίων. Σε έναν από τους πιο ζωντανούς χώρους της πόλης\, κορυφαίοι σεφ\, δημιουργοί και τεχνίτες συναντιούνται για να προσφέρουν μια εμπειρία που συνδέει το street food με τη γαστρονομική παράδοση\, αλλά και τη σύγχρονη ασιατική αισθητική με το αθηναϊκό παρόν.\n\nΤο κοινό θα έχει την ευκαιρία να δοκιμάσει γεύσεις από την Ιαπωνία\, την Κίνα\, την Ινδία\, την Ταϊλάνδη και άλλες χώρες της Ασίας\, να γνωρίσει tea rituals\, να ανακαλύψει το sake και παραδοσιακά γλυκίσματα\, αλλά και να περιηγηθεί σε pop-up corners με προϊόντα\, αντικείμενα και χειροτεχνίες. Μια γιορτή που ενεργοποιεί όλες τις αισθήσεις και μεταφέρει για λίγο την ενέργεια της Ασίας στην καρδιά της Κυψέλης.
URL:https://cityfestival.thisisathens.org/event/athens-asian-food-festival-2026/
LOCATION:Δημοτική Αγορά Κυψέλης\, Kypseli Municipal Market\, Αθήνα\, Αθήνα\, 113 61\, Greece
CATEGORIES:DJ SET,ΓΑΣΤΡΟΝΟΜΙΑ,ΔΩΡΕΑΝ,ΕΚΘΕΣΗ,ΕΡΓΑΣΤΗΡΙΑ,ΠΑΙΔΙ,ΥΠΑΙΘΡΙΑ ΔΡΑΣΗ,ΨΥΧΑΓΩΓΙΑ
ATTACH;FMTTYPE=image/png:https://cityfestival.thisisathens.org/wp-content/uploads/2026/03/image-5.png
END:VEVENT
BEGIN:VEVENT
DTSTART;TZID=Europe/Athens:20260503T150000
DTEND;TZID=Europe/Athens:20260503T230000
DTSTAMP:20260419T203424
CREATED:20260418T134359Z
LAST-MODIFIED:20260418T134359Z
UID:10004778-1777820400-1777849200@cityfestival.thisisathens.org
SUMMARY:Κεραμεικός Beat
DESCRIPTION:Στο πλαίσιο του Φεστιβάλ του Δήμου Αθηναίων 2026\, το Needless και το Teleion Bar επιλέγουν ως «παράδεισό τους» το Πάρκο Μίκη Θεοδωράκη (Ιερά Οδός και Πειραιώς)\, μεταμορφώνοντας το σε ένα σκηνικό απόλυτης καλοκαιρινής προθέρμανσης. Από νωρίς το μεσημέρι\, το τοπίο γεμίζει μουσική\, ατμόσφαιρα και εκείνη τη χαλαρή ενέργεια που σε κάνει να θες να μείνεις μέχρι αργά. DJs και live acts στρώνουν ένα ηχητικό χαλί με tropical\, afro\, disco και Balearic beats\, ενώ οι επισκέπτες μπορούν να περιηγηθούν σε boutique παζάρι δίσκων\, να δοκιμάσουν street food και να απολαύσουν cocktails ειδικά σχεδιασμένα για το vibe της ημέρας. Το Κεραμεικός Beat δεν είναι μόνο event\, είναι μια ολόκληρη διάθεση που λέει πως το καλοκαίρι μπορεί να ξεκινήσει μέσα στην πόλη\, αρκεί να βρούμε το σωστό μέρος\, τους σωστούς ήχους και τη σωστή παρέα.
URL:https://cityfestival.thisisathens.org/event/keramikos-beat/
LOCATION:Πάρκο «Μίκης Θεοδωράκης»\, Ιερά Οδός & Πειραιώς\, Αθήνα\, 118 54\, Greece
CATEGORIES:DJ SET,ΓΑΣΤΡΟΝΟΜΙΑ,ΔΩΡΕΑΝ,ΠΑΡΤΙ,ΥΠΑΙΘΡΙΑ ΔΡΑΣΗ,ΨΥΧΑΓΩΓΙΑ
ATTACH;FMTTYPE=image/png:https://cityfestival.thisisathens.org/wp-content/uploads/2026/03/DRAFT-COVER0.png
END:VEVENT
BEGIN:VEVENT
DTSTART;TZID=Europe/Athens:20260503T170000
DTEND;TZID=Europe/Athens:20260503T190000
DTSTAMP:20260419T203424
CREATED:20260409T075131Z
LAST-MODIFIED:20260409T075131Z
UID:10005283-1777827600-1777834800@cityfestival.thisisathens.org
SUMMARY:Τριάστερον Αρχιτεκτονικόν Στέμμα: Η Νεοκλασική Τριλογία των Αθηνών
DESCRIPTION:Το Πανεπιστήμιο\, η Ακαδημία και η Βιβλιοθήκη συγκροτούν το εμβληματικό αρχιτεκτονικό τρίπτυχο που έχει σημαδέψει την εικόνα της Αθήνας και την αισθητική της νεότερης πρωτεύουσας. Στο πλαίσιο του Φεστιβάλ του Δήμου Αθηναίων 2026\, ο αρχαιολόγος και ξεναγός Μιχάλης Γιοχάλας μας προσκαλεί σε μια περιήγηση που αποκαλύπτει τις ιστορίες\, τα σύμβολα και τις ιδέες που κρύβονται πίσω από αυτά τα γνώριμα κτίρια του κέντρου. Μια διαδρομή που ξεκινά από την αρχιτεκτονική και ανοίγει προς την ιστορία των ιδεών\, την πολιτισμική αυτοεικόνα και τη συγκρότηση του νεότερου ελληνικού κράτους. Μακριά από μια στεγνή ή ακαδημαϊκή προσέγγιση\, η ξενάγηση φωτίζει τον τρόπο με τον οποίο η αρχιτεκτονική του 19ου αιώνα επιχείρησε να ενώσει την αρχαιότητα με τη σύγχρονη εποχή. Αγάλματα\, κίονες\, διακοσμητικά στοιχεία και φιλολογικές αναφορές αποκτούν νέα σημασία μέσα από μια ανάγνωση που συνδέει τα κτίρια με το όραμα μιας ολόκληρης περιόδου.\n\nΣημείο συνάντησης: Προπύλαια Πανεπιστημίου Αθηνών (Μετρό «Πανεπιστήμιο»\, έξοδος Πανεπιστημίου).\n\nΟι κρατήσεις ανοίγουν μία εβδομάδα πριν τη δράση\, στις 12:00 το μεσημέρι.
URL:https://cityfestival.thisisathens.org/event/triasteron-architektonikon-stema-neoklasiki-trilogia-athinon/
LOCATION:Αθηναϊκή Τριλογία\, Πανεπιστημίου 39\, Αθήνα\, Αθήνα\, 105 64\, Greece
CATEGORIES:ΔΩΡΕΑΝ,ΠΕΡΙΗΓΗΣΗ,ΥΠΑΙΘΡΙΑ ΔΡΑΣΗ
ATTACH;FMTTYPE=image/jpeg:https://cityfestival.thisisathens.org/wp-content/uploads/2025/03/ΤΡΙΛΟΓΙΑ-ΜΕΡΟΣ-Β-scaled.jpg
END:VEVENT
END:VCALENDAR