BEGIN:VCALENDAR
VERSION:2.0
PRODID:-//Το Φεστιβάλ του Δήμου Αθηναίων - ECPv6.12.0.1//NONSGML v1.0//EN
CALSCALE:GREGORIAN
METHOD:PUBLISH
X-ORIGINAL-URL:https://cityfestival.thisisathens.org
X-WR-CALDESC:Events for Το Φεστιβάλ του Δήμου Αθηναίων
REFRESH-INTERVAL;VALUE=DURATION:PT1H
X-Robots-Tag:noindex
X-PUBLISHED-TTL:PT1H
BEGIN:VTIMEZONE
TZID:Europe/Athens
BEGIN:DAYLIGHT
TZOFFSETFROM:+0200
TZOFFSETTO:+0300
TZNAME:EEST
DTSTART:20260329T010000
END:DAYLIGHT
BEGIN:STANDARD
TZOFFSETFROM:+0300
TZOFFSETTO:+0200
TZNAME:EET
DTSTART:20261025T010000
END:STANDARD
END:VTIMEZONE
BEGIN:VEVENT
DTSTART;TZID=Europe/Athens:20260504T210000
DTEND;TZID=Europe/Athens:20260504T230000
DTSTAMP:20260423T005207
CREATED:20260421T122751Z
LAST-MODIFIED:20260421T122858Z
UID:10004161-1777928400-1777935600@cityfestival.thisisathens.org
SUMMARY:Παντελής Θαλασσινός
DESCRIPTION:Ο ΜΕΝΤΑ 88 FM επιστρέφει στο Φεστιβάλ του Δήμου Αθηναίων\, δίνοντας για ακόμη μια χρονιά το δικό του μουσικό στίγμα στη μεγάλη γιορτή της πόλης. Αυτή τη φορά προσκαλεί στη σκηνή έναν από τους πιο αγαπημένους και διαχρονικούς τραγουδοποιούς της ελληνικής μουσικής\, τον Παντελή Θαλασσινό.\n\nΜε μια πορεία που μετρά δεκαετίες δημιουργίας και επιτυχιών\, ο Παντελής Θαλασσινός κατάφερε να γεφυρώσει το παραδοσιακό με το έντεχνο τραγούδι\, χαρίζοντάς μας διαχρονικά κομμάτια όπως τα «Εισιτήριο στην τσέπη σου»\, «Ανάθεμά σε»\, «Καράβια Χιώτικα» και τα εμβληματικά «Σμυρναίικα Τραγούδια». Από την εποχή των Λαθρεπιβατών μέχρι τη σπουδαία προσωπική του δισκογραφία\, παραμένει μια φωνή – σταθμός που «ταξιδεύει» από το Αιγαίο μέχρι τις γειτονιές της Αθήνας. Συνοδευόμενος από μια μπάντα κορυφαίων μουσικών\, υπόσχεται μια βραδιά γεμάτη συναίσθημα\, αυθεντικότητα και τραγούδια που όλοι έχουμε αγαπήσει.
URL:https://cityfestival.thisisathens.org/event/pantelis-thalassinos/
LOCATION:Πλατεία Κοραή\, Κοραή 1\, Αθήνα\, Αθήνα\, 105 64\, Greece
CATEGORIES:ΔΩΡΕΑΝ,ΣΥΝΑΥΛΙΑ,ΥΠΑΙΘΡΙΑ ΔΡΑΣΗ,ΨΥΧΑΓΩΓΙΑ
ATTACH;FMTTYPE=image/jpeg:https://cityfestival.thisisathens.org/wp-content/uploads/2026/03/1500x1000_27.ΣΥΝΑΥΛΙΑ-ΜΕ-ΤΟΝ-ΠΑΝΤΕΛΗ-ΘΑΛΑΣΣΙΝΟ-1024x683-1.jpg
END:VEVENT
END:VCALENDAR