BEGIN:VCALENDAR
VERSION:2.0
PRODID:-//Το Φεστιβάλ του Δήμου Αθηναίων - ECPv6.12.0.1//NONSGML v1.0//EN
CALSCALE:GREGORIAN
METHOD:PUBLISH
X-WR-CALNAME:Το Φεστιβάλ του Δήμου Αθηναίων
X-ORIGINAL-URL:https://cityfestival.thisisathens.org
X-WR-CALDESC:Events for Το Φεστιβάλ του Δήμου Αθηναίων
REFRESH-INTERVAL;VALUE=DURATION:PT1H
X-Robots-Tag:noindex
X-PUBLISHED-TTL:PT1H
BEGIN:VTIMEZONE
TZID:Europe/Athens
BEGIN:DAYLIGHT
TZOFFSETFROM:+0200
TZOFFSETTO:+0300
TZNAME:EEST
DTSTART:20260329T010000
END:DAYLIGHT
BEGIN:STANDARD
TZOFFSETFROM:+0300
TZOFFSETTO:+0200
TZNAME:EET
DTSTART:20261025T010000
END:STANDARD
END:VTIMEZONE
BEGIN:VEVENT
DTSTART;TZID=Europe/Athens:20260506T140000
DTEND;TZID=Europe/Athens:20260506T150000
DTSTAMP:20260421T130612
CREATED:20260408T120753Z
LAST-MODIFIED:20260420T131047Z
UID:10005222-1778076000-1778079600@cityfestival.thisisathens.org
SUMMARY:Θεματική Ξενάγηση: Η Αποτύπωση του Προσώπου Μέσα από τις Συλλογές της Εθνικής Πινακοθήκης
DESCRIPTION:Στο κεντρικό κτήριο της Εθνικής Πινακοθήκης\, το κοινό έχει την ευκαιρία να συμμετέχει σε μια θεματική ξενάγηση αφιερωμένη στην τέχνη του πορτραίτου και της προσωπογραφίας. Η περιήγηση εξερευνά τη διαχρονική ανάγκη των καλλιτεχνών\, αλλά και των ιστορικών προσωπικοτήτων\, να κρατήσουν ζωντανή τη μορφή τους μέσα στους αιώνες\, ξεκινώντας από τις λιτές και σχεδόν ασκητικές μορφές των Αγίων στα τέλη του 16ου αιώνα.\n\nΚαθώς η ξενάγηση εξελίσσεται προς το σήμερα\, οι επισκέπτες παρατηρούν τις ριζικές αλλαγές στα υλικά και τις τεχνικές\, ανακαλύπτοντας πώς η μακρά παράδοση της ζωγραφικής μεταμορφώθηκε για να αποδώσει την ανθρώπινη ψυχογραφία με μια σύγχρονη οπτική. Πρόκειται για ένα οδοιπορικό στο βλέμμα και τη μορφή\, που φωτίζει την εξέλιξη της ταυτότητας και της καλλιτεχνικής έκφρασης μέσα από τους θησαυρούς της σημαντικότερης πινακοθήκης της χώρας.\n\nΟι κρατήσεις ανοίγουν μία εβδομάδα πριν τη δράση\, στις 12:00 το μεσημέρι.
URL:https://cityfestival.thisisathens.org/event/thematiki-ksenagisi-apotiposi-prosopou-silloges-ethniki-pinakothiki/
LOCATION:Εθνική Πινακοθήκη – Μουσείο Αλεξάνδρου Σούτσου\, Βασ. Κωνσταντίνου 50\, Αθήνα\, 116 34\, Greece
CATEGORIES:ΔΩΡΕΑΝ,ΕΚΘΕΣΗ,ΜΟΥΣΕΙΟ,ΠΕΡΙΗΓΗΣΗ
ATTACH;FMTTYPE=image/jpeg:https://cityfestival.thisisathens.org/wp-content/uploads/2026/04/61222_2000_2000-1.jpg
GEO:37.975933789444;23.749294222899
X-APPLE-STRUCTURED-LOCATION;VALUE=URI;X-ADDRESS=Εθνική Πινακοθήκη – Μουσείο Αλεξάνδρου Σούτσου Βασ. Κωνσταντίνου 50 Αθήνα 116 34 Greece;X-APPLE-RADIUS=500;X-TITLE=Βασ. Κωνσταντίνου 50:geo:23.749294222899,37.975933789444
END:VEVENT
END:VCALENDAR