BEGIN:VCALENDAR
VERSION:2.0
PRODID:-//Το Φεστιβάλ του Δήμου Αθηναίων - ECPv6.12.0.1//NONSGML v1.0//EN
CALSCALE:GREGORIAN
METHOD:PUBLISH
X-ORIGINAL-URL:https://cityfestival.thisisathens.org
X-WR-CALDESC:Events for Το Φεστιβάλ του Δήμου Αθηναίων
REFRESH-INTERVAL;VALUE=DURATION:PT1H
X-Robots-Tag:noindex
X-PUBLISHED-TTL:PT1H
BEGIN:VTIMEZONE
TZID:Europe/Athens
BEGIN:DAYLIGHT
TZOFFSETFROM:+0200
TZOFFSETTO:+0300
TZNAME:EEST
DTSTART:20260329T010000
END:DAYLIGHT
BEGIN:STANDARD
TZOFFSETFROM:+0300
TZOFFSETTO:+0200
TZNAME:EET
DTSTART:20261025T010000
END:STANDARD
END:VTIMEZONE
BEGIN:VEVENT
DTSTART;TZID=Europe/Athens:20260508T183000
DTEND;TZID=Europe/Athens:20260508T213000
DTSTAMP:20260419T203343
CREATED:20260402T143948Z
LAST-MODIFIED:20260417T132810Z
UID:10004222-1778265000-1778275800@cityfestival.thisisathens.org
SUMMARY:Ιστορικός Περίπατος με τον Δρ. Ιορδάνη Παπαδόπουλο: Μακρυγιάννη
DESCRIPTION:Ο Δρ. Ιορδάνης Παπαδόπουλος μας οδηγεί σε έναν μυσταγωγικό περίπατο στη γειτονιά του Μακρυγιάννη\, ανάμεσα στο αρχαίο κάλλος και τη σύγχρονη αθηναϊκή καθημερινότητα. Ο έμπειρος ακαδημαϊκός και διδάκτωρ Πολιτικής Φιλοσοφίας μας καλεί να αποκωδικοποιήσουμε την αστική μας ταυτότητα\, βλέποντας τη γνώριμη σκιά του Ιερού Βράχου όχι ως απλό σκηνικό\, αλλά ως ζωντανό μάρτυρα μιας πόλης που αρνείται να ξεχάσει. Η διαδρομή ξεκινά από τις σιωπηλές στοές των ρωμαϊκών οικιών και τις ταραγμένες μνήμες των Δεκεμβριανών που «στοίχειωσαν» το παλιό Σύνταγμα Χωροφυλακής.\n\nΠερπατώντας στη Διονυσίου Αρεοπαγίτου\, θα ανακαλύψουμε τον ρόλο των Ξένων Αρχαιολογικών Αποστολών στο Κουκάκι\, ενώ στο Θέατρο του Διονύσου θα συζητήσουμε τη βαθιά σύνδεση ανάμεσα στη Δημοκρατία και το Αρχαίο Δράμα. Η ξενάγηση συνεχίζεται στο Ασκληπιείο και στην πηγή της «Κλεψύθρας»\, για να καταλήξει στον Άρειο Πάγο\, εκεί όπου ο Απόστολος Παύλος κήρυξε μπροστά στον «Βωμό του Αγνώστου Θεού».\n\nΟ Δρ. Παπαδόπουλος συνθέτει τα θραύσματα της ιστορίας\, από την Επανάσταση του ’21 έως τον Εμφύλιο\, και από τον Χρυσό Αιώνα έως τη σύγχρονη Αθήνα\, προσφέροντας μια μοναδική εμπειρία που συνδέει το παρελθόν με το παρόν και τη γνώση με την προσωπική εμπειρία.\n\nΣημείο Συνάντησης: Μετρό Ακροπόλεως\, έξοδος Μακρυγιάννη.\n\nΟι κρατήσεις ανοίγουν μία εβδομάδα πριν τη δράση\, στις 12:00 το μεσημέρι.
URL:https://cityfestival.thisisathens.org/event/istorikos-peripatos-dr-iordanis-papdopoulos-makriyianni/
LOCATION:Σταθμός Μετρό Ακρόπολη\, Μακρυγιάννη 9\, Αθήνα\, Αθήνα\, 117 42\, Greece
CATEGORIES:ΔΩΡΕΑΝ,ΙΣΤΟΡΙΑ,ΠΕΡΙΗΓΗΣΗ,ΥΠΑΙΘΡΙΑ ΔΡΑΣΗ
ATTACH;FMTTYPE=image/png:https://cityfestival.thisisathens.org/wp-content/uploads/2026/04/image-7.png
END:VEVENT
BEGIN:VEVENT
DTSTART;TZID=Europe/Athens:20260508T190000
DTEND;TZID=Europe/Athens:20260508T230000
DTSTAMP:20260419T203343
CREATED:20260331T124244Z
LAST-MODIFIED:20260331T124244Z
UID:10004152-1778266800-1778281200@cityfestival.thisisathens.org
SUMMARY:Νησιώτικο Πανηγύρι
DESCRIPTION:Ο Νίκος Οικονομίδης\, κορυφαίος δεξιοτέχνης του βιολιού και αυθεντικός εκφραστής της νησιωτικής παράδοσης\, έρχεται στην Πλατεία Κλαυθμώνος για μια βραδιά γεμάτη Κυκλάδες\, καλοκαιρινή αύρα και γνήσιο μουσικό συναίσθημα. Με μια πορεία βαθιά συνδεδεμένη με το νησιωτικό ηχόχρωμα και τη ζωντανή μουσική παράδοση του Αιγαίου\, φέρνει μαζί του στη μέση της πόλης την ενέργεια ενός αυθεντικού καλοκαιρινού γλεντιού. Η συναυλία λειτουργεί σαν μια μικρή μουσική απόδραση από την καθημερινότητα.\n\nΜαζί με την Κυριακή Σπανού και τη Μουσική Ομάδα «Κέρος»\, στήνουν μια ανοιχτή γιορτή με βιολιά\, τραγούδια και ρυθμούς που θυμίζουν κυκλαδίτικο πανηγύρι. Το κοινό καλείται να γίνει μια μεγάλη παρέα\, να χορέψει\, να τραγουδήσει και να μεταφερθεί για λίγο νοερά στα νησιά. Μια βραδιά που αποδεικνύει πως το ελληνικό καλοκαίρι μπορεί να ξεκινήσει και στο κέντρο της Αθήνας\, κάτω από τον αττικό ουρανό.
URL:https://cityfestival.thisisathens.org/event/nisiotiko-panigiri/
LOCATION:Πλατεία Κλαυθμώνος\, Πλατεία Κλαυθμώνος\, Αθήνα\, Αθήνα\, 105 61\, Greece
CATEGORIES:ΔΩΡΕΑΝ,ΣΥΝΑΥΛΙΑ,ΥΠΑΙΘΡΙΑ ΔΡΑΣΗ,ΨΥΧΑΓΩΓΙΑ
ATTACH;FMTTYPE=image/jpeg:https://cityfestival.thisisathens.org/wp-content/uploads/2026/03/3-scaled.jpeg
END:VEVENT
BEGIN:VEVENT
DTSTART;TZID=Europe/Athens:20260508T210000
DTEND;TZID=Europe/Athens:20260508T230000
DTSTAMP:20260419T203343
CREATED:20260331T124323Z
LAST-MODIFIED:20260331T124333Z
UID:10004153-1778274000-1778281200@cityfestival.thisisathens.org
SUMMARY:MOb
DESCRIPTION:Το Φεστιβάλ του Δήμου Αθηναίων υποδέχεται τους MOb στην Πλατεία Αυδή για μια εμφάνιση που κινείται πέρα από είδη και συμβάσεις. Το τρίο των Παναγιώτη Κωστόπουλου\, Αλέξανδρου Δελή και Μάριου Βαληνάκη δημιουργεί ένα ηχητικό σύμπαν από synthesizers\, loops\, drones και απρόβλεπτες μουσικές αποκλίσεις\, με αφετηρία την jazz αλλά σαφή διάθεση πειραματισμού. Η μουσική τους ξεδιπλώνεται ανοιχτά και ελεύθερα\, προσκαλώντας το κοινό σε μια εμπειρία περισσότερο βιωματική παρά κατηγοριοποιημένη.\n\nΗ Πλατεία Αυδή\, ένα σημείο που έχει συνδεθεί με τον αστικό πολιτισμό και τις πιο ενδιαφέρουσες εκφάνσεις της σύγχρονης Αθήνας\, μετατρέπεται σε χώρο ακρόασης\, ανακάλυψης και έντασης. Οι MOb προτείνουν ένα ζωντανό μουσικό ταξίδι χωρίς ασφαλή όρια\, όπου η αυτοσχεδιαστική ενέργεια και η τεχνολογική επεξεργασία συνυπάρχουν δημιουργικά. Μια εμφάνιση ανοιχτή\, σύγχρονη και περιπετειώδης.
URL:https://cityfestival.thisisathens.org/event/mob/
LOCATION:Πλατεία Αυδή\, Γιατράκου 9\, Αθήνα\, Αθήνα\, 104 36\, Greece
CATEGORIES:ΔΩΡΕΑΝ,ΣΥΝΑΥΛΙΑ,ΥΠΑΙΘΡΙΑ ΔΡΑΣΗ,ΨΥΧΑΓΩΓΙΑ
ATTACH;FMTTYPE=image/jpeg:https://cityfestival.thisisathens.org/wp-content/uploads/2026/03/1742477826964.jpeg
END:VEVENT
END:VCALENDAR