BEGIN:VCALENDAR
VERSION:2.0
PRODID:-//Το Φεστιβάλ του Δήμου Αθηναίων - ECPv6.12.0.1//NONSGML v1.0//EN
CALSCALE:GREGORIAN
METHOD:PUBLISH
X-WR-CALNAME:Το Φεστιβάλ του Δήμου Αθηναίων
X-ORIGINAL-URL:https://cityfestival.thisisathens.org
X-WR-CALDESC:Events for Το Φεστιβάλ του Δήμου Αθηναίων
REFRESH-INTERVAL;VALUE=DURATION:PT1H
X-Robots-Tag:noindex
X-PUBLISHED-TTL:PT1H
BEGIN:VTIMEZONE
TZID:Europe/Athens
BEGIN:DAYLIGHT
TZOFFSETFROM:+0200
TZOFFSETTO:+0300
TZNAME:EEST
DTSTART:20260329T010000
END:DAYLIGHT
BEGIN:STANDARD
TZOFFSETFROM:+0300
TZOFFSETTO:+0200
TZNAME:EET
DTSTART:20261025T010000
END:STANDARD
END:VTIMEZONE
BEGIN:VEVENT
DTSTART;TZID=Europe/Athens:20260509T120000
DTEND;TZID=Europe/Athens:20260509T133000
DTSTAMP:20260422T123022
CREATED:20260417T104229Z
LAST-MODIFIED:20260417T110206Z
UID:10005336-1778328000-1778333400@cityfestival.thisisathens.org
SUMMARY:Ξενάγηση: AFTER - Γιώργος Τσεριώνης & Performance: Homo Urbanus Audit
DESCRIPTION:Στο πλαίσιο του Φεστιβάλ του Δήμου Αθηναίων 2026\, η Πινακοθήκη του Δήμου Αθηναίων παρουσιάζει ένα μοναδικό δρώμενο γύρω από την έκθεση «AFTER».\n\nΗ δράση ξεκινά με μια αποκλειστική ξενάγηση από τον καλλιτέχνη Γιώργο Τσεριώνη και την επιμελήτρια Ματίνα Τσιγκάκου\, οι οποίοι θα αναλύσουν τον κύκλο ζωής του homo urbanus\, φωτίζοντας τις αθέατες πτυχές της αστικής αφήγησης που δομούν τα έργα της έκθεσης. Η εμπειρία κορυφώνεται με την ανατρεπτική performance «Homo urbanus audit» του Άλεξ Λουλούδη. Ο διεθνώς αναγνωρισμένος ντράμερ και συνθέτης ενεργοποιεί την εγκατάσταση του Τσεριώνη\, μετατρέποντάς την σε ένα ζωντανό ηχητικό πεδίο. Χρησιμοποιώντας ήχους εμπνευσμένους από το αστικό τοπίο\, ο Λουλούδης χτίζει και γκρεμίζει ηχητικές δομές\, προσκαλώντας μας να γίνουμε «ενεργητικοί ακροατές» και να αναστοχαστούμε τη σχέση μας με τα ηχητικά ερεθίσματα και τις μνήμες που κατακλύζουν την καθημερινότητά μας στη σύγχρονη πόλη.
URL:https://cityfestival.thisisathens.org/event/ksenagisi-after-giorgos-tserionis-performance-homo-urbanus-audit/
LOCATION:Πινακοθήκη Δήμου Αθηναίων\, Municipal Gallery of Athens\, Αθήνα\, Αθήνα\, 104 36\, Greece
CATEGORIES:ΓΚΑΛΕΡΙ,ΔΩΡΕΑΝ,ΕΚΘΕΣΗ,ΘΕΑΤΡΟ
ATTACH;FMTTYPE=image/jpeg:https://cityfestival.thisisathens.org/wp-content/uploads/2026/04/1000061758.jpg
END:VEVENT
END:VCALENDAR