BEGIN:VCALENDAR
VERSION:2.0
PRODID:-//Το Φεστιβάλ του Δήμου Αθηναίων - ECPv6.12.0.1//NONSGML v1.0//EN
CALSCALE:GREGORIAN
METHOD:PUBLISH
X-ORIGINAL-URL:https://cityfestival.thisisathens.org
X-WR-CALDESC:Events for Το Φεστιβάλ του Δήμου Αθηναίων
REFRESH-INTERVAL;VALUE=DURATION:PT1H
X-Robots-Tag:noindex
X-PUBLISHED-TTL:PT1H
BEGIN:VTIMEZONE
TZID:Europe/Athens
BEGIN:DAYLIGHT
TZOFFSETFROM:+0200
TZOFFSETTO:+0300
TZNAME:EEST
DTSTART:20260329T010000
END:DAYLIGHT
BEGIN:STANDARD
TZOFFSETFROM:+0300
TZOFFSETTO:+0200
TZNAME:EET
DTSTART:20261025T010000
END:STANDARD
END:VTIMEZONE
BEGIN:VEVENT
DTSTART;TZID=Europe/Athens:20260509T120000
DTEND;TZID=Europe/Athens:20260509T230000
DTSTAMP:20260422T105724
CREATED:20260401T082917Z
LAST-MODIFIED:20260401T082917Z
UID:10004155-1778328000-1778367600@cityfestival.thisisathens.org
SUMMARY:Athina Latina: Λατινοαμερικάνικο Φεστιβάλ στην Αθήνα
DESCRIPTION:Το Athina Latina επιστρέφει ως μια μεγάλη\, μονοήμερη πολιτιστική γιορτή\, όπου η Λατινική Αμερική και η Καραϊβική «κατακλύζουν» την καρδιά της πρωτεύουσας με μουσική\, γεύσεις και αστείρευτη ενέργεια. Στο πλαίσιο του Φεστιβάλ του Δήμου Αθηναίων\, η πλατεία Κλαυθμώνος μεταμορφώνεται σε ένα πολύχρωμο μωσαϊκό\, όπου πρεσβείες\, καλλιτέχνες και ζωντανές κοινότητες συναντιούνται με το κοινό σε μια μοναδική εμπειρία πολιτιστικής ανταλλαγής.\n\nΗ φετινή διοργάνωση μας προσκαλεί σε ένα υπαίθριο φεστιβάλ χαράς με ένα καλλιτεχνικό πρόγραμμα που τα έχει όλα και θα παρασύρει κάθε περαστικό. Η εμπειρία απογειώνεται με γνήσιες λατινοαμερικανικές λιχουδιές\, street food και παραδοσιακά προϊόντα\, σε ένα περιβάλλον ανοιχτό και προσιτό σε όλες τις ηλικίες.\n\nΤο Athina Latina φέρνει το καλοκαίρι λίγο νωρίτερα\, αποδεικνύοντας ότι η εξωστρέφεια και η χαρά δεν γνωρίζουν σύνορα.
URL:https://cityfestival.thisisathens.org/event/athina-latina/
LOCATION:Πλατεία Κλαυθμώνος\, Πλατεία Κλαυθμώνος\, Αθήνα\, Αθήνα\, 105 61\, Greece
CATEGORIES:DJ SET,ΓΑΣΤΡΟΝΟΜΙΑ,ΔΩΡΕΑΝ,ΥΠΑΙΘΡΙΑ ΔΡΑΣΗ,ΧΟΡΟΣ,ΨΥΧΑΓΩΓΙΑ
ATTACH;FMTTYPE=image/jpeg:https://cityfestival.thisisathens.org/wp-content/uploads/2026/03/S-DSC01657-scaled.jpg
END:VEVENT
END:VCALENDAR