BEGIN:VCALENDAR
VERSION:2.0
PRODID:-//Το Φεστιβάλ του Δήμου Αθηναίων - ECPv6.12.0.1//NONSGML v1.0//EN
CALSCALE:GREGORIAN
METHOD:PUBLISH
X-ORIGINAL-URL:https://cityfestival.thisisathens.org
X-WR-CALDESC:Events for Το Φεστιβάλ του Δήμου Αθηναίων
REFRESH-INTERVAL;VALUE=DURATION:PT1H
X-Robots-Tag:noindex
X-PUBLISHED-TTL:PT1H
BEGIN:VTIMEZONE
TZID:Europe/Athens
BEGIN:DAYLIGHT
TZOFFSETFROM:+0200
TZOFFSETTO:+0300
TZNAME:EEST
DTSTART:20260329T010000
END:DAYLIGHT
BEGIN:STANDARD
TZOFFSETFROM:+0300
TZOFFSETTO:+0200
TZNAME:EET
DTSTART:20261025T010000
END:STANDARD
END:VTIMEZONE
BEGIN:VEVENT
DTSTART;TZID=Europe/Athens:20260510T100000
DTEND;TZID=Europe/Athens:20260510T160000
DTSTAMP:20260419T174355
CREATED:20260402T123222Z
LAST-MODIFIED:20260407T093609Z
UID:10005079-1778407200-1778428800@cityfestival.thisisathens.org
SUMMARY:Νικόλας Κληρονόμος: Αναδρομή 1985-2025
DESCRIPTION:Η μεγάλη αναδρομική έκθεση του Νικόλα Κληρονόμου μας προσκαλεί να ανακαλύψουμε την πολυετή διαδρομή ενός δημιουργού που κινείται με μοναδική ευχέρεια ανάμεσα στη ζωγραφική και τη σκηνογραφία. Ο καλλιτέχνης λειτουργεί σαν «σκηνοθέτης» του καμβά: δεν αποτυπώνει απλώς εικόνες\, αλλά τις μεταπλάθει μέσα από τη μνήμη\, το συναίσθημα και την προσωπική του εμπειρία. Στα έργα του\, η καθημερινότητα συναντά το όνειρο και οι εποχές μοιάζουν να μπλέκονται με μικρές\, απρόσμενες στιγμές της ζωής. Με έντονα χρώματα και ιδιαίτερα υλικά\, δημιουργεί συνθέσεις που μοιάζουν να βρίσκονται σε διαρκή κίνηση\, προσφέροντας μια βαθιά ποιητική ματιά στον κόσμο που μας περιβάλλει. Μια έκθεση που μιλά κατευθείαν στη μνήμη και το συναίσθημα\, και μια σπάνια ευκαιρία να γνωρίσουμε το έργο ενός δημιουργού που καταφέρνει να δίνει μνημειακή διάσταση στο εφήμερο. Μην χάσετε την ευκαιρία να συμμετάσχετε και σε μία από τις προγραμματισμένες ξεναγήσεις για μια πιο διεισδυτική προσέγγιση στο έργο του.\n\nΏρες λειτουργίας: Τρίτη – Σάββατο: 11:00 - 19:00 & Κυριακή: 10:00 - 16:00\, Δευτέρα: κλειστά.
URL:https://cityfestival.thisisathens.org/event/nikolas-klironomos-anadromi-1985-2025/2026-05-10/
LOCATION:Πινακοθήκη Δήμου Αθηναίων\, Municipal Gallery of Athens\, Αθήνα\, Αθήνα\, 104 36\, Greece
CATEGORIES:ΓΚΑΛΕΡΙ,ΔΩΡΕΑΝ,ΕΚΘΕΣΗ
ATTACH;FMTTYPE=image/jpeg:https://cityfestival.thisisathens.org/wp-content/uploads/2026/04/5.-Η-Ακρόπολη-από-τον-Λυκαβηττό-ιδιωτ.-συλλογή-ακρυλικά-σε-καμβά-120Χ110εκ.jpg
END:VEVENT
BEGIN:VEVENT
DTSTART;TZID=Europe/Athens:20260510T100000
DTEND;TZID=Europe/Athens:20260510T160000
DTSTAMP:20260419T174355
CREATED:20260408T125056Z
LAST-MODIFIED:20260408T125353Z
UID:10005238-1778407200-1778428800@cityfestival.thisisathens.org
SUMMARY:Γιώργος Τσεριώνης: AFTER
DESCRIPTION:Ο Γιώργος Τσεριώνης\, μέσα από τα έργα του\, αποτυπώνει τον κύκλο ζωής του homo urbanus\, χρησιμοποιώντας ετερόκλητα υλικά όπως πηλό\, μάρμαρο\, μέταλλο και latex. Ο καλλιτέχνης δημιουργεί μια σύγχρονη «αρχαιολογία» από ερείπια\, σκελετούς κτιρίων και απορρίμματα\, αναδεικνύοντας τον καθημερινό αγώνα για επιβίωση και την αέναη αναζήτηση μιας καλύτερης ζωής.\nΜέσα στο ιστορικό νεοκλασικό κτίριο του Μεταξουργείου\, το έργο του λειτουργεί ως ένα memento mori που\, αν και υπογραμμίζει την ανθρώπινη ευθραυστότητα\, δεν στερείται ελπίδας.\n\nΑντιπαραβάλλοντας το σκοτάδι με το φως και το κίτρινο του κινδύνου με τις γήινες αποχρώσεις\, ο δημιουργός μας οδηγεί κάτω από την επιφάνεια των πραγμάτων\, προσφέροντας μια ματιά γεμάτη συμπόνοια για τα δεινά του σύγχρονου ανθρώπου και κλείνοντας το μάτι στο μέλλον με τη δική του εκδοχή του «έζησαν αυτοί καλά και εμείς καλύτερα».\n\n\nΏρες Λειτουργίας: Τρίτη – Σάββατο: 11:00 – 19:00 & Κυριακή: 10:00 – 16:00\, Δευτέρα: κλειστά
URL:https://cityfestival.thisisathens.org/event/giorgos-tserionis-after/2026-05-10/
LOCATION:Πινακοθήκη Δήμου Αθηναίων\, Municipal Gallery of Athens\, Αθήνα\, Αθήνα\, 104 36\, Greece
CATEGORIES:ΓΚΑΛΕΡΙ,ΔΩΡΕΑΝ,ΕΚΘΕΣΗ
ATTACH;FMTTYPE=image/jpeg:https://cityfestival.thisisathens.org/wp-content/uploads/2026/04/3-TSERIONIS-1-1.jpg
END:VEVENT
BEGIN:VEVENT
DTSTART;TZID=Europe/Athens:20260510T110000
DTEND;TZID=Europe/Athens:20260510T200000
DTSTAMP:20260419T174355
CREATED:20260401T083050Z
LAST-MODIFIED:20260417T142734Z
UID:10004157-1778410800-1778443200@cityfestival.thisisathens.org
SUMMARY:Fun Vibes Family Festival
DESCRIPTION:Ένα από τα πιο όμορφα πάρκα της Αθήνας μεταμορφώνεται σε έναν απέραντο χώρο δημιουργίας και δράσης\, φιλοξενώντας μια ολοήμερη γιορτή αφιερωμένη στα παιδιά\, τις οικογένειες και την καλλιέργεια του αθλητικού πνεύματος.\n\nΜέσα από μοναδικές εμπειρίες που συνδυάζουν την άσκηση με τη μάθηση και την καθαρή διασκέδαση\, μικροί και μεγάλοι επισκέπτες έχουν την ευκαιρία να ενισχύσουν τους οικογενειακούς τους δεσμούς με τον πιο ενεργητικό τρόπο. Είναι η ιδανική στιγμή να αφήσουμε για λίγο την οθόνη και να βγούμε από το σπίτι\, δίνοντας ραντεβού στο Πάρκο Ριζάρη για μια ημέρα γεμάτη ομαδικά παιχνίδια και δραστηριότητες που προάγουν την ευεξία και το ομαδικό πνεύμα.\n\nΕτοιμαστείτε να μοιραστείτε στιγμές γέλιου και ζωντάνιας σε μια γιορτή του Φεστιβάλ του Δήμου Αθηναίων\, όπου το παιχνίδι γίνεται ο καλύτερος τρόπος για να ανακαλύψουμε τις δυνατότητές μας και να έρθουμε πιο κοντά στη φύση και μεταξύ μας.
URL:https://cityfestival.thisisathens.org/event/fun-vibes-family-festival/
LOCATION:Πάρκο Ριζάρη\, Ριζάρη 5\, Αθήνα\, Αθήνα\, 106 76\, Greece
CATEGORIES:DJ SET,ΑΘΛΗΤΙΣΜΟΣ,ΔΩΡΕΑΝ,ΕΡΓΑΣΤΗΡΙΑ,ΘΕΑΤΡΟ,ΠΑΙΔΙ,ΥΠΑΙΘΡΙΑ ΔΡΑΣΗ,ΨΥΧΑΓΩΓΙΑ
ATTACH;FMTTYPE=image/jpeg:https://cityfestival.thisisathens.org/wp-content/uploads/2026/03/VGK_3344-scaled.jpg
END:VEVENT
BEGIN:VEVENT
DTSTART;TZID=Europe/Athens:20260510T120000
DTEND;TZID=Europe/Athens:20260510T180000
DTSTAMP:20260419T174355
CREATED:20260331T121739Z
LAST-MODIFIED:20260407T093952Z
UID:10004398-1778414400-1778436000@cityfestival.thisisathens.org
SUMMARY:Inna Orlik: Μόνιμη Έκθεση
DESCRIPTION:Η Orlik Gallery υποδέχεται το κοινό του Φεστιβάλ του Δήμου Αθηναίων σε μια ξεχωριστή συνάντηση με το εικαστικό σύμπαν της Inna Orlik. Η έκθεση φέρνει στο προσκήνιο έναν κόσμο όπου η σύγχρονη ζωγραφική συνομιλεί με τη μυθολογία\, τη φύση και την ανθρώπινη εμπειρία\, δημιουργώντας ένα περιβάλλον πλούσιο σε συμβολισμούς και ερμηνευτικά επίπεδα.\n\nΜε έντονα χρώματα\, σύνθετες υφές και μια ιδιαίτερη ζωγραφική γλώσσα\, τα έργα της Orlik κινούνται ανάμεσα στο ορατό και το υπαινικτικό\, το προσωπικό και το συλλογικό. Η καλλιτέχνις μετατρέπει τον καμβά σε χώρο αφήγησης και αναζήτησης\, προσκαλώντας τον θεατή να ανακαλύψει μορφές\, σύμβολα και υπόγειες συνδέσεις. Μια έκθεση που απευθύνεται σε όσους αναζητούν στη σύγχρονη τέχνη όχι μόνο αισθητική ένταση\, αλλά και ουσιαστικό βάθος.\n\nΏρες λειτουργίας: Καθημερινά: 12:00 – 18:00
URL:https://cityfestival.thisisathens.org/event/inna-orlik-monimi-ekthesi/2026-05-10/
LOCATION:Γκαλερί Orlik\, Παλαιολόγου Μπενιζέλου 3\, Αθήνα\, 105 56\, Greece
CATEGORIES:ΓΚΑΛΕΡΙ,ΔΩΡΕΑΝ,ΕΚΘΕΣΗ
ATTACH;FMTTYPE=image/jpeg:https://cityfestival.thisisathens.org/wp-content/uploads/2026/03/1K9A0075-HDR-scaled.jpg
GEO:37.974622591545;23.729274295913
X-APPLE-STRUCTURED-LOCATION;VALUE=URI;X-ADDRESS=Γκαλερί Orlik Παλαιολόγου Μπενιζέλου 3 Αθήνα 105 56 Greece;X-APPLE-RADIUS=500;X-TITLE=Παλαιολόγου Μπενιζέλου 3:geo:23.729274295913,37.974622591545
END:VEVENT
BEGIN:VEVENT
DTSTART;TZID=Europe/Athens:20260510T130000
DTEND;TZID=Europe/Athens:20260510T230000
DTSTAMP:20260419T174355
CREATED:20260331T124808Z
LAST-MODIFIED:20260331T124840Z
UID:10004320-1778418000-1778454000@cityfestival.thisisathens.org
SUMMARY:Flare the Square 2026
DESCRIPTION:Το Φεστιβάλ του Δήμου Αθηναίων και το MoC ανανεώνουν το ραντεβού τους για ένα μοναδικό skateboarding event στην Πλατεία Κοτζιά\, μπροστά από το Δημαρχείο. Για μία ακόμη χρονιά\, η πλατεία μεταμορφώνεται σε ένα απέραντο\, σύγχρονο skate park\, έτοιμο να υποδεχθεί επαγγελματίες και ερασιτέχνες riders.\n\nΑμέτρητα ακροβατικά\, ταχύτητα και η αυθεντική ενέργεια του δρόμου συνθέτουν μια εμπειρία γεμάτη ζωντάνια. Με τα ηχεία να εκπέμπουν δυναμικά sets από γνωστούς DJs\, τις μυρωδιές από το street food να γεμίζουν την ατμόσφαιρα και το ταλέντο πάνω στις σανίδες να καθηλώνει\, η Αθήνα συντονίζεται στον δικό της\, σύγχρονο αστικό ρυθμό\, στη γιορτή του δρόμου\, της κίνησης και της νεανικής δημιουργικότητας.
URL:https://cityfestival.thisisathens.org/event/flare-the-square-2026/
LOCATION:Πλατεία Κοτζιά\, Πλατεία Κοτζιά\, Αθήνα\, Αθήνα\, 105 51\, Greece
CATEGORIES:DJ SET,ΑΘΛΗΤΙΣΜΟΣ,ΔΩΡΕΑΝ,ΥΠΑΙΘΡΙΑ ΔΡΑΣΗ,ΨΥΧΑΓΩΓΙΑ
ATTACH;FMTTYPE=image/jpeg:https://cityfestival.thisisathens.org/wp-content/uploads/2026/03/20230527-OSF-AthensCityFestival-FlameTheSquare_skate-0064-scaled.jpg
END:VEVENT
BEGIN:VEVENT
DTSTART;TZID=Europe/Athens:20260510T170000
DTEND;TZID=Europe/Athens:20260510T190000
DTSTAMP:20260419T174355
CREATED:20260409T075035Z
LAST-MODIFIED:20260409T075459Z
UID:10005284-1778432400-1778439600@cityfestival.thisisathens.org
SUMMARY:Τριάστερον Αρχιτεκτονικόν Στέμμα: Η Νεοκλασική Τριλογία των Αθηνών
DESCRIPTION:Το Πανεπιστήμιο\, η Ακαδημία και η Βιβλιοθήκη συγκροτούν το εμβληματικό αρχιτεκτονικό τρίπτυχο που έχει σημαδέψει την εικόνα της Αθήνας και την αισθητική της νεότερης πρωτεύουσας. Στο πλαίσιο του Φεστιβάλ του Δήμου Αθηναίων 2026\, ο αρχαιολόγος και ξεναγός Μιχάλης Γιοχάλας μας προσκαλεί σε μια περιήγηση που αποκαλύπτει τις ιστορίες\, τα σύμβολα και τις ιδέες που κρύβονται πίσω από αυτά τα γνώριμα κτίρια του κέντρου. Μια διαδρομή που ξεκινά από την αρχιτεκτονική και ανοίγει προς την ιστορία των ιδεών\, την πολιτισμική αυτοεικόνα και τη συγκρότηση του νεότερου ελληνικού κράτους. Μακριά από μια στεγνή ή ακαδημαϊκή προσέγγιση\, η ξενάγηση φωτίζει τον τρόπο με τον οποίο η αρχιτεκτονική του 19ου αιώνα επιχείρησε να ενώσει την αρχαιότητα με τη σύγχρονη εποχή. Αγάλματα\, κίονες\, διακοσμητικά στοιχεία και φιλολογικές αναφορές αποκτούν νέα σημασία μέσα από μια ανάγνωση που συνδέει τα κτίρια με το όραμα μιας ολόκληρης περιόδου.\n\nΣημείο συνάντησης: Προπύλαια Πανεπιστημίου Αθηνών (Μετρό «Πανεπιστήμιο»\, έξοδος Πανεπιστημίου).\n\nΟι κρατήσεις ανοίγουν μία εβδομάδα πριν τη δράση\, στις 12:00 το μεσημέρι.
URL:https://cityfestival.thisisathens.org/event/triasteron-architektoniko-stema-neoklasiki-trilogia-athinon/
LOCATION:Αθηναϊκή Τριλογία\, Πανεπιστημίου 39\, Αθήνα\, Αθήνα\, 105 64\, Greece
CATEGORIES:ΔΩΡΕΑΝ,ΠΕΡΙΗΓΗΣΗ,ΥΠΑΙΘΡΙΑ ΔΡΑΣΗ
ATTACH;FMTTYPE=image/jpeg:https://cityfestival.thisisathens.org/wp-content/uploads/2025/03/ΤΡΙΛΟΓΙΑ-ΜΕΡΟΣ-Β-scaled.jpg
END:VEVENT
BEGIN:VEVENT
DTSTART;TZID=Europe/Athens:20260510T190000
DTEND;TZID=Europe/Athens:20260510T210000
DTSTAMP:20260419T174355
CREATED:20260407T131524Z
LAST-MODIFIED:20260407T131535Z
UID:10004314-1778439600-1778446800@cityfestival.thisisathens.org
SUMMARY:Η Πρεσβεία της Βουλγαρίας Παρουσιάζει το Κουιντέτο «Seasons»
DESCRIPTION:Η Πρεσβεία της Βουλγαρίας στην Αθήνα και το Φεστιβάλ του Δήμου Αθηναίων παρουσιάζουν το κουιντέτο «Seasons» – ένα από τα καταξιωμένα συγκροτήματα της σύγχρονης βουλγαρικής μουσικής σκηνής. Ιδρυμένο το 1996\, το συγκρότημα αποτελείται από διακεκριμένους μουσικούς με διεθνή καριέρα\, οι οποίοι δημιουργούν μια κομψή γέφυρα ανάμεσα στην παράδοση της μαντολινάτας και τα υψηλά πρότυπα της ευρωπαϊκής μουσικής δωματίου. Με τέσσερα άλμπουμ\, διακρίσεις σε σημαντικούς διεθνείς διαγωνισμούς και εμφανίσεις σε σκηνές της Ευρώπης\, των ΗΠΑ και της Ασίας\, το συγκρότημα εντυπωσιάζει με το πλούσιο ρεπερτόριό του – από κλασικά αριστουργήματα έως σύγχρονες συνθέσεις\, συμπεριλαμβανομένης της πρωτότυπης μουσικής του Βούλγαρου συνθέτη Rossen Balkanski.\n\nΣτις ερμηνείες του\, το συγκρότημα συνδυάζει τη βουλγαρική μουσική παράδοση με τις πιο σύγχρονες ευρωπαϊκές τάσεις. Η Evdokia Bobotsova (μαντολίνο)\, ο Rossen Idealov (κλαρινέτο)\, οι Milen Djurov και Rossen Balkanski (κιθάρες) και ο Ivo Alexandrov (τσέλο) θα σας ταξιδέψουν σε μια αξέχαστη μουσική εμπειρία – μην χάσετε αυτή τη συναυλία!
URL:https://cityfestival.thisisathens.org/event/presveia-bulgaria-quinteto-seasons/
LOCATION:Εθνικό Ιστορικό Μουσείο\, Σταδίου 13\, Αθήνα\, Αθήνα\, 105 61\, Greece
CATEGORIES:ΔΩΡΕΑΝ,ΣΥΝΑΥΛΙΑ,ΥΠΑΙΘΡΙΑ ΔΡΑΣΗ,ΧΟΡΟΣ
ATTACH;FMTTYPE=image/jpeg:https://cityfestival.thisisathens.org/wp-content/uploads/2026/03/IMG_4318-scaled.jpg
END:VEVENT
BEGIN:VEVENT
DTSTART;TZID=Europe/Athens:20260510T190000
DTEND;TZID=Europe/Athens:20260510T230000
DTSTAMP:20260419T174355
CREATED:20260331T124724Z
LAST-MODIFIED:20260417T143818Z
UID:10004158-1778439600-1778454000@cityfestival.thisisathens.org
SUMMARY:Athens All Star Party 2026
DESCRIPTION:Είναι το ραντεβού που όλη η Αθήνα περιμένει κάθε χρόνο. Η στιγμή που η καρδιά της πόλης χτυπά πιο δυνατά. Στο θρυλικό «μπαλκόνι» της πρωτεύουσας\, κάτω από το φως των αστεριών και πάνω από τα φώτα της πόλης\, το πάρκινγκ του Λυκαβηττού μεταμορφώνεται για ακόμη μια φορά στο απόλυτο open-air dancefloor της χώρας.\n\nTο καθιερωμένο πάρτι του Φεστιβάλ του Δήμου Αθηναίων επιστρέφει\, έχοντας πλέον αποκτήσει το δικό του cult status στην αστική κουλτούρα της πόλης. Χιλιάδες άνθρωποι συναντιούνται ξανά στην κορυφή του λόφου για μια νύχτα όπου η μουσική\, ο χορός και η αίσθηση απόλυτης ελευθερίας δημιουργούν μια ατμόσφαιρα ηλεκτρισμένη. Κορυφαίοι promoters συμπράττουν για να στήσουν ένα σκηνικό έκστασης με φόντο την πιο εντυπωσιακή πανοραμική θέα της Αθήνας\, εκεί όπου η ηλεκτρονική μουσική συναντά την απεραντοσύνη του αττικού ουρανού.\n\nΚαθώς ο ρυθμός καταλαμβάνει την κορυφή\, η πόλη γιορτάζει σε μια βραδιά-ορόσημο για τη σύγχρονη κουλτούρα της. Μια εμπειρία που κόβει την ανάσα και επιβεβαιώνει κάθε χρόνο τη θέση της ως το απόλυτο must-attend πάρτι του Μαΐου\, μια γιορτή που θα θυμάσαι μέχρι την επόμενη φορά που θα ανέβεις στον λόφο.
URL:https://cityfestival.thisisathens.org/event/athens-all-star-party-2026/
LOCATION:Parking Θεάτρου Λυκαβηττού\, Λόφος Λυκαβηττού\, Αθήνα\, Αθήνα\, 114 71\, Greece
CATEGORIES:DJ SET,ΔΩΡΕΑΝ,ΠΑΡΤΙ,ΥΠΑΙΘΡΙΑ ΔΡΑΣΗ,ΨΥΧΑΓΩΓΙΑ
ATTACH;FMTTYPE=image/png:https://cityfestival.thisisathens.org/wp-content/uploads/2026/03/ASL_DHMOS_900x600.png
END:VEVENT
BEGIN:VEVENT
DTSTART;TZID=Europe/Athens:20260510T200000
DTEND;TZID=Europe/Athens:20260510T233000
DTSTAMP:20260419T174355
CREATED:20260408T133943Z
LAST-MODIFIED:20260409T081316Z
UID:10005254-1778443200-1778455800@cityfestival.thisisathens.org
SUMMARY:ATHENS: AM Extended - Beyond the Lens
DESCRIPTION:Στο πλαίσιο του Φεστιβάλ\, η έκθεση «ATHENS: AM Extended – Beyond the Lens» μας προσκαλεί σε μια πρωτοποριακή\, πολυμεσική εμπειρία που επαναπροσδιορίζει τη σχέση μας με την πόλη μετά τα μεσάνυχτα. Ο φωτογράφος Θανάσης Καρατζάς και ο σκηνοθέτης πολυμεσικών εμπειριών Βύρωνας Νικολόπουλος ενώνουν τις δυνάμεις τους και μετατρέπουν 88 εμβληματικές ασπρόμαυρες φωτογραφίες της Αθήνας σε μια ζωντανή\, διαδραστική εγκατάσταση. Στον ειδικά διαμορφωμένο χώρο της METACOSMOI\, η εικόνα αποκτά κίνηση\, ήχο και χρώμα μέσα από τεχνολογίες AR\, VR και video projections. Μετά τη διεθνή της παρουσία σε σημαντικά φεστιβάλ\, η έκθεση επιστρέφει στην πόλη που τη γέννησε\, καλώντας το κοινό να «βουτήξει» στην άυλη ποίηση της νυχτερινής Αθήνας. Ένα σύγχρονο καλλιτεχνικό βλέμμα στο παλίμψηστο της πόλης\, εκεί όπου η φωτογραφία συναντά το ψηφιακό μέλλον.
URL:https://cityfestival.thisisathens.org/event/athens-am-extended-beyond-the-lens/2026-05-10/
LOCATION:metacosmoi\, Γερανίου 44\, Αθήνα\, 104 31\, Greece
CATEGORIES:ΔΩΡΕΑΝ,ΕΚΘΕΣΗ
ATTACH;FMTTYPE=image/jpeg:https://cityfestival.thisisathens.org/wp-content/uploads/2026/04/ATHENS-AM-EXTENDED-KARATZAS-1.jpg
GEO:37.984236009787;23.726108409407
X-APPLE-STRUCTURED-LOCATION;VALUE=URI;X-ADDRESS=metacosmoi Γερανίου 44 Αθήνα 104 31 Greece;X-APPLE-RADIUS=500;X-TITLE=Γερανίου 44:geo:23.726108409407,37.984236009787
END:VEVENT
END:VCALENDAR