BEGIN:VCALENDAR
VERSION:2.0
PRODID:-//Το Φεστιβάλ του Δήμου Αθηναίων - ECPv6.12.0.1//NONSGML v1.0//EN
CALSCALE:GREGORIAN
METHOD:PUBLISH
X-WR-CALNAME:Το Φεστιβάλ του Δήμου Αθηναίων
X-ORIGINAL-URL:https://cityfestival.thisisathens.org
X-WR-CALDESC:Events for Το Φεστιβάλ του Δήμου Αθηναίων
REFRESH-INTERVAL;VALUE=DURATION:PT1H
X-Robots-Tag:noindex
X-PUBLISHED-TTL:PT1H
BEGIN:VTIMEZONE
TZID:Europe/Athens
BEGIN:DAYLIGHT
TZOFFSETFROM:+0200
TZOFFSETTO:+0300
TZNAME:EEST
DTSTART:20260329T010000
END:DAYLIGHT
BEGIN:STANDARD
TZOFFSETFROM:+0300
TZOFFSETTO:+0200
TZNAME:EET
DTSTART:20261025T010000
END:STANDARD
END:VTIMEZONE
BEGIN:VEVENT
DTSTART;TZID=Europe/Athens:20260511T100000
DTEND;TZID=Europe/Athens:20260511T180000
DTSTAMP:20260419T174210
CREATED:20260320T144534Z
LAST-MODIFIED:20260408T102231Z
UID:10004611-1778493600-1778522400@cityfestival.thisisathens.org
SUMMARY:Αθήνα: Αστικές Διαφωνίες
DESCRIPTION:Ο Πολιτιστικός Χώρος Macart\, σε συνεργασία με την iFocus Gallery\, παρουσιάζει την έκθεση «Αθήνα: Αστικές Διαφωνίες»\, μια πολυφωνική φωτογραφική προσέγγιση της πρωτεύουσας. Τριάντα σύγχρονοι Έλληνες και ξένοι φωτογράφοι επιχειρούν να αποτυπώσουν την ταυτότητα της πόλης μέσα από διαφορετικές\, συχνά αντικρουόμενες οπτικές\, αναδεικνύοντας τις αντιθέσεις\, τις εντάσεις και τις μεταμορφώσεις της. Η Αθήνα δεν προσεγγίζεται εδώ ως ενιαία εικόνα\, αλλά ως ένα πεδίο διαρκούς διαπραγμάτευσης ανάμεσα στη μνήμη\, την εμπειρία και την αλλαγή.\n\nΑσπρόμαυρες και έγχρωμες εικόνες\, αναλογικές λήψεις και σύγχρονες φωτογραφικές ματιές συνθέτουν ένα αφήγημα όπου η περιπλάνηση γίνεται τρόπος ανάγνωσης της πόλης. Η έκθεση εξερευνά την Αθήνα ανάμεσα στον θόρυβο και την παύση\, το ορατό και το υπαινικτικό\, το ιστορικό βάρος και το παρόν που διαρκώς μετακινείται. Μια πρόσκληση να δούμε την πρωτεύουσα όχι ως δεδομένο φόντο\, αλλά ως ζωντανό και πολυσύνθετο σώμα.\n\nΏρες λειτουργίας: Δευτέρα – Παρασκευή: 10.00-18.00 & Σάββατο: 10.00-14.00\, Κυριακή: Κλειστά
URL:https://cityfestival.thisisathens.org/event/athina-astikes-diafonies/2026-05-11/
LOCATION:Πολιτιστικός Χώρος Macart\, Λένορμαν 244\, Αθήνα\, Αθήνα\, 104 43\, Greece
CATEGORIES:ΓΚΑΛΕΡΙ,ΔΩΡΕΑΝ,ΕΚΘΕΣΗ
ATTACH;FMTTYPE=image/jpeg:https://cityfestival.thisisathens.org/wp-content/uploads/2026/03/COSTAS-_DELHAS.jpg
END:VEVENT
BEGIN:VEVENT
DTSTART;TZID=Europe/Athens:20260511T113000
DTEND;TZID=Europe/Athens:20260511T203000
DTSTAMP:20260419T174210
CREATED:20260331T123157Z
LAST-MODIFIED:20260408T084822Z
UID:10004850-1778499000-1778531400@cityfestival.thisisathens.org
SUMMARY:Κωνσταντίνος Ξενάκης – Δημήτρης Χιωτόπουλος: Γραφή και Ίχνος. Δυο διαδρομές στον Λαβύρινθο
DESCRIPTION:Η Γκαλερί Έρση παρουσιάζει τη διπλή έκθεση ζωγραφικής «Γραφή και Ίχνος: Δύο διαδρομές στον Λαβύρινθο»\, φέρνοντας σε έναν ουσιαστικό και απρόσμενα ποιητικό διάλογο το έργο του Κωνσταντίνου Ξενάκη και του Δημήτρη Χιωτόπουλου. Η έκθεση εστιάζει στον τρόπο με τον οποίο η γραφή\, το σύμβολο\, το ίχνος και η χειρονομία μπορούν να ξεπεράσουν τη χρηστική τους διάσταση και να λειτουργήσουν ως αυτόνομη εικαστική γλώσσα\, πυκνή σε νοήματα και ανοιχτή σε πολλαπλές αναγνώσεις. Ο διεθνώς αναγνωρισμένος Κωνσταντίνος Ξενάκης επιστρατεύει κώδικες\, ιερογλυφικά\, σήματα και μορφές που παραπέμπουν στη σύγχρονη επικοινωνία\, σχολιάζοντας με οξύτητα τον τρόπο που κατασκευάζεται το νόημα. Από την άλλη\, ο Δημήτρης Χιωτόπουλος ενσωματώνει στοιχεία καλλιγραφίας\, αρχέτυπα σχήματα και μια πιο εσωτερική εικαστική αναζήτηση. Η συνύπαρξη των δύο δημιουργών μετατρέπει τον «Λαβύρινθο» της έκθεσης σε έναν χώρο όπου ο θεατής καλείται να περιπλανηθεί\, να χαθεί και τελικά να ανασυνθέσει μόνος του τη διαδρομή του μέσα από σημεία\, σιωπές και ίχνη πολιτισμού.\n\nΏρες Λειτουργίας: Δευτέρα – Παρασκευή: 11:30 – 14:30 & 17:30 – 20:30\, Σάββατο: 11:30 – 15:00\, Κυριακή: κλειστά
URL:https://cityfestival.thisisathens.org/event/xenakis-chiotopoulos/2026-05-11/
LOCATION:Γκαλερί Έρση\, Κλεομένους 4\, Αθήνα\, Αθήνα\, 106 75\, Greece
CATEGORIES:ΓΚΑΛΕΡΙ,ΔΩΡΕΑΝ,ΕΚΘΕΣΗ
ATTACH;FMTTYPE=image/jpeg:https://cityfestival.thisisathens.org/wp-content/uploads/2026/03/Κωνσταντίνος-Ξενάκης.jpg
END:VEVENT
BEGIN:VEVENT
DTSTART;TZID=Europe/Athens:20260511T120000
DTEND;TZID=Europe/Athens:20260511T130000
DTSTAMP:20260419T174210
CREATED:20260331T131120Z
LAST-MODIFIED:20260407T124534Z
UID:10004630-1778500800-1778504400@cityfestival.thisisathens.org
SUMMARY:Ξενάγηση στο Μουσείο της Πόλεως των Αθηνών
DESCRIPTION:Το Μουσείο της Πόλεως των Αθηνών – Ίδρυμα Βούρου-Ευταξία υποδέχεται το κοινό του Φεστιβάλ του Δήμου Αθηναίων 2026 σε μια ξεχωριστή ξενάγηση αφιερωμένη στη νεότερη ιστορία της πρωτεύουσας. Η δράση εκτείνεται στα δύο εμβληματικά κτίρια του μουσείου και ξεκινά από το γνωστό «Παλαιό Παλάτι»\, την πρώτη κατοικία του Όθωνα και της Αμαλίας\, έναν χώρο άμεσα συνδεδεμένο με τα πρώτα βήματα της Αθήνας ως σύγχρονης πρωτεύουσας.\n\nΗ επίσκεψη επιτρέπει στο κοινό να δει την πόλη μέσα από τα αντικείμενα και τους χώρους που τη συγκρότησαν. Η περιήγηση συνεχίζεται στο δεύτερο κτίριο του συγκροτήματος\, όπου ζούσε η οικογένεια Δεκόζη Βούρου\, προσφέροντας μια πιο άμεση εικόνα της αστικής ζωής\, της αισθητικής και της καθημερινότητας του 19ου και των αρχών του 20ου αιώνα. Μέσα από τις συλλογές και το ίδιο το αρχιτεκτονικό περιβάλλον\, αναδύεται η διαδρομή μιας πόλης που άλλαζε\, επεκτεινόταν και διαμόρφωνε τη σύγχρονη ταυτότητά της. Μια ξενάγηση που ενώνει την πολιτική και την οικιακή ιστορία της Αθήνας.\n\nΟι κρατήσεις ανοίγουν μία εβδομάδα πριν τη δράση\, στις 12:00 το μεσημέρι.
URL:https://cityfestival.thisisathens.org/event/ksenagisi-mouseio-poleos-athinon/2026-05-11/
LOCATION:Μουσείο της Πόλεως των Αθηνών\, Ιωάννου Παπαρρηγοπούλου 5-7\, Αθήνα\, 105 61\, Greece
CATEGORIES:ΔΩΡΕΑΝ,ΕΚΘΕΣΗ,ΜΟΥΣΕΙΟ,ΠΕΡΙΗΓΗΣΗ
ATTACH;FMTTYPE=image/jpeg:https://cityfestival.thisisathens.org/wp-content/uploads/2026/03/imgi_2_a10-1-scaled-1.jpg
GEO:37.978924087872;23.731570954219
X-APPLE-STRUCTURED-LOCATION;VALUE=URI;X-ADDRESS=Μουσείο της Πόλεως των Αθηνών Ιωάννου Παπαρρηγοπούλου 5-7 Αθήνα 105 61 Greece;X-APPLE-RADIUS=500;X-TITLE=Ιωάννου Παπαρρηγοπούλου 5-7:geo:23.731570954219,37.978924087872
END:VEVENT
BEGIN:VEVENT
DTSTART;TZID=Europe/Athens:20260511T120000
DTEND;TZID=Europe/Athens:20260511T180000
DTSTAMP:20260419T174210
CREATED:20260331T121739Z
LAST-MODIFIED:20260407T093952Z
UID:10004399-1778500800-1778522400@cityfestival.thisisathens.org
SUMMARY:Inna Orlik: Μόνιμη Έκθεση
DESCRIPTION:Η Orlik Gallery υποδέχεται το κοινό του Φεστιβάλ του Δήμου Αθηναίων σε μια ξεχωριστή συνάντηση με το εικαστικό σύμπαν της Inna Orlik. Η έκθεση φέρνει στο προσκήνιο έναν κόσμο όπου η σύγχρονη ζωγραφική συνομιλεί με τη μυθολογία\, τη φύση και την ανθρώπινη εμπειρία\, δημιουργώντας ένα περιβάλλον πλούσιο σε συμβολισμούς και ερμηνευτικά επίπεδα.\n\nΜε έντονα χρώματα\, σύνθετες υφές και μια ιδιαίτερη ζωγραφική γλώσσα\, τα έργα της Orlik κινούνται ανάμεσα στο ορατό και το υπαινικτικό\, το προσωπικό και το συλλογικό. Η καλλιτέχνις μετατρέπει τον καμβά σε χώρο αφήγησης και αναζήτησης\, προσκαλώντας τον θεατή να ανακαλύψει μορφές\, σύμβολα και υπόγειες συνδέσεις. Μια έκθεση που απευθύνεται σε όσους αναζητούν στη σύγχρονη τέχνη όχι μόνο αισθητική ένταση\, αλλά και ουσιαστικό βάθος.\n\nΏρες λειτουργίας: Καθημερινά: 12:00 – 18:00
URL:https://cityfestival.thisisathens.org/event/inna-orlik-monimi-ekthesi/2026-05-11/
LOCATION:Γκαλερί Orlik\, Παλαιολόγου Μπενιζέλου 3\, Αθήνα\, 105 56\, Greece
CATEGORIES:ΓΚΑΛΕΡΙ,ΔΩΡΕΑΝ,ΕΚΘΕΣΗ
ATTACH;FMTTYPE=image/jpeg:https://cityfestival.thisisathens.org/wp-content/uploads/2026/03/1K9A0075-HDR-scaled.jpg
GEO:37.974622591545;23.729274295913
X-APPLE-STRUCTURED-LOCATION;VALUE=URI;X-ADDRESS=Γκαλερί Orlik Παλαιολόγου Μπενιζέλου 3 Αθήνα 105 56 Greece;X-APPLE-RADIUS=500;X-TITLE=Παλαιολόγου Μπενιζέλου 3:geo:23.729274295913,37.974622591545
END:VEVENT
BEGIN:VEVENT
DTSTART;TZID=Europe/Athens:20260511T180000
DTEND;TZID=Europe/Athens:20260511T210000
DTSTAMP:20260419T174210
CREATED:20260331T124612Z
LAST-MODIFIED:20260407T130713Z
UID:10004760-1778522400-1778533200@cityfestival.thisisathens.org
SUMMARY:Γεράσιμος Γαλιατσάτος: Φ του Φωτός
DESCRIPTION:Τι συμβαίνει όταν η μαθηματική τελειότητα συναντά την εσωτερική αποκάλυψη; Στην έκθεση του Γεράσιμου Γαλιατσάτου με τίτλο «Φ του Φωτός»\, σε επιμέλεια του mosaico\, η τέχνη παύει να είναι μια απλή αναπαράσταση και μετατρέπεται σε «αποκάλυψη νέων μορφών ύπαρξης»\, όπως θα έλεγε και ο ψυχολόγος και συγγραφέας Ρόλο Μέι. Ο καλλιτέχνης μάς φέρνει αντιμέτωπους με δύο θεμελιώδεις δυνάμεις:\n\n 	Τη Χρυσή Τομή (Φ): Συμβολισμένη προς τιμήν του Φειδία\, η Χρυσή Τομή είναι ο μαθηματικός κώδικας της απόλυτης αρμονίας στη φύση και την αρχιτεκτονική. Για τον Γαλιατσάτο\, το «Φ» δεν είναι απλώς ένας κανόνας της ύλης\, αλλά η αισθητική αποτύπωση της ψυχικής ισορροπίας.\n 	Το Φως: Η δύναμη που αποκαλύπτει και εξυγιάνει. Εμπνευσμένος από τη σκέψη του Καρλ Γιουνγκ\, ο δημιουργός αντιμετωπίζει το φως ως το μέσο για να γίνει το «σκοτάδι συνειδητό». Κάθε έργο της συλλογής λειτουργεί ως ένας φωτεινός διάμεσος\, καλώντας τον θεατή να ανακαλύψει την εσωτερική τάξη μέσα στο χάος.\n\nΜια έκθεση-ιεροτελεστία στο πλαίσιο του Φεστιβάλ του Δήμου Αθηναίων\, που μας προσκαλεί να δούμε πέρα από το προφανές\, αναζητώντας τη δική μας πτυχή της πραγματικότητας μέσα από τη λάμψη και τη γεωμετρία.\n\nΏρες Λειτουργίας: Δευτέρα – Παρασκευή: 18:00 – 21:00 & Σάββατο: 12:30 – 15:00\, Κυριακή: κλειστά.
URL:https://cityfestival.thisisathens.org/event/gerasimos-galiatsatos-phi-photos/2026-05-11/
LOCATION:Mosaico Fine Art Studio\, Καισαρείας 18-20\, Αθήνα\, Αθήνα\, 115 27\, Greece
CATEGORIES:ΓΚΑΛΕΡΙ,ΔΩΡΕΑΝ,ΕΚΘΕΣΗ
ATTACH;FMTTYPE=image/jpeg:https://cityfestival.thisisathens.org/wp-content/uploads/2026/03/f-tou-fotos-scaled.jpg
END:VEVENT
BEGIN:VEVENT
DTSTART;TZID=Europe/Athens:20260511T200000
DTEND;TZID=Europe/Athens:20260511T233000
DTSTAMP:20260419T174210
CREATED:20260408T133943Z
LAST-MODIFIED:20260409T081316Z
UID:10005255-1778529600-1778542200@cityfestival.thisisathens.org
SUMMARY:ATHENS: AM Extended - Beyond the Lens
DESCRIPTION:Στο πλαίσιο του Φεστιβάλ\, η έκθεση «ATHENS: AM Extended – Beyond the Lens» μας προσκαλεί σε μια πρωτοποριακή\, πολυμεσική εμπειρία που επαναπροσδιορίζει τη σχέση μας με την πόλη μετά τα μεσάνυχτα. Ο φωτογράφος Θανάσης Καρατζάς και ο σκηνοθέτης πολυμεσικών εμπειριών Βύρωνας Νικολόπουλος ενώνουν τις δυνάμεις τους και μετατρέπουν 88 εμβληματικές ασπρόμαυρες φωτογραφίες της Αθήνας σε μια ζωντανή\, διαδραστική εγκατάσταση. Στον ειδικά διαμορφωμένο χώρο της METACOSMOI\, η εικόνα αποκτά κίνηση\, ήχο και χρώμα μέσα από τεχνολογίες AR\, VR και video projections. Μετά τη διεθνή της παρουσία σε σημαντικά φεστιβάλ\, η έκθεση επιστρέφει στην πόλη που τη γέννησε\, καλώντας το κοινό να «βουτήξει» στην άυλη ποίηση της νυχτερινής Αθήνας. Ένα σύγχρονο καλλιτεχνικό βλέμμα στο παλίμψηστο της πόλης\, εκεί όπου η φωτογραφία συναντά το ψηφιακό μέλλον.
URL:https://cityfestival.thisisathens.org/event/athens-am-extended-beyond-the-lens/2026-05-11/
LOCATION:metacosmoi\, Γερανίου 44\, Αθήνα\, 104 31\, Greece
CATEGORIES:ΔΩΡΕΑΝ,ΕΚΘΕΣΗ
ATTACH;FMTTYPE=image/jpeg:https://cityfestival.thisisathens.org/wp-content/uploads/2026/04/ATHENS-AM-EXTENDED-KARATZAS-1.jpg
GEO:37.984236009787;23.726108409407
X-APPLE-STRUCTURED-LOCATION;VALUE=URI;X-ADDRESS=metacosmoi Γερανίου 44 Αθήνα 104 31 Greece;X-APPLE-RADIUS=500;X-TITLE=Γερανίου 44:geo:23.726108409407,37.984236009787
END:VEVENT
BEGIN:VEVENT
DTSTART;TZID=Europe/Athens:20260511T210000
DTEND;TZID=Europe/Athens:20260511T230000
DTSTAMP:20260419T174210
CREATED:20260403T105901Z
LAST-MODIFIED:20260407T073910Z
UID:10004962-1778533200-1778540400@cityfestival.thisisathens.org
SUMMARY:Μελαχρινός Βελέντζας: Rebirth
DESCRIPTION:Η καλλιτεχνική δράση “Rebirth” του πιανίστα και performer Μελαχρινού Βελέντζα\, μια σύνθεση performance\, installation και συμμετοχικού happening\, επαναφέρει στη ζωή ένα εγκαταλελειμμένο πιάνο της Αθήνας σε εμβληματικούς χώρους της πόλης. Μέσα από ένα μουσικό τελετουργικό\, το όργανο ηχεί ξανά έπειτα από χρόνια σιωπής\, παραλληλίζοντας τη φθορά του ανενεργού αντικειμένου με τη ματαίωση του ανθρώπου που χάνει τη σύνδεση με το «παιχνίδι». Κατά τη διάρκεια του δρώμενου\, το κοινό συμμετέχει σε μια συλλογική δράση συγγραφής\, εναποθέτοντας προσωπικές ιστορίες στα σκαμπό άλλων λησμονημένων πιάνων. Η δράση αποτελεί μέρος της μακροχρόνιας έρευνας του καλλιτέχνη πάνω στην υλικότητα των οργάνων και τη μνήμη που φέρουν τα σπίτια της πόλης\, μετατρέποντας την ατομική απώλεια σε μια κοινή\, λυτρωτική εμπειρία.
URL:https://cityfestival.thisisathens.org/event/melachrinos-velentzas-rebirth-2/
LOCATION:Αέρηδες\, Μάρκου Αυρηλίου & Διογένους\, Αθήνα\, Αθήνα\, 105 55\, Greece
CATEGORIES:ΔΩΡΕΑΝ,ΣΥΝΑΥΛΙΑ,ΥΠΑΙΘΡΙΑ ΔΡΑΣΗ,ΨΥΧΑΓΩΓΙΑ
ATTACH;FMTTYPE=image/jpeg:https://cityfestival.thisisathens.org/wp-content/uploads/2026/04/rebirth-Μελαχρινός-Βελέντζας-This-Is-Athens-2026-01.jpg
END:VEVENT
END:VCALENDAR