BEGIN:VCALENDAR
VERSION:2.0
PRODID:-//Το Φεστιβάλ του Δήμου Αθηναίων - ECPv6.12.0.1//NONSGML v1.0//EN
CALSCALE:GREGORIAN
METHOD:PUBLISH
X-WR-CALNAME:Το Φεστιβάλ του Δήμου Αθηναίων
X-ORIGINAL-URL:https://cityfestival.thisisathens.org
X-WR-CALDESC:Events for Το Φεστιβάλ του Δήμου Αθηναίων
REFRESH-INTERVAL;VALUE=DURATION:PT1H
X-Robots-Tag:noindex
X-PUBLISHED-TTL:PT1H
BEGIN:VTIMEZONE
TZID:Europe/Athens
BEGIN:DAYLIGHT
TZOFFSETFROM:+0200
TZOFFSETTO:+0300
TZNAME:EEST
DTSTART:20260329T010000
END:DAYLIGHT
BEGIN:STANDARD
TZOFFSETFROM:+0300
TZOFFSETTO:+0200
TZNAME:EET
DTSTART:20261025T010000
END:STANDARD
END:VTIMEZONE
BEGIN:VEVENT
DTSTART;TZID=Europe/Athens:20260513T183000
DTEND;TZID=Europe/Athens:20260513T210000
DTSTAMP:20260422T001754
CREATED:20260406T100446Z
LAST-MODIFIED:20260406T100446Z
UID:10004964-1778697000-1778706000@cityfestival.thisisathens.org
SUMMARY:Παρουσίαση Ποιητικής Συλλογής «Έρωτες της ψυχής και τ’ ουρανού»
DESCRIPTION:Στο πλαίσιο του φετινού Φεστιβάλ του Δήμου Αθηναίων\, η δημοσιογράφος Ρίτσα Μασούρα μας προσκαλεί σε μια ξεχωριστή βραδιά αφιερωμένη στην τρίτη της ποιητική συλλογή\, «Έρωτες της ψυχής και τ’ ουρανού» (εκδόσεις Φιλντίσι). Πρόκειται για ένα σπονδυλωτό ποιητικό αφήγημα που αναζητά το νόημα της ζωής μέσα από παλιούς και νέους έρωτες\, προσωπικές μετατοπίσεις και μια γραφή που φέρει επιρροές από τη γενιά των Beat\, χωρίς να χάνει τη δική της συναισθηματική και υπαρξιακή χροιά. Η εκδήλωση ξεφεύγει από τη λογική μιας τυπικής παρουσίασης βιβλίου και μετατρέπεται σε μια πιο σύνθετη αισθητική εμπειρία\, όπου ο ποιητικός λόγος συνομιλεί με τα εικαστικά έργα της Αγγελικής Αντωνέα\, που υπογράφει και την εικονογράφηση της συλλογής. Ποιητικά αποσπάσματα\, έργα τέχνης και ένα πρωτότυπο video art με προσωπικές φωτογραφικές μνήμες της δημιουργού συνθέτουν ένα «ζωντανό οπτικοακουστικό ημερολόγιο» που κινείται ανάμεσα στο οικείο και το υπαρξιακό. Η βραδιά ολοκληρώνεται με cocktail party και μουσική\, αφήνοντας χώρο για συζήτηση\, συνάντηση και μια πιο ανοιχτή ανταλλαγή γύρω από την τέχνη και τη ζωή.
URL:https://cityfestival.thisisathens.org/event/parousiasi-poiitiki-syllogi-ritsa-masoura/
LOCATION:Art Project Space\, Φαλήρου 66\, Αθήνα\, 117 41\, Greece
CATEGORIES:ΓΚΑΛΕΡΙ,ΔΩΡΕΑΝ,ΕΚΘΕΣΗ,ΛΟΓΟΤΕΧΝΙΑ
ATTACH;FMTTYPE=image/jpeg:https://cityfestival.thisisathens.org/wp-content/uploads/2026/03/655964148_10165313263053352_8970744658609852478_n.jpg
GEO:37.963771703031;23.724643024748
X-APPLE-STRUCTURED-LOCATION;VALUE=URI;X-ADDRESS=Art Project Space Φαλήρου 66 Αθήνα 117 41 Greece;X-APPLE-RADIUS=500;X-TITLE=Φαλήρου 66:geo:23.724643024748,37.963771703031
END:VEVENT
END:VCALENDAR