BEGIN:VCALENDAR
VERSION:2.0
PRODID:-//Το Φεστιβάλ του Δήμου Αθηναίων - ECPv6.12.0.1//NONSGML v1.0//EN
CALSCALE:GREGORIAN
METHOD:PUBLISH
X-WR-CALNAME:Το Φεστιβάλ του Δήμου Αθηναίων
X-ORIGINAL-URL:https://cityfestival.thisisathens.org
X-WR-CALDESC:Events for Το Φεστιβάλ του Δήμου Αθηναίων
REFRESH-INTERVAL;VALUE=DURATION:PT1H
X-Robots-Tag:noindex
X-PUBLISHED-TTL:PT1H
BEGIN:VTIMEZONE
TZID:Europe/Athens
BEGIN:DAYLIGHT
TZOFFSETFROM:+0200
TZOFFSETTO:+0300
TZNAME:EEST
DTSTART:20260329T010000
END:DAYLIGHT
BEGIN:STANDARD
TZOFFSETFROM:+0300
TZOFFSETTO:+0200
TZNAME:EET
DTSTART:20261025T010000
END:STANDARD
END:VTIMEZONE
BEGIN:VEVENT
DTSTART;TZID=Europe/Athens:20260514T200000
DTEND;TZID=Europe/Athens:20260514T220000
DTSTAMP:20260423T020721
CREATED:20260406T103828Z
LAST-MODIFIED:20260406T103828Z
UID:10004163-1778788800-1778796000@cityfestival.thisisathens.org
SUMMARY:Music & Film
DESCRIPTION:Ο βωβός κινηματογράφος συναντά τη ζωντανή μουσική στην εσωτερική πλατεία του Αρσακείου Μεγάρου\, ενός αρχιτεκτονικού «κοσμήματος» στο κέντρο της Αθήνας. Στο επίκεντρο της βραδιάς βρίσκεται το «Sunrise: A Song of Two Humans» (1927) του θρυλικού F. W. Murnau.\n\nΗ ταινία\, που θεωρείται μία από τις σπουδαιότερες στην ιστορία του κινηματογράφου\, αφηγείται την ιστορία ενός αγρότη που παγιδεύεται στα δίχτυα μιας μυστηριώδους γυναίκας και φτάνει να σχεδιάζει το αδιανόητο: να την σκοτώσει. Η εξέλιξη της αφήγησης μετατρέπεται σε ένα οδυνηρό αλλά βαθιά λυρικό ταξίδι συμφιλίωσης μέσα στο πολύβουο αστικό τοπίο\, αναδεικνύοντας την αιώνια πάλη ανάμεσα στο σκοτάδι και το φως της ανθρώπινης ψυχής. Την προβολή συνοδεύει ζωντανά ο διακεκριμένος σολίστ Μάνος Κιτσικόπουλος. Με τους πιανιστικούς αυτοσχεδιασμούς του δεν συνοδεύει απλώς την εικόνα\, αλλά τη «μεταφράζει» σε συναίσθημα\, δημιουργώντας μια μοναδική κινηματογραφική εμπειρία κάτω από τη γυάλινη στέγη του Αρσακείου.
URL:https://cityfestival.thisisathens.org/event/music-film/
LOCATION:Μέγαρο Αρσακείου\, Σταδίου 42-46\, Αθήνα\, 105 59\, Greece
CATEGORIES:ΔΩΡΕΑΝ,ΣΙΝΕΜΑ,ΣΥΝΑΥΛΙΑ,ΨΥΧΑΓΩΓΙΑ
ATTACH;FMTTYPE=image/jpeg:https://cityfestival.thisisathens.org/wp-content/uploads/2026/03/Sunrise.2_Lib.jpeg
GEO:37.981114000635;23.7308609
X-APPLE-STRUCTURED-LOCATION;VALUE=URI;X-ADDRESS=Μέγαρο Αρσακείου Σταδίου 42-46 Αθήνα 105 59 Greece;X-APPLE-RADIUS=500;X-TITLE=Σταδίου 42-46:geo:23.7308609,37.981114000635
END:VEVENT
END:VCALENDAR