BEGIN:VCALENDAR
VERSION:2.0
PRODID:-//Το Φεστιβάλ του Δήμου Αθηναίων - ECPv6.12.0.1//NONSGML v1.0//EN
CALSCALE:GREGORIAN
METHOD:PUBLISH
X-WR-CALNAME:Το Φεστιβάλ του Δήμου Αθηναίων
X-ORIGINAL-URL:https://cityfestival.thisisathens.org
X-WR-CALDESC:Events for Το Φεστιβάλ του Δήμου Αθηναίων
REFRESH-INTERVAL;VALUE=DURATION:PT1H
X-Robots-Tag:noindex
X-PUBLISHED-TTL:PT1H
BEGIN:VTIMEZONE
TZID:Europe/Athens
BEGIN:DAYLIGHT
TZOFFSETFROM:+0200
TZOFFSETTO:+0300
TZNAME:EEST
DTSTART:20260329T010000
END:DAYLIGHT
BEGIN:STANDARD
TZOFFSETFROM:+0300
TZOFFSETTO:+0200
TZNAME:EET
DTSTART:20261025T010000
END:STANDARD
END:VTIMEZONE
BEGIN:VEVENT
DTSTART;TZID=Europe/Athens:20260516T110000
DTEND;TZID=Europe/Athens:20260516T123000
DTSTAMP:20260422T034121
CREATED:20260409T101953Z
LAST-MODIFIED:20260421T115707Z
UID:10004289-1778929200-1778934600@cityfestival.thisisathens.org
SUMMARY:Άγιος Διονύσιος ο Αρεοπαγίτης\, ο Άγιος των Αθηνών: Ξεναγήσεις στους Ναούς του ΙΙ
DESCRIPTION:Το Φεστιβάλ του Δήμου Αθηναίων μας προσκαλεί να γνωρίσουμε από κοντά την ιστορία\, την αρχιτεκτονική και τη λεπτή αισθητική ενός από τα πιο ξεχωριστά θρησκευτικά μνημεία της πόλης: του Ιερού Καθολικού Καθεδρικού Ναού Αγίου Διονυσίου Αρεοπαγίτου. Με οδηγό την ιστορικό τέχνης Δέσποινα Παρασκευά\, η περιήγηση ανοίγει ένα παράθυρο σε έναν χώρο που δεσπόζει στον άξονα της Πανεπιστημίου και κουβαλά μαζί του ένα σημαντικό κομμάτι της πολιτιστικής και αρχιτεκτονικής ιστορίας της Αθήνας. Κατά τη διάρκεια της ξενάγησης\, θα ανακαλύψουμε τη συμβολή των Leo von Klenze και Λύσανδρου Καυταντζόγλου\, θα γνωρίσουμε το έργο του ζωγράφου Guglielmo Bilancioni και την ιστορία του μαικήνα Giovanni Battista Serpieri\, ενώ θα παρατηρήσουμε από κοντά τον πλούσιο γλυπτό και ξυλόγλυπτο διάκοσμο του ναού. Η εμπειρία ολοκληρώνεται με ένα σύντομο μουσικό πρόγραμμα από την Ειρήνη Αναστασίου στο εκκλησιαστικό όργανο\, που προσθέτει μια ξεχωριστή μυσταγωγική διάσταση στην επίσκεψη.\n\nΜην χάσετε και την ξενάγηση στον Ορθόδοξο Ναό που δημιουργεί έναν καλλιτεχνικό διάλογο ανάμεσα σε δύο δόγματα και δύο διαφορετικές εκφάνσεις της νεότερης ελληνικής δημιουργίας\, στην καρδιά του αστικού ιστού.\n\nΣημείο συνάντησης: Είσοδος Ιερού Ναού.
URL:https://cityfestival.thisisathens.org/event/agios-dionysios-areopagitis-katholikos-ksenagisi/
LOCATION:Ιερός Καθολικός Καθεδρικός Ναός Αγίου Διονυσίου του Αρεοπαγίτη\, Πανεπιστημίου 24\, Αθήνα\, Αθήνα\, 106 72\, Greece
CATEGORIES:ΔΩΡΕΑΝ,ΠΕΡΙΗΓΗΣΗ
ATTACH;FMTTYPE=image/jpeg:https://cityfestival.thisisathens.org/wp-content/uploads/2026/03/ναός-4.jpg
END:VEVENT
BEGIN:VEVENT
DTSTART;TZID=Europe/Athens:20260516T110000
DTEND;TZID=Europe/Athens:20260516T140000
DTSTAMP:20260422T034121
CREATED:20260420T135853Z
LAST-MODIFIED:20260420T135853Z
UID:10005419-1778929200-1778940000@cityfestival.thisisathens.org
SUMMARY:1945: Το Τέλος του Πολέμου
DESCRIPTION:Η έκθεση «1945: Το Τέλος του Πολέμου» αποτελεί ένα καθηλωτικό οδοιπορικό στη χρονιά-ορόσημο που σφράγισε την παγκόσμια ιστορία. Ως αποτέλεσμα πολύμηνης έρευνας σε ελληνικά και διεθνή αρχεία\, η έκθεση φωτίζει τις δραματικές αντιθέσεις εκείνων των δώδεκα μηνών: από τη φρίκη και την αποκάλυψη της ναζιστικής βαρβαρότητας στα στρατόπεδα συγκέντρωσης\, μέχρι την έκρηξη χαράς για τη νίκη των ελεύθερων εθνών.\n\nΜέσα από σπάνιο φωτογραφικό υλικό που παρουσιάζεται για πρώτη φορά στην Ελλάδα και αυθεντικά τεκμήρια\, ο επισκέπτης παρακολουθεί την αλληλουχία των γεγονότων που διαμόρφωσαν τον σύγχρονο κόσμο: την πτώση του Βερολίνου και τη συνθηκολόγηση της Γερμανίας\, τις ιστορικές διασκέψεις της Γιάλτας και του Πόστνταμ\, τον όλεθρο της ατομικής βόμβας στην Ιαπωνία\, αλλά και τη γέννηση του ΟΗΕ και τη Δίκη της Νυρεμβέργης. Πρόκειται για μια σειρά ξεναγήσεων που επιτρέπουν την ουσιαστική κατανόηση της επόμενης ημέρας για την ανθρωπότητα\, προσφέροντας μια βαθιά ματιά στα θεμέλια της σύγχρονης ειρήνης και δικαιοσύνης.\n\nΔυο ξεναγήσεις: Στις 11:00 και 13:00 απευθυνόμενες σε ενήλικες.\n\nΕλεύθερη συμμετοχή με προκράτηση θέσης έως 15 Μαΐου στο +30 210 367 3273\, από Δευτέρα έως Παρασκευή 9:00-16:00.\n\n\n\n 
URL:https://cityfestival.thisisathens.org/event/1945-telos-polemou/
LOCATION:Δημόσιο Καπνεργοστάσιο\, Λένορμαν 218\, Αθήνα\, Αθήνα\, 104 43\, Greece
CATEGORIES:ΔΩΡΕΑΝ,ΕΚΘΕΣΗ,ΠΕΡΙΗΓΗΣΗ
ATTACH;FMTTYPE=image/jpeg:https://cityfestival.thisisathens.org/wp-content/uploads/2026/04/ΦΩΤΟ-2-ΙΔΡΥΜΑ-ΤΗΣ-ΒΟΥΛΗΣ-1945-ΤΟ-ΤΕΛΟΣ-ΤΟΥ-ΠΟΛΕΜΟΥ.jpg
END:VEVENT
BEGIN:VEVENT
DTSTART;TZID=Europe/Athens:20260516T170000
DTEND;TZID=Europe/Athens:20260516T190000
DTSTAMP:20260422T034121
CREATED:20260407T084538Z
LAST-MODIFIED:20260408T135420Z
UID:10004184-1778950800-1778958000@cityfestival.thisisathens.org
SUMMARY:Α΄ Κοιμητήριο Αθηνών: Μία Υπαίθρια Γλυπτοθήκη 1
DESCRIPTION:«Εις το νεκροταφείον Αθηνών περικλείεται πάσα η κίνησις της νεωτέρας γλυπτικής». Με αυτά τα λόγια\, ο σπουδαίος γλύπτης Θωμάς Θωμόπουλος περιέγραφε ήδη από τις αρχές του περασμένου αιώνα τη μοναδικότητα του Α’ Κοιμητηρίου Αθηνών. \n\nΣτο πλαίσιο του Φεστιβάλ\, ο αρχαιολόγος και ξεναγός Μιχάλης Γιοχάλας μας οδηγεί σε μια ιδιαίτερη περιήγηση στο Α΄ Κοιμητήριο Αθηνών\, έναν τόπο όπου η μνήμη\, η τέχνη και η ιστορία της πόλης συνυπάρχουν με μοναδικό τρόπο. Πολύ πέρα από τη συνήθη εικόνα ενός κοιμητηρίου\, ο χώρος αποκαλύπτεται ως ένα υπαίθριο μουσείο νεοελληνικής γλυπτικής\, γεμάτο σημαντικά έργα\, καλλιτεχνικές υπογραφές και ίχνη της κοινωνικής ιστορίας της Αθήνας. Μέσα από ταφικά μνημεία\, γλυπτικές συνθέσεις και ανθρώπινες ιστορίες\, η ξενάγηση φωτίζει λιγότερο γνωστές πλευρές της αθηναϊκής ταυτότητας. Ιστορίες φιλοδοξίας\, υστεροφημίας\, προσωπικής απώλειας και αισθητικής αναζήτησης αποτυπώνονται στο μάρμαρο και συνδέονται με τη διαμόρφωση της νεότερης πόλης. Μια διαδρομή υψηλής αισθητικής και εσωτερικότητας\, που καλεί τον επισκέπτη να δει το Α’ Κοιμητήριο ως έναν τόπο βαθιάς πολιτισμικής σημασίας.\n\nΟι κρατήσεις ανοίγουν μία εβδομάδα πριν τη δράση\, στις 12:00 το μεσημέρι.
URL:https://cityfestival.thisisathens.org/event/proto-kimitirio-athinon-1/
LOCATION:Α’ Κοιμητήριο Αθηνών\, Λογγίνου 3\, Αθήνα\, Αθήνα\, 116 36\, Greece
CATEGORIES:ΔΩΡΕΑΝ,ΕΚΘΕΣΗ,ΙΣΤΟΡΙΑ,ΠΕΡΙΗΓΗΣΗ,ΥΠΑΙΘΡΙΑ ΔΡΑΣΗ
ATTACH;FMTTYPE=image/jpeg:https://cityfestival.thisisathens.org/wp-content/uploads/2026/03/5.890-Οριζόντια-1-scaled.jpg
END:VEVENT
END:VCALENDAR