BEGIN:VCALENDAR
VERSION:2.0
PRODID:-//Το Φεστιβάλ του Δήμου Αθηναίων - ECPv6.12.0.1//NONSGML v1.0//EN
CALSCALE:GREGORIAN
METHOD:PUBLISH
X-WR-CALNAME:Το Φεστιβάλ του Δήμου Αθηναίων
X-ORIGINAL-URL:https://cityfestival.thisisathens.org
X-WR-CALDESC:Events for Το Φεστιβάλ του Δήμου Αθηναίων
REFRESH-INTERVAL;VALUE=DURATION:PT1H
X-Robots-Tag:noindex
X-PUBLISHED-TTL:PT1H
BEGIN:VTIMEZONE
TZID:Europe/Athens
BEGIN:DAYLIGHT
TZOFFSETFROM:+0200
TZOFFSETTO:+0300
TZNAME:EEST
DTSTART:20260329T010000
END:DAYLIGHT
BEGIN:STANDARD
TZOFFSETFROM:+0300
TZOFFSETTO:+0200
TZNAME:EET
DTSTART:20261025T010000
END:STANDARD
END:VTIMEZONE
BEGIN:VEVENT
DTSTART;TZID=Europe/Athens:20260517T180000
DTEND;TZID=Europe/Athens:20260517T230000
DTSTAMP:20260419T190705
CREATED:20260331T125857Z
LAST-MODIFIED:20260417T094131Z
UID:10004304-1779040800-1779058800@cityfestival.thisisathens.org
SUMMARY:E=MC²
DESCRIPTION:Η μεγάλη γιορτή των τεχνών του δρόμου επιστρέφει για έβδομη χρονιά και μεταμορφώνει ξανά την Πλατεία Αμερικής σε ένα ζωντανό πεδίο δημιουργίας\, ενέργειας και συλλογικότητας. Το E=MC² μας προσκαλεί σε μια ανοιχτή εμπειρία όπου οι διαφορετικές «φυλές» της Αθήνας συναντιούνται μέσα από την κουλτούρα του hip hop και διεκδικούν τον δημόσιο χώρο με τον πιο δημιουργικό τρόπο. Εδώ\, η τέχνη του δρόμου δεν είναι μόνο θέαμα\, αλλά κοινότητα\, επικοινωνία και μοίρασμα. Χωρίς άγχος ανταγωνισμού και χωρίς αντίτιμο εισόδου\, η πλατεία γεμίζει beats\, φωνές\, χορό και αυθόρμητες συναντήσεις. DJs\, beatboxers\, MCs και χορευτές breakin’ δίνουν τον ρυθμό σε μια διοργάνωση που βλέπει το hip hop ως εργαλείο έκφρασης\, σύνδεσης και ένταξης. Μια ανοιχτή πρόσκληση να χορέψουμε\, να γνωριστούμε και να ζήσουμε από κοντά τη ζωντανή ενέργεια μιας πλατείας που συμβολίζει τη συνάντηση\, την πολυμορφία και τη δύναμη της πόλης να ενώνεται.\n\nΠρόγραμμα:\n\n18:00 – 19:00: B-bop aka Digga – Cookin’ in da Square. Strictly Vinyl Set.\n\n19:00 – 20:00: Dj Beatstrike – Chessboard Cypher. Μπες στο cypher της σκακιέρας.\n\n20:00 – 20:45: Dj Beatstrike & Top Rock Bunch – Feeling James Vol.5. Get the funk up!\n\n20:45 – 21:15: Dj Beatstrike – Rocking Apache Line. Only the real ones survive.\n\n21:15 – 21:30: BeatboxGreece – Bite That Mic. Τα beatbox monsters επιστρέφουν.\n\n21:30 – 23:00: Dj MarWax – Boombox Session. Old school grooves party time!\n\nHosts: Cameelloco Unbreakable & Loyal T
URL:https://cityfestival.thisisathens.org/event/emc2-2026/
LOCATION:Πλατεία Αμερικής\, Πατησίων 167\, Αθήνα\, Αθήνα\, 112 52\, Greece
CATEGORIES:DJ SET,ΔΩΡΕΑΝ,ΥΠΑΙΘΡΙΑ ΔΡΑΣΗ,ΨΥΧΑΓΩΓΙΑ
ATTACH;FMTTYPE=image/png:https://cityfestival.thisisathens.org/wp-content/uploads/2026/03/EMC2.7-Cover.png
END:VEVENT
BEGIN:VEVENT
DTSTART;TZID=Europe/Athens:20260517T180000
DTEND;TZID=Europe/Athens:20260517T230000
DTSTAMP:20260419T190705
CREATED:20260401T084026Z
LAST-MODIFIED:20260406T085042Z
UID:10004306-1779040800-1779058800@cityfestival.thisisathens.org
SUMMARY:Athens Cocktails στο Ιαπωνικό Πάρκο
DESCRIPTION:Το Athens Cocktails επιστρέφει στο Φεστιβάλ του Δήμου Αθηναίων\, φέρνοντας μαζί του όλα εκείνα που το έχουν καθιερώσει ως ένα από τα πιο αγαπημένα highlights των αθηναϊκών απογευμάτων: κορυφαίες δημιουργίες\, ιδιαίτερες γεύσεις και μουσική που ανεβάζει τη διάθεση από το πρώτο λεπτό. Αυτή τη φορά\, η διοργάνωση καταλαμβάνει έναν από τους πιο ιδιαίτερους και ατμοσφαιρικούς χώρους της πόλης\, το Ιαπωνικό Πάρκο\, δημιουργώντας ένα σκηνικό που μοιάζει να σε μεταφέρει αλλού\, ενώ βρίσκεσαι ακόμη στην καρδιά της Αθήνας. Μέσα στην εξωτική αύρα του κήπου\, κορυφαίοι mixologists παρουσιάζουν signature cocktails που μετατρέπουν το ποτό σε αφορμή για συνάντηση\, χαλάρωση και γιορτή. Η μουσική δίνει τον ρυθμό\, το ηλιοβασίλεμα συμπληρώνει το σκηνικό και η βραδιά αποκτά μια αβίαστη κοσμοπολίτικη αίσθηση. Μια ανοιξιάτικη έξοδος που συνδυάζει γεύση\, ατμόσφαιρα και αστική φινέτσα\, ιδανική για όσους θέλουν να ανακαλύψουν μια πιο απρόσμενη πλευρά του κέντρου.
URL:https://cityfestival.thisisathens.org/event/athens-cocktails-iaponiko-parko/
LOCATION:Ιαπωνικό Πάρκο Αθήνας\, Νηρηίδων 12\, Αθήνα\, Αθήνα\, 116 34\, Greece
CATEGORIES:DJ SET,ΓΑΣΤΡΟΝΟΜΙΑ,ΥΠΑΙΘΡΙΑ ΔΡΑΣΗ
ATTACH;FMTTYPE=image/jpeg:https://cityfestival.thisisathens.org/wp-content/uploads/2026/03/IMG_9363-scaled.jpg
END:VEVENT
BEGIN:VEVENT
DTSTART;TZID=Europe/Athens:20260517T190000
DTEND;TZID=Europe/Athens:20260517T230000
DTSTAMP:20260419T190705
CREATED:20260331T125551Z
LAST-MODIFIED:20260401T110735Z
UID:10004322-1779044400-1779058800@cityfestival.thisisathens.org
SUMMARY:Innersense pres. LTJ Bukem LIVE & Junior SP
DESCRIPTION:Όταν ο LTJ Bukem ανεβαίνει στα decks\, η εμπειρία ξεπερνά τα όρια ενός συνηθισμένου DJ set. Μία από τις πιο εμβληματικές μορφές της παγκόσμιας drum & bass σκηνής\, ο καλλιτέχνης που έδωσε στο είδος μια πιο ατμοσφαιρική\, “intelligent” και κινηματογραφική διάσταση\, έρχεται στο Φεστιβάλ του Δήμου Αθηναίων 2026 για μια βραδιά που ενώνει ένταση\, ακρίβεια και βαθιά μουσικότητα. Η Αθήνα γίνεται για λίγο το πεδίο όπου οι γρήγοροι ρυθμοί συναντούν τη jazz ευαισθησία\, τις ambient αποχρώσεις και μια αίσθηση πνευματικής ελευθερίας που μόνο ο Bukem ξέρει να χτίζει με τέτοια δεξιοτεχνία. Με breakbeats που κρατούν αμείωτη την ένταση\, μπασογραμμές που δονούν τον χώρο και ένα ατμοσφαιρικό ύφος που δεν χάνει ποτέ τη λεπτότητά του\, το set του υπόσχεται ένα ταξίδι στη sophisticated πλευρά της rave κουλτούρας. Δεν είναι απλώς μια βραδιά για χορό\, αλλά μια εμπειρία που σε βάζει να κινηθείς και να ακούσεις με όλο σου το σώμα. Μια σπάνια συνάντηση με έναν δημιουργό που διαμόρφωσε έναν ολόκληρο ήχο και συνεχίζει να τον εξελίσσει με τον δικό του\, αξεπέραστο τρόπο. \n\nΣτο πλευρό του\, ο Junior SP.\, μία από τις πιο σταθερές και πολυδιάστατες παρουσίες της εγχώριας σκηνής. Με πορεία που ξεκινά από το 1992 και εκτείνεται σε περισσότερες από τρεις δεκαετίες\, ως DJ\, παραγωγός\, promoter και δημιουργικός πυρήνας πίσω από την Innersense Productions\, έχει συμβάλει καθοριστικά στη διαμόρφωση και προώθηση του urban και bass ήχου στην Ελλάδα. Έχοντας μοιραστεί τη σκηνή με καλλιτέχνες όπως οι The Prodigy\, Wu-Tang Clan και Grandmaster Flash\, και με εμφανίσεις σε Ελλάδα και εξωτερικό\, κάθε set του αποτελεί μια δυναμική σύνθεση εμπειρίας και αυθεντικότητας. Μια βραδιά σημείο αναφοράς για την ηλεκτρονική μουσική στην Αθήνα.
URL:https://cityfestival.thisisathens.org/event/innersense-pres-ltj-bukem-live-junior-sp/
LOCATION:Πλατεία Θησέα\, Αθήνα\, Αθήνα\, 118 51\, Greece
CATEGORIES:DJ SET,ΔΩΡΕΑΝ,ΠΑΡΤΙ,ΥΠΑΙΘΡΙΑ ΔΡΑΣΗ,ΨΥΧΑΓΩΓΙΑ
ATTACH;FMTTYPE=image/jpeg:https://cityfestival.thisisathens.org/wp-content/uploads/2026/03/LTJ-Bukem_141.jpg
GEO:37.976881512325;23.720736681935
END:VEVENT
END:VCALENDAR