BEGIN:VCALENDAR
VERSION:2.0
PRODID:-//Το Φεστιβάλ του Δήμου Αθηναίων - ECPv6.12.0.1//NONSGML v1.0//EN
CALSCALE:GREGORIAN
METHOD:PUBLISH
X-ORIGINAL-URL:https://cityfestival.thisisathens.org
X-WR-CALDESC:Events for Το Φεστιβάλ του Δήμου Αθηναίων
REFRESH-INTERVAL;VALUE=DURATION:PT1H
X-Robots-Tag:noindex
X-PUBLISHED-TTL:PT1H
BEGIN:VTIMEZONE
TZID:Europe/Athens
BEGIN:DAYLIGHT
TZOFFSETFROM:+0200
TZOFFSETTO:+0300
TZNAME:EEST
DTSTART:20260329T010000
END:DAYLIGHT
BEGIN:STANDARD
TZOFFSETFROM:+0300
TZOFFSETTO:+0200
TZNAME:EET
DTSTART:20261025T010000
END:STANDARD
END:VTIMEZONE
BEGIN:VEVENT
DTSTART;TZID=Europe/Athens:20260517T120000
DTEND;TZID=Europe/Athens:20260517T130000
DTSTAMP:20260421T200556
CREATED:20260420T140450Z
LAST-MODIFIED:20260420T140902Z
UID:10005421-1779019200-1779022800@cityfestival.thisisathens.org
SUMMARY:1945: Το Τέλος του Πολέμου
DESCRIPTION:Η έκθεση «1945: Το Τέλος του Πολέμου» ανοίγει τις πόρτες της σε οικογένειες με παιδιά άνω των 10 ετών\, στο πλαίσιο μιας ειδικά σχεδιασμένης ξενάγησης. Μέσω του οδοιπορικού στη χρονιά-ορόσημο που σφράγισε την παγκόσμια ιστορία\, οι επισκέπτες θα έχουν την ευκαιρία να ανακαλύψουν τις δραματικές στιγμές που οδήγησαν από τη φρίκη του πολέμου στην έκρηξη χαράς για τη νίκη των ελεύθερων εθνών.\n\nΗ ξενάγηση περιλαμβάνει σπάνιο φωτογραφικό υλικό και αυθεντικά τεκμήρια σχετικά με τα μεγάλα γεγονότα: από την απελευθέρωση των στρατοπέδων και την πτώση του Βερολίνου\, μέχρι τις ιστορικές συναντήσεις των ηγετών στη Γιάλτα και τη γέννηση του ΟΗΕ.\n\nΠρόκειται για μια μοναδική ευκαιρία για γονείς και παιδιά να προσεγγίσουν μαζί τη σύγχρονη ιστορία\, να κατανοήσουν τη σημασία της ειρήνης και να αναλογιστούν τις αξίες που διαμόρφωσαν τον κόσμο\, στον οποίο ζούμε σήμερα.\n\nΕλεύθερη συμμετοχή με προκράτηση θέσης έως 15 Μαΐου στο +30 210 367 3273\, από Δευτέρα έως Παρασκευή 9:00-16:00.\n\n 
URL:https://cityfestival.thisisathens.org/event/1945-to-telos-polemou/
LOCATION:Δημόσιο Καπνεργοστάσιο\, Λένορμαν 218\, Αθήνα\, Αθήνα\, 104 43\, Greece
CATEGORIES:ΔΩΡΕΑΝ,ΕΚΘΕΣΗ,ΠΑΙΔΙ,ΠΕΡΙΗΓΗΣΗ
ATTACH;FMTTYPE=image/jpeg:https://cityfestival.thisisathens.org/wp-content/uploads/2026/04/ΦΩΤΟ-ΙΔΡΥΜΑ-ΤΗΣ-ΒΟΥΛΗΣ-1945-ΤΟ-ΤΕΛΟΣ-ΤΟΥ-ΠΟΛΕΜΟΥ.jpg
END:VEVENT
BEGIN:VEVENT
DTSTART;TZID=Europe/Athens:20260517T130000
DTEND;TZID=Europe/Athens:20260517T140000
DTSTAMP:20260421T200557
CREATED:20260402T115700Z
LAST-MODIFIED:20260407T140552Z
UID:10005065-1779022800-1779026400@cityfestival.thisisathens.org
SUMMARY:Ξενάγηση: Δήμητρα Σιατερλή - Συνεκτικά Δίκτυα
DESCRIPTION:Σας προσκαλούμε σε μια ξεχωριστή ξενάγηση στην ατομική έκθεση της Δήμητρας Σιατερλή\, μια περιήγηση που ανοίγει τα βαθύτερα στρώματα ενός εικαστικού κόσμου με διαδρομή τεσσάρων δεκαετιών. Καθώς κινούμαστε ανάμεσα σε περίτεχνα πλέγματα\, διάτρητα γλυπτά και χαρακτικά\, αποκαλύπτεται σταδιακά ένας ολόκληρος «δαίδαλος» από μικροσκοπικές ανθρώπινες μορφές\, ένα σύμπαν που μιλά για την ανάγκη μας να συνδεόμαστε\, να ανήκουμε και να επικοινωνούμε. Πρόκειται για μια ουσιαστική\, βιωματική εμπειρία που φέρνει το κοινό πιο κοντά στο έργο της καλλιτέχνιδας\, φωτίζοντας τη σημασία των «συνεκτικών δικτύων» που μας ενώνουν σε ένα κοινό παρόν. Μια ξενάγηση που γεφυρώνει τον μύθο με την ανθρώπινη εμπειρία και μετατρέπει την παρατήρηση σε προσωπική ανακάλυψη.\n\nΟι κρατήσεις ανοίγουν μία εβδομάδα πριν τη δράση\, στις 12:00 το μεσημέρι.
URL:https://cityfestival.thisisathens.org/event/ksenagisi-ekthesi-dimitra-siaterli-synektika-diktia/2026-05-17/
LOCATION:Πινακοθήκη Δήμου Αθηναίων\, Municipal Gallery of Athens\, Αθήνα\, Αθήνα\, 104 36\, Greece
CATEGORIES:ΓΚΑΛΕΡΙ,ΔΩΡΕΑΝ,ΕΚΘΕΣΗ,ΠΕΡΙΗΓΗΣΗ
ATTACH;FMTTYPE=image/jpeg:https://cityfestival.thisisathens.org/wp-content/uploads/2026/04/DIMITRA-SIATERLI-ISTOS-DESMOS-scaled.jpg
END:VEVENT
BEGIN:VEVENT
DTSTART;TZID=Europe/Athens:20260517T170000
DTEND;TZID=Europe/Athens:20260517T190000
DTSTAMP:20260421T200557
CREATED:20260406T103238Z
LAST-MODIFIED:20260407T140435Z
UID:10004297-1779037200-1779044400@cityfestival.thisisathens.org
SUMMARY:Περιήγηση στο Ριζόκαστρο και τα Αναφιώτικα
DESCRIPTION:Το Ριζόκαστρο\, η ιστορική συνοικία κάτω από τη «ρίζα» του Ιερού Βράχου\, και τα ειδυλλιακά Αναφιώτικα αποτελούν δύο από τις πιο γοητευτικές γωνιές της πόλης\, όπου ο χρόνος μοιάζει να έχει σταματήσει. Στο πλαίσιο του Φεστιβάλ του Δήμου Αθηναίων 2026\, ο αρχαιολόγος και διπλωματούχος ξεναγός Μιχάλης Γιοχάλας μας προσκαλεί σε μια περιήγηση που ξεπερνά την απλή ξενάγηση και μετατρέπεται σε μια βαθιά αναζήτηση της αθηναϊκής ταυτότητας. Με οδηγούς τα σωζόμενα μνημεία\, τα σπαράγματα των κτιρίων που χάθηκαν\, αλλά και τα μυστικά που κρύβουν τα ονόματα των δρόμων\, θα επιχειρήσουμε να ανασυνθέσουμε την εικόνα μιας πόλης διαφορετικής\, αλλά όχι ολότελα χαμένης. Ακόμα κι αν νομίζετε πως γνωρίζετε κάθε γωνιά της Πλάκας\, αυτή η δράση φωτίζει αθέατες λεπτομέρειες και αρχαίες τοποθεσίες όπου οι μύθοι και οι θρύλοι επιβιώνουν μέχρι σήμερα. Ελάτε να αφουγκραστούμε μαζί τις απηχήσεις του παρελθόντος και να δούμε την Πλάκα ξανά από την αρχή\, σε μια εμπειρία που ενώνει την επιστημονική γνώση με τη νοσταλγική γοητεία της πιο αυθεντικής γειτονιάς της πρωτεύουσας. \n\nΣημείο Συνάντησης: Μετρό Ακροπόλεως\, έξοδος Μακρυγιάννη.\n\nΟι κρατήσεις ανοίγουν μία εβδομάδα πριν τη δράση\, στις 12:00 το μεσημέρι.
URL:https://cityfestival.thisisathens.org/event/periigisi-rizokastro-anafiotika-4/2026-05-17/
LOCATION:Σταθμός Μετρό Ακρόπολη\, Μακρυγιάννη 9\, Αθήνα\, Αθήνα\, 117 42\, Greece
CATEGORIES:ΔΩΡΕΑΝ,ΙΣΤΟΡΙΑ,ΠΕΡΙΗΓΗΣΗ,ΥΠΑΙΘΡΙΑ ΔΡΑΣΗ
ATTACH;FMTTYPE=image/jpeg:https://cityfestival.thisisathens.org/wp-content/uploads/2026/03/20240516-TiACF-GMK-RizokastroAnafiotikaTour-0017-scaled.jpg
END:VEVENT
END:VCALENDAR