BEGIN:VCALENDAR
VERSION:2.0
PRODID:-//Το Φεστιβάλ του Δήμου Αθηναίων - ECPv6.12.0.1//NONSGML v1.0//EN
CALSCALE:GREGORIAN
METHOD:PUBLISH
X-WR-CALNAME:Το Φεστιβάλ του Δήμου Αθηναίων
X-ORIGINAL-URL:https://cityfestival.thisisathens.org
X-WR-CALDESC:Events for Το Φεστιβάλ του Δήμου Αθηναίων
REFRESH-INTERVAL;VALUE=DURATION:PT1H
X-Robots-Tag:noindex
X-PUBLISHED-TTL:PT1H
BEGIN:VTIMEZONE
TZID:Europe/Athens
BEGIN:DAYLIGHT
TZOFFSETFROM:+0200
TZOFFSETTO:+0300
TZNAME:EEST
DTSTART:20260329T010000
END:DAYLIGHT
BEGIN:STANDARD
TZOFFSETFROM:+0300
TZOFFSETTO:+0200
TZNAME:EET
DTSTART:20261025T010000
END:STANDARD
END:VTIMEZONE
BEGIN:VEVENT
DTSTART;TZID=Europe/Athens:20260518T180000
DTEND;TZID=Europe/Athens:20260518T190000
DTSTAMP:20260421T130230
CREATED:20260420T142057Z
LAST-MODIFIED:20260420T143205Z
UID:10005423-1779127200-1779130800@cityfestival.thisisathens.org
SUMMARY:Ξενάγηση στον «Σύλλογο των Αθηναίων» & στο «Αθηναϊκό Μουσείο»
DESCRIPTION:Γιορτάζουμε τη Διεθνή Ημέρα Μουσείων με μία δωρεάν ξενάγηση που μας μεταφέρει στην «καρδιά» της παλιάς Αθήνας. Οι επισκέπτες θα έχουν την ευκαιρία να περιηγηθούν στον ιστορικό «Σύλλογο των Αθηναίων» και στο «Αθηναϊκό Μουσείο»\, πραγματοποιώντας ένα νοητό ταξίδι δύο αιώνων στην αθηναϊκή ιστορία.\n\nΜέσα από πολύτιμα τεκμήρια και δωρεές από τις οικογένειες που διαμόρφωσαν τη φυσιογνωμία της πρωτεύουσας\, η ξενάγηση αναδεικνύει τον αστικό τρόπο ζωής του 19ου και του 20ού αιώνα\, φωτίζοντας αθέατες πλευρές της κοινωνικής και πολιτιστικής εξέλιξης της πόλης. Την περιήγηση θα πραγματοποιήσουν ο Πρόεδρος του Συλλόγου\, Ελευθέριος Γ. Σκιαδάς\, και η μουσειολόγος Έλενα Γκοτσίνα\, προσφέροντας μια αυθεντική εμπειρία που συνδέει τη συλλογική μνήμη με το παρόν της Αθήνας. Μια σπάνια ευκαιρία να γνωρίσουμε την κληρονομιά των ανθρώπων που έχτισαν την ταυτότητα της πόλης\, μέσα από τις συλλογές ενός από τους πιο εμβληματικούς φορείς της.\n\nΟι κρατήσεις ανοίγουν μία εβδομάδα πριν τη δράση\, στις 12:00 το μεσημέρι\, στο: info@syllogostonathinaion.gr
URL:https://cityfestival.thisisathens.org/event/ksenagisi-syllogos-athinaion-athinaiko-mouseio/
LOCATION:Σύλλογος των Αθηναίων\, Κέκροπος 10\, Αθήνα\, Αθήνα\, 105 58\, Greece
CATEGORIES:ΔΩΡΕΑΝ,ΕΚΘΕΣΗ,ΜΟΥΣΕΙΟ
ATTACH;FMTTYPE=image/jpeg:https://cityfestival.thisisathens.org/wp-content/uploads/2026/04/PST_3464.jpg
END:VEVENT
END:VCALENDAR