BEGIN:VCALENDAR
VERSION:2.0
PRODID:-//Το Φεστιβάλ του Δήμου Αθηναίων - ECPv6.12.0.1//NONSGML v1.0//EN
CALSCALE:GREGORIAN
METHOD:PUBLISH
X-WR-CALNAME:Το Φεστιβάλ του Δήμου Αθηναίων
X-ORIGINAL-URL:https://cityfestival.thisisathens.org
X-WR-CALDESC:Events for Το Φεστιβάλ του Δήμου Αθηναίων
REFRESH-INTERVAL;VALUE=DURATION:PT1H
X-Robots-Tag:noindex
X-PUBLISHED-TTL:PT1H
BEGIN:VTIMEZONE
TZID:Europe/Athens
BEGIN:DAYLIGHT
TZOFFSETFROM:+0200
TZOFFSETTO:+0300
TZNAME:EEST
DTSTART:20260329T010000
END:DAYLIGHT
BEGIN:STANDARD
TZOFFSETFROM:+0300
TZOFFSETTO:+0200
TZNAME:EET
DTSTART:20261025T010000
END:STANDARD
END:VTIMEZONE
BEGIN:VEVENT
DTSTART;TZID=Europe/Athens:20260521T180000
DTEND;TZID=Europe/Athens:20260521T193000
DTSTAMP:20260422T002811
CREATED:20260421T132937Z
LAST-MODIFIED:20260421T133545Z
UID:10005494-1779386400-1779391800@cityfestival.thisisathens.org
SUMMARY:Αθήνα με Nέα Oδηγ@
DESCRIPTION:Οι σπουδαστές και σπουδάστριες της Δραματικής Σχολής του Ωδείου Αθηνών\, υπό την καθοδήγηση του καθηγητή Αντώνη Βολανάκη\, μας προσκαλούν να ανακαλύψουμε το κέντρο της πόλης μέσα από μια ανατρεπτική ματιά.\n\nΗ εμβληματική Αθηναϊκή Τριλογία (Ακαδημία\, Πανεπιστήμιο\, Εθνική Βιβλιοθήκη)\, ο Χώρος Ιστορικής Μνήμης Κοραή 4 και η Πλατεία Κλαυθμώνος παύουν να είναι μνημεία «παγωμένα» στο χρόνο\, καθώς «ζωντανεύουν» μέσα από το σώμα και τη φωνή των σπουδαστών. Η κλασική ξενάγηση δίνει τη θέση της σε μια performance που αναζητά τις «ρωγμές» στο επίσημο αφήγημα της πόλης\, μια δράση που μας καλεί να ακούσουμε την ίδια την Αθήνα να μιλά για τη γνώση\, τη λήθη και το παρόν της.\n\nΣπουδάστριες/ές: Αγάπη Θεοδωρίδου\, Αγγελική Ανδρεαδάκη\, Αλέξανδρος Καβράκος\, Αντώνης Λυμπέρης\, Γεωργιάννα Ζουγανέλη\, Γιάννης Μπαριάμης\, Γιάννης Φούντας\, Ζωή Τσιρούκη\, Κλειώ Χριστοπούλου\, Λευτέρης Αργυρός\, Μάνος Καρανικόλας\, Μαρλέν Κυπριωτάκη\, Μαρκέλλα Παπαδημητρίου\, Παναγιώτης Ρέγγας\, Στέλλα Σελπέση\, Τάσος Μπεκύρος\, Φιλήμων Αδάμου\, Χρήστος Κεκρίδης\, Χριστίνα Καρακώστα\, Χριστίνα Μητρούσια.
URL:https://cityfestival.thisisathens.org/event/athina-nea-odigo/
LOCATION:Αθηναϊκή Τριλογία\, Πανεπιστημίου 39\, Αθήνα\, Αθήνα\, 105 64\, Greece
CATEGORIES:ΔΩΡΕΑΝ,ΘΕΑΤΡΟ,ΥΠΑΙΘΡΙΑ ΔΡΑΣΗ,ΧΟΡΟΣ
ATTACH;FMTTYPE=image/jpeg:https://cityfestival.thisisathens.org/wp-content/uploads/2026/04/IMG_1872.jpeg
END:VEVENT
END:VCALENDAR