BEGIN:VCALENDAR
VERSION:2.0
PRODID:-//Το Φεστιβάλ του Δήμου Αθηναίων - ECPv6.12.0.1//NONSGML v1.0//EN
CALSCALE:GREGORIAN
METHOD:PUBLISH
X-WR-CALNAME:Το Φεστιβάλ του Δήμου Αθηναίων
X-ORIGINAL-URL:https://cityfestival.thisisathens.org
X-WR-CALDESC:Events for Το Φεστιβάλ του Δήμου Αθηναίων
REFRESH-INTERVAL;VALUE=DURATION:PT1H
X-Robots-Tag:noindex
X-PUBLISHED-TTL:PT1H
BEGIN:VTIMEZONE
TZID:Europe/Athens
BEGIN:DAYLIGHT
TZOFFSETFROM:+0200
TZOFFSETTO:+0300
TZNAME:EEST
DTSTART:20260329T010000
END:DAYLIGHT
BEGIN:STANDARD
TZOFFSETFROM:+0300
TZOFFSETTO:+0200
TZNAME:EET
DTSTART:20261025T010000
END:STANDARD
END:VTIMEZONE
BEGIN:VEVENT
DTSTART;TZID=Europe/Athens:20260521T190000
DTEND;TZID=Europe/Athens:20260521T230000
DTSTAMP:20260423T020722
CREATED:20260417T091520Z
LAST-MODIFIED:20260417T091520Z
UID:10004981-1779390000-1779404400@cityfestival.thisisathens.org
SUMMARY:Το Μπαλκόνι του Papazó
DESCRIPTION:Η ιστορική Πλατεία Δεξαμενής\, με την αθηναϊκή της γοητεία και τη δροσιά του Λυκαβηττού να απλώνεται γύρω της\, γίνεται το σκηνικό για μια μεγάλη μουσική συνάντηση με πρωταγωνιστή τον Papazó. Ο Βασίλης Παπαζώτος\, τραγουδοποιός\, μουσικός παραγωγός και γιατρός\, φέρνει στο Φεστιβάλ του Δήμου Αθηναίων τη ζωντανή ενέργεια και τη φιλική αμεσότητα που τον έκαναν ιδιαίτερα αγαπητό μέσα από τα viral μουσικά του βίντεο και τις αναπάντεχες συνεργασίες του. Το χαρακτηριστικό «μουσικό σαλόνι» που δημιούργησε ψηφιακά μεταφέρεται τώρα στη σκηνή. Η βραδιά ισορροπεί ιδανικά ανάμεσα στη σύγχρονη αστική κουλτούρα και την οικειότητα μιας μεγάλης παρέας\, δίνοντας νέα ζωή σε αγαπημένα τραγούδια και δημιουργώντας την αίσθηση ότι όλη η Δεξαμενή τραγουδά μαζί. Μια ανοιξιάτικη βόλτα που εξελίσσεται σε μια από τις πιο ζεστές και ζωντανές μουσικές εμπειρίες του φετινού φεστιβάλ.
URL:https://cityfestival.thisisathens.org/event/balkoni-papazo/
LOCATION:Πλατεία Δεξαμενής\, Πλατεία Δεξαμενής\, Αθήνα\, Αθήνα\, 106 73\, Greece
CATEGORIES:ΔΩΡΕΑΝ,ΣΥΝΑΥΛΙΑ,ΥΠΑΙΘΡΙΑ ΔΡΑΣΗ,ΨΥΧΑΓΩΓΙΑ
ATTACH;FMTTYPE=image/jpeg:https://cityfestival.thisisathens.org/wp-content/uploads/2026/03/VGK_5160-scaled.jpg
END:VEVENT
END:VCALENDAR