BEGIN:VCALENDAR
VERSION:2.0
PRODID:-//Το Φεστιβάλ του Δήμου Αθηναίων - ECPv6.12.0.1//NONSGML v1.0//EN
CALSCALE:GREGORIAN
METHOD:PUBLISH
X-ORIGINAL-URL:https://cityfestival.thisisathens.org
X-WR-CALDESC:Events for Το Φεστιβάλ του Δήμου Αθηναίων
REFRESH-INTERVAL;VALUE=DURATION:PT1H
X-Robots-Tag:noindex
X-PUBLISHED-TTL:PT1H
BEGIN:VTIMEZONE
TZID:Europe/Athens
BEGIN:DAYLIGHT
TZOFFSETFROM:+0200
TZOFFSETTO:+0300
TZNAME:EEST
DTSTART:20260329T010000
END:DAYLIGHT
BEGIN:STANDARD
TZOFFSETFROM:+0300
TZOFFSETTO:+0200
TZNAME:EET
DTSTART:20261025T010000
END:STANDARD
END:VTIMEZONE
BEGIN:VEVENT
DTSTART;TZID=Europe/Athens:20260522T180000
DTEND;TZID=Europe/Athens:20260522T190000
DTSTAMP:20260422T034212
CREATED:20260402T105646Z
LAST-MODIFIED:20260407T131827Z
UID:10005028-1779472800-1779476400@cityfestival.thisisathens.org
SUMMARY:Ξενάγηση στο Μουσείο Μαρία Κάλλας
DESCRIPTION:Το Μουσείο Μαρία Κάλλας μας προσκαλεί σε μια συγκινητική περιήγηση στον κόσμο της κορυφαίας υψιφώνου του 20ού αιώνα. Μέσα από μια ειδικά σχεδιασμένη ξενάγηση\, στο πλαίσιο του Φεστιβάλ\, οι επισκέπτες έχουν τη σπάνια ευκαιρία να ανακαλύψουν τόσο τις εμβληματικές στιγμές της καριέρας της όσο και λιγότερο γνωστές\, προσωπικές πτυχές της ζωής της που τη διαμόρφωσαν ως παγκόσμιο σύμβολο της όπερας. Η αφήγηση ξεφεύγει από τα όρια μιας τυπικής μουσειακής εμπειρίας\, ζωντανεύοντας τη διαδρομή της με τρόπο άμεσο και βιωματικό\, φωτίζοντας την καλλιτεχνική της κληρονομιά αλλά και τη σύνθετη προσωπικότητά της. Μια εμπειρία που προσαρμόζεται στο κοινό και προσφέρει μια ουσιαστική ματιά στη γυναίκα και την καλλιτέχνιδα που άλλαξε για πάντα το λυρικό θέατρο\, στην καρδιά της πόλης που τόσο αγάπησε.\n\nΟι κρατήσεις ανοίγουν μία εβδομάδα πριν τη δράση\, στις 12:00 το μεσημέρι.
URL:https://cityfestival.thisisathens.org/event/ksenagisi-mouseio-maria-callas-2026/2026-05-22/
LOCATION:Μουσείο Μαρία Κάλλας\, Μητροπόλεως 44\, Αθήνα\, Αθήνα\, 105 63\, Greece
CATEGORIES:ΔΩΡΕΑΝ,ΕΚΘΕΣΗ,ΜΟΥΣΕΙΟ,ΠΕΡΙΗΓΗΣΗ
ATTACH;FMTTYPE=image/jpeg:https://cityfestival.thisisathens.org/wp-content/uploads/2026/04/MARIACALLASMUSEUM_1-scaled.jpg
END:VEVENT
BEGIN:VEVENT
DTSTART;TZID=Europe/Athens:20260522T183000
DTEND;TZID=Europe/Athens:20260522T210000
DTSTAMP:20260422T034212
CREATED:20260402T143813Z
LAST-MODIFIED:20260407T124337Z
UID:10004340-1779474600-1779483600@cityfestival.thisisathens.org
SUMMARY:Ιστορικός Περίπατος με τον Δρ. Ιορδάνη Παπαδόπουλο: Κυπριάδου
DESCRIPTION:Στις παρυφές των Πατησίων\, εκεί όπου η αστική πυκνότητα δίνει χώρο σε μια διαφορετική αρχιτεκτονική και μια πιο ήσυχη αθηναϊκή ανάσα\, το Φεστιβάλ του Δήμου Αθηναίων μας προσκαλεί να ανακαλύψουμε τη Συνοικία Κυπριάδου. Με οδηγό τον Δρ. Ιορδάνη Παπαδόπουλο\, ο περίπατος ξετυλίγει την ιστορία μιας περιοχής-πρότυπο\, που συνδέθηκε στενά με την ιδέα της αθηναϊκής «κηπούπολης» και αποτέλεσε σημείο αναφοράς για την ανάπτυξη άλλων συνοικιών\, όπως το Ψυχικό και η Νέα Σμύρνη. Περπατώντας ανάμεσα σε επαύλεις\, ατελιέ και δρόμους που κράτησαν το αποτύπωμα μιας άλλης Αθήνας\, θα αναζητήσουμε τα ίχνη της λεγόμενης «Σχολής Κυπριάδη»\, όπως την είχε ονομάσει ο Γιάννης Μόραλης. Από τον Αριστοτέλη Ζάχο μέχρι τους Παρθένη\, Κόντογλου\, Πικιώνη και Αργυρό\, η γειτονιά αναδεικνύεται ως ένας ζωντανός καμβάς της Γενιάς του ’30 και της αθηναϊκής διανόησης. Μια ξενάγηση που συνδέει τον μοντερνισμό\, τη μνήμη και την καθημερινότητα\, φωτίζοντας μια πλευρά της πόλης που παραμένει γοητευτική\, απρόσμενη και βαθιά αθηναϊκή.\n\nΣημείο Συνάντησης: Προαύλιο Ιερού Ναού Κοιμήσεως Θεοτόκου\n\nΟι κρατήσεις ανοίγουν μία εβδομάδα πριν τη δράση\, στις 12:00 το μεσημέρι.
URL:https://cityfestival.thisisathens.org/event/istorikos-peripatos-dr-iordanis-papadopoulos-kypriadou/
LOCATION:Αθήνα
CATEGORIES:ΔΩΡΕΑΝ,ΙΣΤΟΡΙΑ,ΠΕΡΙΗΓΗΣΗ,ΥΠΑΙΘΡΙΑ ΔΡΑΣΗ
ATTACH;FMTTYPE=image/png:https://cityfestival.thisisathens.org/wp-content/uploads/2026/03/image-9.png
END:VEVENT
END:VCALENDAR