BEGIN:VCALENDAR
VERSION:2.0
PRODID:-//Το Φεστιβάλ του Δήμου Αθηναίων - ECPv6.12.0.1//NONSGML v1.0//EN
CALSCALE:GREGORIAN
METHOD:PUBLISH
X-WR-CALNAME:Το Φεστιβάλ του Δήμου Αθηναίων
X-ORIGINAL-URL:https://cityfestival.thisisathens.org
X-WR-CALDESC:Events for Το Φεστιβάλ του Δήμου Αθηναίων
REFRESH-INTERVAL;VALUE=DURATION:PT1H
X-Robots-Tag:noindex
X-PUBLISHED-TTL:PT1H
BEGIN:VTIMEZONE
TZID:Europe/Athens
BEGIN:DAYLIGHT
TZOFFSETFROM:+0200
TZOFFSETTO:+0300
TZNAME:EEST
DTSTART:20260329T010000
END:DAYLIGHT
BEGIN:STANDARD
TZOFFSETFROM:+0300
TZOFFSETTO:+0200
TZNAME:EET
DTSTART:20261025T010000
END:STANDARD
END:VTIMEZONE
BEGIN:VEVENT
DTSTART;TZID=Europe/Athens:20260527T210000
DTEND;TZID=Europe/Athens:20260527T220000
DTSTAMP:20260423T020743
CREATED:20260421T134742Z
LAST-MODIFIED:20260421T134742Z
UID:10005335-1779915600-1779919200@cityfestival.thisisathens.org
SUMMARY:Στέλλα Καρύδα
DESCRIPTION:H Στέλλα Καρύδα μας προσκαλεί σε ένα μελωδικό ταξίδι ανάμεσα στη στεριά και στη θάλασσα. Με την αισθαντική και κρυστάλλινη φωνή της ερμηνεύει ένα πρόγραμμα που ισορροπεί ανάμεσα στις δισκογραφικές συνεργασίες της με τον Χρήστο Νικολόπουλο και τον Νίκο Οικονομίδη\, και στα μεγάλα κλασικά λαϊκά και ρεμπέτικα των Τσιτσάνη\, Βαμβακάρη\, Θεοδωράκη και Καλδάρα. Από τις σύγχρονες επιτυχίες του Μάλαμα και του Θανάση Παπακωνσταντίνου μέχρι τους παραδοσιακούς θησαυρούς της Μικράς Ασίας\, της Κρήτης και της Ηπείρου\, η βραδιά υπόσχεται μια αυθεντική μυσταγωγία.\n\nΤην ορχήστρα πλαισιώνουν ο κορυφαίος κιθαρίστας Στέλιος Καρύδας στην επιμέλεια\, και ο Δημήτρης Ρέππας στο μπουζούκι και το τραγούδι\, o Σωτήρης Μαργώνης στο βιολί και ο Γιάννης Καλαφατέλης στο ακορντεόν.
URL:https://cityfestival.thisisathens.org/event/stella-karyda/
LOCATION:Το Θεατράκι της Φωκίωνος Νέγρη\, Φωκίωνος Νέγρη\, Αθήνα\, Αθήνα\, 113 61\, Greece
CATEGORIES:ΔΩΡΕΑΝ,ΣΥΝΑΥΛΙΑ,ΥΠΑΙΘΡΙΑ ΔΡΑΣΗ,ΨΥΧΑΓΩΓΙΑ
ATTACH;FMTTYPE=image/jpeg:https://cityfestival.thisisathens.org/wp-content/uploads/2026/04/image0.jpeg
END:VEVENT
END:VCALENDAR