BEGIN:VCALENDAR
VERSION:2.0
PRODID:-//Το Φεστιβάλ του Δήμου Αθηναίων - ECPv6.12.0.1//NONSGML v1.0//EN
CALSCALE:GREGORIAN
METHOD:PUBLISH
X-ORIGINAL-URL:https://cityfestival.thisisathens.org
X-WR-CALDESC:Events for Το Φεστιβάλ του Δήμου Αθηναίων
REFRESH-INTERVAL;VALUE=DURATION:PT1H
X-Robots-Tag:noindex
X-PUBLISHED-TTL:PT1H
BEGIN:VTIMEZONE
TZID:Europe/Athens
BEGIN:DAYLIGHT
TZOFFSETFROM:+0200
TZOFFSETTO:+0300
TZNAME:EEST
DTSTART:20260329T010000
END:DAYLIGHT
BEGIN:STANDARD
TZOFFSETFROM:+0300
TZOFFSETTO:+0200
TZNAME:EET
DTSTART:20261025T010000
END:STANDARD
END:VTIMEZONE
BEGIN:VEVENT
DTSTART;TZID=Europe/Athens:20260527T173000
DTEND;TZID=Europe/Athens:20260527T190000
DTSTAMP:20260421T213551
CREATED:20260403T103523Z
LAST-MODIFIED:20260407T120303Z
UID:10005127-1779903000-1779908400@cityfestival.thisisathens.org
SUMMARY:Ξενάγηση: Νικόλας Κληρονόμος - Αναδρομή 1985-2025
DESCRIPTION:Μια σειρά ξεναγήσεων θα πραγματοποιηθεί στο πλαίσιο του Φεστιβάλ στην αναδρομική έκθεση του Νικόλα Κληρονόμου. Πρόκειται για μια διαδρομή που ξετυλίγει σαράντα χρόνια αδιάλειπτης καλλιτεχνικής δημιουργίας. Η ξενάγηση φωτίζει τη διττή ταυτότητα του δημιουργού -ζωγράφος και σκηνογράφος- αποκαλύπτοντας πώς «σκηνοθετεί» τον καμβά του\, μετατρέποντας εικόνες της πόλης και των ανθρώπων της σε ζωντανές\, ποιητικές αφηγήσεις. Καθώς περιηγούμαστε στα έργα του\, η καθημερινότητα συναντά το όνειρο και οι εναλλαγές των εποχών αποτυπώνονται μέσα από τολμηρά χρώματα και ιδιαίτερα υλικά που χαρίζουν κίνηση και ένταση. Πρόκειται για μια βιωματική εμπειρία που μας καλεί να εμβαθύνουμε στις αθέατες πτυχές του χρόνου και της ανθρώπινης ύπαρξης\, ανακαλύπτοντας πώς ο Κληρονόμος καταφέρνει να προσδίδει μνημειακότητα στις πιο μικρές\, φευγαλέες στιγμές. Μια ξενάγηση που αγγίζει τη μνήμη και το συναίσθημα\, προσφέροντας μια ολοκληρωμένη ματιά στο έργο ενός από τους πιο πολυσχιδείς δημιουργούς της σύγχρονης ελληνικής σκηνής.\n\nΟι κρατήσεις ανοίγουν μία εβδομάδα πριν τη δράση\, στις 12:00 το μεσημέρι.
URL:https://cityfestival.thisisathens.org/event/ksenagisi-nikolas-klironomos-anadromi-1985-2025/2026-05-27/
LOCATION:Πινακοθήκη Δήμου Αθηναίων\, Municipal Gallery of Athens\, Αθήνα\, Αθήνα\, 104 36\, Greece
CATEGORIES:ΓΚΑΛΕΡΙ,ΔΩΡΕΑΝ,ΕΚΘΕΣΗ,ΠΕΡΙΗΓΗΣΗ
ATTACH;FMTTYPE=image/jpeg:https://cityfestival.thisisathens.org/wp-content/uploads/2026/04/17.-Εργοτάξιο-ιδιωτ.-συλλογή-120Χ250-εκ-Λάδι-και-Ακρυλικό-σε-καμβά-Αθήνα-2012-scaled.jpg
END:VEVENT
END:VCALENDAR