BEGIN:VCALENDAR
VERSION:2.0
PRODID:-//Το Φεστιβάλ του Δήμου Αθηναίων - ECPv6.12.0.1//NONSGML v1.0//EN
CALSCALE:GREGORIAN
METHOD:PUBLISH
X-ORIGINAL-URL:https://cityfestival.thisisathens.org
X-WR-CALDESC:Events for Το Φεστιβάλ του Δήμου Αθηναίων
REFRESH-INTERVAL;VALUE=DURATION:PT1H
X-Robots-Tag:noindex
X-PUBLISHED-TTL:PT1H
BEGIN:VTIMEZONE
TZID:Europe/Athens
BEGIN:DAYLIGHT
TZOFFSETFROM:+0200
TZOFFSETTO:+0300
TZNAME:EEST
DTSTART:20250330T010000
END:DAYLIGHT
BEGIN:STANDARD
TZOFFSETFROM:+0300
TZOFFSETTO:+0200
TZNAME:EET
DTSTART:20251026T010000
END:STANDARD
END:VTIMEZONE
BEGIN:VEVENT
DTSTART;TZID=Europe/Athens:20250515T203000
DTEND;TZID=Europe/Athens:20250515T230000
DTSTAMP:20260422T010005
CREATED:20250504T150732Z
LAST-MODIFIED:20250515T165523Z
UID:10003892-1747341000-1747350000@cityfestival.thisisathens.org
SUMMARY:Food and Wine Experience - Εστιατόριο Μουσείου Μπενάκη Ελληνικού Πολιτισμού
DESCRIPTION:Ο ελληνικός αμπελώνας συναντά ορισμένους από τους σημαντικότερους εκπροσώπους της γαστρονομικής σκηνής της Αθήνας σε μερικά από τα εμβληματικότερα μουσεία της πόλης. Κορυφαίες ετικέτες αγαπημένων ελληνικών κτημάτων\, κρασιά που διαπρέπουν αλλά και καλά κρυμμένοι θησαυροί\, συνοδεύουν δημιουργίες που εξυμνούν και αναδεικνύουν τα προϊόντα της ελληνικής γης\, σε απρόσμενους συνδυασμούς.\n\nΤο Εστιατόριο του Μουσείου Μπενάκη Ελληνικού Πολιτισμού συμμετέχει και φέτος στο Φεστιβάλ του Δήμου Αθηναίων με μια εκδήλωση υψηλής γαστρονομίας που διοργανώνει το Wine Style στο μοναδικής ομορφιάς εστιατόριο του Μουσείου\, στο υπέροχο roof top του νεοκλασικού κτιρίου\, με μοναδική θέα στον Εθνικό Κήπο\, το Κοινοβούλιο και τον Λυκαβηττό.\n\nΈνα γεύμα με την υπογραφή του ‘’Δειπνοσοφιστήριον’’\, με κάθε πιάτο να συνδυάζεται αρμονικά με τα κρασιά των εμβληματικών Κτημάτων Τσέλεπος και Δρυόπη που βρίσκονται στο οροπέδιο της Μαντινείας και στη Νεμέα αντίστοιχα και θα μας παρουσιάσει ο Άρης Τσέλεπος.\n\nMENU\n1ο πιάτο\nΠολύχρωμα ντοματίνια κρίταμος\, κρέμα φέτας\, πούδρα από χαρούπι & dressing από gazpacho ελληνικής σαλάτας\nΚυδωνίτσα 2024\, Κτήμα Δρυόπη\n*\n2ο πιάτο\nΠοικιλία μανιταριών\nμε βραχάκια κυανού τυριού\, κρέμα καπνιστής Τσακώνικης μελιτζάνας & ζυμωτό ψωμί\nΡοζέ 2024\, Κτήμα Δρυόπη\n*\nΚυρίως πιάτο\nTagliata από flank steak\nμε γλασαρισμένες πιπεριές Φλωρίνης\, chutney κάπαρης και τραγανή πίτα\nΝεμέα Reserve\, Κτήμα Δρυόπη\n*\nΕπιδόρπιο\nΦιστίκι – βατόμουρο\nΣε τραγανή βάση μπισκότου\, cremeux & mousse φιστίκι με σάλτσα κόκκινων βατόμουρων\, συνοδεύεται με sorbet raspberry\nAmalia Rosé NV\, Κτήμα Τσέλεπου\n*\nEspresso coffee & τρούφες σοκολάτας\n\nΠεριορισμένος αριθμός θέσεων για κρατήσεις: 210 3671030\n\n 
URL:https://cityfestival.thisisathens.org/event/food-and-wine-experience-mouseio-mpenaki-ellinikou-politismou/
LOCATION:Μουσείο Μπενάκη Ελληνικού Πολιτισμού\, Κουμπάρη 1\, Αθήνα\, Athens\, 106 74\, Greece
CATEGORIES:ΓΑΣΤΡΟΝΟΜΙΑ
ATTACH;FMTTYPE=image/jpeg:https://cityfestival.thisisathens.org/wp-content/uploads/2025/05/Μπενάκη-φαγητό.jpg
GEO:37.976112658748;23.740467454506
X-APPLE-STRUCTURED-LOCATION;VALUE=URI;X-ADDRESS=Μουσείο Μπενάκη Ελληνικού Πολιτισμού Κουμπάρη 1 Αθήνα Athens 106 74 Greece;X-APPLE-RADIUS=500;X-TITLE=Κουμπάρη 1:geo:23.740467454506,37.976112658748
END:VEVENT
END:VCALENDAR