BEGIN:VCALENDAR
VERSION:2.0
PRODID:-//Το Φεστιβάλ του Δήμου Αθηναίων - ECPv6.12.0.1//NONSGML v1.0//EN
CALSCALE:GREGORIAN
METHOD:PUBLISH
X-ORIGINAL-URL:https://cityfestival.thisisathens.org
X-WR-CALDESC:Events for Το Φεστιβάλ του Δήμου Αθηναίων
REFRESH-INTERVAL;VALUE=DURATION:PT1H
X-Robots-Tag:noindex
X-PUBLISHED-TTL:PT1H
BEGIN:VTIMEZONE
TZID:Europe/Athens
BEGIN:DAYLIGHT
TZOFFSETFROM:+0200
TZOFFSETTO:+0300
TZNAME:EEST
DTSTART:20250330T010000
END:DAYLIGHT
BEGIN:STANDARD
TZOFFSETFROM:+0300
TZOFFSETTO:+0200
TZNAME:EET
DTSTART:20251026T010000
END:STANDARD
END:VTIMEZONE
BEGIN:VEVENT
DTSTART;TZID=Europe/Athens:20250530T200000
DTEND;TZID=Europe/Athens:20250530T230000
DTSTAMP:20260421T231938
CREATED:20250518T100923Z
LAST-MODIFIED:20250518T101839Z
UID:10003999-1748635200-1748646000@cityfestival.thisisathens.org
SUMMARY:Food and Wine Experience - Nyn Esti - ΕΜΣΤ
DESCRIPTION:Το Εθνικό Μουσείο Σύγχρονης Τέχνης (ΕΜΣΤ) συμμετέχει και φέτος στο Φεστιβάλ του Δήμου Αθηναίων\, τη μεγάλη γιορτή της πόλης με μία εκδήλωση υψηλής γαστρονομίας που διοργανώνει το Wine Style στο NYN ESTI\, ένα πρωτοποριακό εστιατόριο που βρίσκεται στον τελευταίο όροφο του ΕΜΣΤ\n\nΈνα μενού 6 συνδυασμών με θέμα την Άνοιξη και την υπογραφή του Chef Σταμάτη Μισομικέ (StamHalfmike). Ένας συνδυασμός γεύσεων που βασίζεται στην ελληνική γαστρονομική παράδοση χρησιμοποιώντας σύγχρονες τεχνικές και βιώσιμες πρακτικές\n\nΤο κάθε πιάτο συνοδεύεται από ένα διαφορετικό κρασί Oenops Wines\, ένα οινοποιείο που εκφράζει τη νέα γενιά των Ελληνικών Κρασιών που χαρακτηρίζονται από φινέτσα\, δύναμη\, καθαρότητα αρωμάτων και πολυπλοκότητα.\n\nΣυμμετοχή : 65 ευρώ/άτομο (στη τιμή συμπεριλαμβάνονται τα Oenops Wines)\n\nΚρατήσεις: στο τηλέφωνο +30 698 943 88 66(Περιορισμένος αριθμός θέσεων)\n\n \n\nWELCOME BITES\nΡοδίτικη λαδόπιτα – χέλι καπνιστό – χωριάτικη σαλάτα\n& Μαγιάτικο μαρινάτο – ρόδι – ζωμός σελινόριζα\nAPLA Λευκό 2024\, Oenops Wines (Μαλαγουζιά\, Βιδιανό\, Ασύρτικο)\n\nMENU\nΣαλάτα κολοκυθοανθού – βινεγκρετ ιπποφαές – χαμομήλι\nVindiano 2023\, Oenops Wines\n\nΜοσχαρίσιο ταρταρ – «κοτόπουλο τους δάσους» – χώμα καψαλισμένου ψωμιού\nAPLA Rose 2024\, Oenops Wines (Ξινόμαυρο\,Μαυρούδι\, Λημνιώνα)\n\nΣουπιόρυζο – καιμάκι – μαραθος\nLimniona 2021\, Oenops Wines\n\nΜαύρος χοίρος – μουστοπιπεριά – πράσο\nXinomavro 2023\,  Oenops Wines\n\nΣορμπέ πεπόνι – φράουλα\nΑνοιξιάτικα λουλούδια\, γιαούρτι – κερασι – θυμάρι – κουφοξυλιά\n\n 
URL:https://cityfestival.thisisathens.org/event/food-and-wine-experience-nyn-esti-%ce%b5%ce%bc%cf%83%cf%84/
LOCATION:Nyn Esti\, Nyn Esti\, ΑΘΗΝΑ\, Greece\, 11743\, Greece
CATEGORIES:ΓΑΣΤΡΟΝΟΜΙΑ
ATTACH;FMTTYPE=image/jpeg:https://cityfestival.thisisathens.org/wp-content/uploads/2025/04/newmoney-post.jpg
END:VEVENT
END:VCALENDAR