BEGIN:VCALENDAR
VERSION:2.0
PRODID:-//Το Φεστιβάλ του Δήμου Αθηναίων - ECPv6.12.0.1//NONSGML v1.0//EN
CALSCALE:GREGORIAN
METHOD:PUBLISH
X-ORIGINAL-URL:https://cityfestival.thisisathens.org
X-WR-CALDESC:Events for Το Φεστιβάλ του Δήμου Αθηναίων
REFRESH-INTERVAL;VALUE=DURATION:PT1H
X-Robots-Tag:noindex
X-PUBLISHED-TTL:PT1H
BEGIN:VTIMEZONE
TZID:Europe/Athens
BEGIN:DAYLIGHT
TZOFFSETFROM:+0200
TZOFFSETTO:+0300
TZNAME:EEST
DTSTART:20260329T010000
END:DAYLIGHT
BEGIN:STANDARD
TZOFFSETFROM:+0300
TZOFFSETTO:+0200
TZNAME:EET
DTSTART:20261025T010000
END:STANDARD
END:VTIMEZONE
BEGIN:VEVENT
DTSTART;TZID=Europe/Athens:20260510T113000
DTEND;TZID=Europe/Athens:20260510T163000
DTSTAMP:20260422T010124
CREATED:20260421T105948Z
LAST-MODIFIED:20260421T105948Z
UID:10004159-1778412600-1778430600@cityfestival.thisisathens.org
SUMMARY:Από την Τυφλίδα στην Αθήνα
DESCRIPTION:Το Φεστιβάλ του Δήμου Αθηναίων και η Πρεσβεία της Γεωργίας στην Ελλάδα διοργανώνουν μια μοναδική γιορτή στο κέντρο της Αθήνας\, η οποία θα μας επιτρέψει να «ταξιδέψουμε» στη Γεωργία\, μία χώρα γεμάτη μουσική\, τέχνη και παράδοση. Από τους μαγευτικούς ήχους των πολυφωνικών τραγουδιών έως τις εκφραστικές\, γεμάτες χάρη κινήσεις των παραδοσιακών χορών\, κάθε στιγμή υπόσχεται να μας φέρει πιο κοντά στο αυθεντικό πνεύμα του Καυκάσου.\n\nΟι επισκέπτες θα έχουν την ευκαιρία να γνωρίσουν τις ξεχωριστές γεύσεις και τα φημισμένα κρασιά της Γεωργίας μέσα από μια εκδήλωση γευσιγνωσίας\, ενώ η έκθεση σύγχρονων Γεωργιανών ζωγράφων θα αναδείξει τη ζωντάνια\, τη δημιουργικότητα και τη βαθιά καλλιτεχνική κληρονομιά της χώρας.\n\nΠρόκειται για μια γιορτή ανοιχτή σε όλους\, με ειδικά διαμορφωμένες δράσεις και παραστάσεις για μικρούς και μεγάλους\, που μας προσκαλεί να αισθανθούμε τη ζεστασιά\, τη φιλοξενία και τη δημιουργική ενέργεια της γεωργιανής κουλτούρας.
URL:https://cityfestival.thisisathens.org/event/apo-tiflida-athina/
LOCATION:Πλατεία Κλαυθμώνος\, Πλατεία Κλαυθμώνος\, Αθήνα\, Αθήνα\, 105 61\, Greece
CATEGORIES:ΓΑΣΤΡΟΝΟΜΙΑ,ΔΩΡΕΑΝ,ΕΚΘΕΣΗ,ΥΠΑΙΘΡΙΑ ΔΡΑΣΗ,ΧΟΡΟΣ,ΨΥΧΑΓΩΓΙΑ
ATTACH;FMTTYPE=image/png:https://cityfestival.thisisathens.org/wp-content/uploads/2026/03/Screenshot-2026-04-09-115236.png
END:VEVENT
BEGIN:VEVENT
DTSTART;TZID=Europe/Athens:20260510T120000
DTEND;TZID=Europe/Athens:20260510T233000
DTSTAMP:20260422T010124
CREATED:20260408T122650Z
LAST-MODIFIED:20260408T123607Z
UID:10005226-1778414400-1778455800@cityfestival.thisisathens.org
SUMMARY:World of Beer Festival 2026
DESCRIPTION:Το Φεστιβάλ του Δήμου Αθηναίων 2026 συναντά το World of Beer Festival για ένα μοναδικό τριήμερο αφιερωμένο σε όσους αγαπούν την καλή μπίρα\, το φαγητό και τη μουσική. Από τις 8 έως τις 10 Μαΐου\, στην Τεχνόπολη του Δήμου Αθηναίων θα συγκεντρωθούν πάνω από 300 beer brands από την Ελλάδα και το εξωτερικό: από κλασικές lager και weiss μέχρι πρωτότυπες craft μπίρες με μαστίχα ή λεβάντα.\n\nΣτα Beer Talks & Tastings\, οι ειδικοί θα αποκαλύψουν τα μυστικά του τέλειου pairing\, ενώ η εμπειρία θα απογειωθεί με λαχταριστό street food και ένα εκρηκτικό line-up 9 διαφορετικών συναυλιών: από το rock των Magic de Spell και του Διονύση Τσακνή μέχρι τα παραδοσιακά ικαριώτικα γλέντια του Νίκου Φάκαρου.\n\nΤο γέλιο έχει την τιμητική του με κορυφαία stand-up shows από τους Βαγγέλη Χαρισόπουλο\, Δήμητρα Νικητέα και άλλους αγαπημένους κωμικούς. Με games area\, τα Greek Beer Awards 2026 και μια ατμόσφαιρα γεμάτη ενέργεια\, το World of Beer γίνεται το απόλυτο σημείο συνάντησης της πόλης.\n\nΚλείστε το εισιτήριό σας και ετοιμαστείτε για ένα τριήμερο που τα έχει όλα\, απολαμβάνοντας πάντα υπεύθυνα!
URL:https://cityfestival.thisisathens.org/event/world-of-beer-festival-2026/2026-05-10/
LOCATION:Τεχνόπολη Δήμου Αθηναίων\, Πειραιώς 100\, Αθήνα\, Αθήνα\, 118 54\, Greece
CATEGORIES:DJ SET,ΓΑΣΤΡΟΝΟΜΙΑ,ΣΥΝΑΥΛΙΑ,ΨΥΧΑΓΩΓΙΑ
ATTACH;FMTTYPE=image/jpeg:https://cityfestival.thisisathens.org/wp-content/uploads/2026/04/DJI_20250510203440_0199_D-scaled.jpg
END:VEVENT
BEGIN:VEVENT
DTSTART;TZID=Europe/Athens:20260517T180000
DTEND;TZID=Europe/Athens:20260517T230000
DTSTAMP:20260422T010124
CREATED:20260401T084026Z
LAST-MODIFIED:20260406T085042Z
UID:10004306-1779040800-1779058800@cityfestival.thisisathens.org
SUMMARY:Athens Cocktails στο Ιαπωνικό Πάρκο
DESCRIPTION:Το Athens Cocktails επιστρέφει στο Φεστιβάλ του Δήμου Αθηναίων\, φέρνοντας μαζί του όλα εκείνα που το έχουν καθιερώσει ως ένα από τα πιο αγαπημένα highlights των αθηναϊκών απογευμάτων: κορυφαίες δημιουργίες\, ιδιαίτερες γεύσεις και μουσική που ανεβάζει τη διάθεση από το πρώτο λεπτό. Αυτή τη φορά\, η διοργάνωση καταλαμβάνει έναν από τους πιο ιδιαίτερους και ατμοσφαιρικούς χώρους της πόλης\, το Ιαπωνικό Πάρκο\, δημιουργώντας ένα σκηνικό που μοιάζει να σε μεταφέρει αλλού\, ενώ βρίσκεσαι ακόμη στην καρδιά της Αθήνας. Μέσα στην εξωτική αύρα του κήπου\, κορυφαίοι mixologists παρουσιάζουν signature cocktails που μετατρέπουν το ποτό σε αφορμή για συνάντηση\, χαλάρωση και γιορτή. Η μουσική δίνει τον ρυθμό\, το ηλιοβασίλεμα συμπληρώνει το σκηνικό και η βραδιά αποκτά μια αβίαστη κοσμοπολίτικη αίσθηση. Μια ανοιξιάτικη έξοδος που συνδυάζει γεύση\, ατμόσφαιρα και αστική φινέτσα\, ιδανική για όσους θέλουν να ανακαλύψουν μια πιο απρόσμενη πλευρά του κέντρου.
URL:https://cityfestival.thisisathens.org/event/athens-cocktails-iaponiko-parko/
LOCATION:Ιαπωνικό Πάρκο Αθήνας\, Νηρηίδων 12\, Αθήνα\, Αθήνα\, 116 34\, Greece
CATEGORIES:DJ SET,ΓΑΣΤΡΟΝΟΜΙΑ,ΥΠΑΙΘΡΙΑ ΔΡΑΣΗ
ATTACH;FMTTYPE=image/jpeg:https://cityfestival.thisisathens.org/wp-content/uploads/2026/03/IMG_9363-scaled.jpg
END:VEVENT
BEGIN:VEVENT
DTSTART;TZID=Europe/Athens:20260520T090000
DTEND;TZID=Europe/Athens:20260521T230000
DTSTAMP:20260422T010124
CREATED:20260331T130426Z
LAST-MODIFIED:20260331T130438Z
UID:10005005-1779267600-1779404400@cityfestival.thisisathens.org
SUMMARY:Αλγερινές Πολιτιστικές Μέρες
DESCRIPTION:Στις 20 και 21 Μαΐου\, η Πλατεία Κλαυθμώνος μετατρέπεται σε ένα πολύχρωμο σταυροδρόμι πολιτισμού\, καθώς η Πρεσβεία της Αλγερίας και το Φεστιβάλ του Δήμου Αθηναίων μας προσκαλούν να γνωρίσουμε από κοντά τον πλούτο της μεγαλύτερης χώρας της Αφρικής. Για δύο ημέρες\, το κέντρο της Αθήνας γεμίζει εικόνες\, αρώματα\, ήχους και ιστορίες που αποκαλύπτουν μια παράδοση βαθιά\, σύνθετη και εξαιρετικά ζωντανή. Οι επισκέπτες θα έχουν την ευκαιρία να περιηγηθούν σε μια εντυπωσιακή πολιτιστική παρουσίαση με αυθεντικές χειροτεχνίες\, βερβέρικα κοσμήματα\, παραδοσιακές ενδυμασίες και γεύσεις της αλγερινής κουζίνας\, όπου τα μπαχαρικά και τα τοπικά προϊόντα παίζουν πρωταγωνιστικό ρόλο. Το διήμερο συμπληρώνεται από χορούς\, τραγούδια και δράσεις που αναδεικνύουν τη σύγχρονη δυναμική της χώρας\, αλλά και από την πλατφόρμα «Σπουδές στην Αλγερία»\, που ανοίγει ένα πεδίο διαλόγου γύρω από την εκπαίδευση και την έρευνα. Μια ανοιχτή πρόσκληση να γνωρίσουμε την Αλγερία μέσα από τη φιλοξενία\, τη μουσική και τη ζωντανή της παράδοση.
URL:https://cityfestival.thisisathens.org/event/algerines-politistikes-meres/2026-05-20/
LOCATION:Πλατεία Κλαυθμώνος\, Πλατεία Κλαυθμώνος\, Αθήνα\, Αθήνα\, 105 61\, Greece
CATEGORIES:ΓΑΣΤΡΟΝΟΜΙΑ,ΔΩΡΕΑΝ,ΕΚΘΕΣΗ,ΥΠΑΙΘΡΙΑ ΔΡΑΣΗ
ATTACH;FMTTYPE=image/jpeg:https://cityfestival.thisisathens.org/wp-content/uploads/2025/05/1000020509.jpg
END:VEVENT
BEGIN:VEVENT
DTSTART;TZID=Europe/Athens:20260521T080000
DTEND;TZID=Europe/Athens:20260521T170000
DTSTAMP:20260422T010124
CREATED:20260331T130426Z
LAST-MODIFIED:20260331T130438Z
UID:10004329-1779350400-1779382800@cityfestival.thisisathens.org
SUMMARY:Αλγερινές Πολιτιστικές Μέρες
DESCRIPTION:Στις 20 και 21 Μαΐου\, η Πλατεία Κλαυθμώνος μετατρέπεται σε ένα πολύχρωμο σταυροδρόμι πολιτισμού\, καθώς η Πρεσβεία της Αλγερίας και το Φεστιβάλ του Δήμου Αθηναίων μας προσκαλούν να γνωρίσουμε από κοντά τον πλούτο της μεγαλύτερης χώρας της Αφρικής. Για δύο ημέρες\, το κέντρο της Αθήνας γεμίζει εικόνες\, αρώματα\, ήχους και ιστορίες που αποκαλύπτουν μια παράδοση βαθιά\, σύνθετη και εξαιρετικά ζωντανή. Οι επισκέπτες θα έχουν την ευκαιρία να περιηγηθούν σε μια εντυπωσιακή πολιτιστική παρουσίαση με αυθεντικές χειροτεχνίες\, βερβέρικα κοσμήματα\, παραδοσιακές ενδυμασίες και γεύσεις της αλγερινής κουζίνας\, όπου τα μπαχαρικά και τα τοπικά προϊόντα παίζουν πρωταγωνιστικό ρόλο. Το διήμερο συμπληρώνεται από χορούς\, τραγούδια και δράσεις που αναδεικνύουν τη σύγχρονη δυναμική της χώρας\, αλλά και από την πλατφόρμα «Σπουδές στην Αλγερία»\, που ανοίγει ένα πεδίο διαλόγου γύρω από την εκπαίδευση και την έρευνα. Μια ανοιχτή πρόσκληση να γνωρίσουμε την Αλγερία μέσα από τη φιλοξενία\, τη μουσική και τη ζωντανή της παράδοση.
URL:https://cityfestival.thisisathens.org/event/algerines-politistikes-meres/2026-05-21/
LOCATION:Πλατεία Κλαυθμώνος\, Πλατεία Κλαυθμώνος\, Αθήνα\, Αθήνα\, 105 61\, Greece
CATEGORIES:ΓΑΣΤΡΟΝΟΜΙΑ,ΔΩΡΕΑΝ,ΕΚΘΕΣΗ,ΥΠΑΙΘΡΙΑ ΔΡΑΣΗ
ATTACH;FMTTYPE=image/jpeg:https://cityfestival.thisisathens.org/wp-content/uploads/2025/05/1000020509.jpg
END:VEVENT
END:VCALENDAR