BEGIN:VCALENDAR
VERSION:2.0
PRODID:-//Το Φεστιβάλ του Δήμου Αθηναίων - ECPv6.12.0.1//NONSGML v1.0//EN
CALSCALE:GREGORIAN
METHOD:PUBLISH
X-ORIGINAL-URL:https://cityfestival.thisisathens.org
X-WR-CALDESC:Events for Το Φεστιβάλ του Δήμου Αθηναίων
REFRESH-INTERVAL;VALUE=DURATION:PT1H
X-Robots-Tag:noindex
X-PUBLISHED-TTL:PT1H
BEGIN:VTIMEZONE
TZID:Europe/Athens
BEGIN:DAYLIGHT
TZOFFSETFROM:+0200
TZOFFSETTO:+0300
TZNAME:EEST
DTSTART:20260329T010000
END:DAYLIGHT
BEGIN:STANDARD
TZOFFSETFROM:+0300
TZOFFSETTO:+0200
TZNAME:EET
DTSTART:20261025T010000
END:STANDARD
END:VTIMEZONE
BEGIN:VEVENT
DTSTART;TZID=Europe/Athens:20260503T100000
DTEND;TZID=Europe/Athens:20260503T160000
DTSTAMP:20260421T083346
CREATED:20260402T123222Z
LAST-MODIFIED:20260407T093609Z
UID:10005073-1777802400-1777824000@cityfestival.thisisathens.org
SUMMARY:Νικόλας Κληρονόμος: Αναδρομή 1985-2025
DESCRIPTION:Η μεγάλη αναδρομική έκθεση του Νικόλα Κληρονόμου μας προσκαλεί να ανακαλύψουμε την πολυετή διαδρομή ενός δημιουργού που κινείται με μοναδική ευχέρεια ανάμεσα στη ζωγραφική και τη σκηνογραφία. Ο καλλιτέχνης λειτουργεί σαν «σκηνοθέτης» του καμβά: δεν αποτυπώνει απλώς εικόνες\, αλλά τις μεταπλάθει μέσα από τη μνήμη\, το συναίσθημα και την προσωπική του εμπειρία. Στα έργα του\, η καθημερινότητα συναντά το όνειρο και οι εποχές μοιάζουν να μπλέκονται με μικρές\, απρόσμενες στιγμές της ζωής. Με έντονα χρώματα και ιδιαίτερα υλικά\, δημιουργεί συνθέσεις που μοιάζουν να βρίσκονται σε διαρκή κίνηση\, προσφέροντας μια βαθιά ποιητική ματιά στον κόσμο που μας περιβάλλει. Μια έκθεση που μιλά κατευθείαν στη μνήμη και το συναίσθημα\, και μια σπάνια ευκαιρία να γνωρίσουμε το έργο ενός δημιουργού που καταφέρνει να δίνει μνημειακή διάσταση στο εφήμερο. Μην χάσετε την ευκαιρία να συμμετάσχετε και σε μία από τις προγραμματισμένες ξεναγήσεις για μια πιο διεισδυτική προσέγγιση στο έργο του.\n\nΏρες λειτουργίας: Τρίτη – Σάββατο: 11:00 - 19:00 & Κυριακή: 10:00 - 16:00\, Δευτέρα: κλειστά.
URL:https://cityfestival.thisisathens.org/event/nikolas-klironomos-anadromi-1985-2025/2026-05-03/
LOCATION:Πινακοθήκη Δήμου Αθηναίων\, Municipal Gallery of Athens\, Αθήνα\, Αθήνα\, 104 36\, Greece
CATEGORIES:ΓΚΑΛΕΡΙ,ΔΩΡΕΑΝ,ΕΚΘΕΣΗ
ATTACH;FMTTYPE=image/jpeg:https://cityfestival.thisisathens.org/wp-content/uploads/2026/04/5.-Η-Ακρόπολη-από-τον-Λυκαβηττό-ιδιωτ.-συλλογή-ακρυλικά-σε-καμβά-120Χ110εκ.jpg
END:VEVENT
BEGIN:VEVENT
DTSTART;TZID=Europe/Athens:20260503T100000
DTEND;TZID=Europe/Athens:20260503T160000
DTSTAMP:20260421T083346
CREATED:20260408T125056Z
LAST-MODIFIED:20260408T125353Z
UID:10005232-1777802400-1777824000@cityfestival.thisisathens.org
SUMMARY:Γιώργος Τσεριώνης: AFTER
DESCRIPTION:Ο Γιώργος Τσεριώνης\, μέσα από τα έργα του\, αποτυπώνει τον κύκλο ζωής του homo urbanus\, χρησιμοποιώντας ετερόκλητα υλικά όπως πηλό\, μάρμαρο\, μέταλλο και latex. Ο καλλιτέχνης δημιουργεί μια σύγχρονη «αρχαιολογία» από ερείπια\, σκελετούς κτιρίων και απορρίμματα\, αναδεικνύοντας τον καθημερινό αγώνα για επιβίωση και την αέναη αναζήτηση μιας καλύτερης ζωής.\nΜέσα στο ιστορικό νεοκλασικό κτίριο του Μεταξουργείου\, το έργο του λειτουργεί ως ένα memento mori που\, αν και υπογραμμίζει την ανθρώπινη ευθραυστότητα\, δεν στερείται ελπίδας.\n\nΑντιπαραβάλλοντας το σκοτάδι με το φως και το κίτρινο του κινδύνου με τις γήινες αποχρώσεις\, ο δημιουργός μας οδηγεί κάτω από την επιφάνεια των πραγμάτων\, προσφέροντας μια ματιά γεμάτη συμπόνοια για τα δεινά του σύγχρονου ανθρώπου και κλείνοντας το μάτι στο μέλλον με τη δική του εκδοχή του «έζησαν αυτοί καλά και εμείς καλύτερα».\n\n\nΏρες Λειτουργίας: Τρίτη – Σάββατο: 11:00 – 19:00 & Κυριακή: 10:00 – 16:00\, Δευτέρα: κλειστά
URL:https://cityfestival.thisisathens.org/event/giorgos-tserionis-after/2026-05-03/
LOCATION:Πινακοθήκη Δήμου Αθηναίων\, Municipal Gallery of Athens\, Αθήνα\, Αθήνα\, 104 36\, Greece
CATEGORIES:ΓΚΑΛΕΡΙ,ΔΩΡΕΑΝ,ΕΚΘΕΣΗ
ATTACH;FMTTYPE=image/jpeg:https://cityfestival.thisisathens.org/wp-content/uploads/2026/04/3-TSERIONIS-1-1.jpg
END:VEVENT
BEGIN:VEVENT
DTSTART;TZID=Europe/Athens:20260503T120000
DTEND;TZID=Europe/Athens:20260503T180000
DTSTAMP:20260421T083346
CREATED:20260331T121739Z
LAST-MODIFIED:20260407T093952Z
UID:10004391-1777809600-1777831200@cityfestival.thisisathens.org
SUMMARY:Inna Orlik: Μόνιμη Έκθεση
DESCRIPTION:Η Orlik Gallery υποδέχεται το κοινό του Φεστιβάλ του Δήμου Αθηναίων σε μια ξεχωριστή συνάντηση με το εικαστικό σύμπαν της Inna Orlik. Η έκθεση φέρνει στο προσκήνιο έναν κόσμο όπου η σύγχρονη ζωγραφική συνομιλεί με τη μυθολογία\, τη φύση και την ανθρώπινη εμπειρία\, δημιουργώντας ένα περιβάλλον πλούσιο σε συμβολισμούς και ερμηνευτικά επίπεδα.\n\nΜε έντονα χρώματα\, σύνθετες υφές και μια ιδιαίτερη ζωγραφική γλώσσα\, τα έργα της Orlik κινούνται ανάμεσα στο ορατό και το υπαινικτικό\, το προσωπικό και το συλλογικό. Η καλλιτέχνις μετατρέπει τον καμβά σε χώρο αφήγησης και αναζήτησης\, προσκαλώντας τον θεατή να ανακαλύψει μορφές\, σύμβολα και υπόγειες συνδέσεις. Μια έκθεση που απευθύνεται σε όσους αναζητούν στη σύγχρονη τέχνη όχι μόνο αισθητική ένταση\, αλλά και ουσιαστικό βάθος.\n\nΏρες λειτουργίας: Καθημερινά: 12:00 – 18:00
URL:https://cityfestival.thisisathens.org/event/inna-orlik-monimi-ekthesi/2026-05-03/
LOCATION:Γκαλερί Orlik\, Παλαιολόγου Μπενιζέλου 3\, Αθήνα\, 105 56\, Greece
CATEGORIES:ΓΚΑΛΕΡΙ,ΔΩΡΕΑΝ,ΕΚΘΕΣΗ
ATTACH;FMTTYPE=image/jpeg:https://cityfestival.thisisathens.org/wp-content/uploads/2026/03/1K9A0075-HDR-scaled.jpg
GEO:37.974622591545;23.729274295913
X-APPLE-STRUCTURED-LOCATION;VALUE=URI;X-ADDRESS=Γκαλερί Orlik Παλαιολόγου Μπενιζέλου 3 Αθήνα 105 56 Greece;X-APPLE-RADIUS=500;X-TITLE=Παλαιολόγου Μπενιζέλου 3:geo:23.729274295913,37.974622591545
END:VEVENT
END:VCALENDAR