BEGIN:VCALENDAR
VERSION:2.0
PRODID:-//Το Φεστιβάλ του Δήμου Αθηναίων - ECPv6.12.0.1//NONSGML v1.0//EN
CALSCALE:GREGORIAN
METHOD:PUBLISH
X-WR-CALNAME:Το Φεστιβάλ του Δήμου Αθηναίων
X-ORIGINAL-URL:https://cityfestival.thisisathens.org
X-WR-CALDESC:Events for Το Φεστιβάλ του Δήμου Αθηναίων
REFRESH-INTERVAL;VALUE=DURATION:PT1H
X-Robots-Tag:noindex
X-PUBLISHED-TTL:PT1H
BEGIN:VTIMEZONE
TZID:Europe/Athens
BEGIN:DAYLIGHT
TZOFFSETFROM:+0200
TZOFFSETTO:+0300
TZNAME:EEST
DTSTART:20260329T010000
END:DAYLIGHT
BEGIN:STANDARD
TZOFFSETFROM:+0300
TZOFFSETTO:+0200
TZNAME:EET
DTSTART:20261025T010000
END:STANDARD
END:VTIMEZONE
BEGIN:VEVENT
DTSTART;TZID=Europe/Athens:20260504T120000
DTEND;TZID=Europe/Athens:20260504T180000
DTSTAMP:20260421T083252
CREATED:20260331T121739Z
LAST-MODIFIED:20260407T093952Z
UID:10004392-1777896000-1777917600@cityfestival.thisisathens.org
SUMMARY:Inna Orlik: Μόνιμη Έκθεση
DESCRIPTION:Η Orlik Gallery υποδέχεται το κοινό του Φεστιβάλ του Δήμου Αθηναίων σε μια ξεχωριστή συνάντηση με το εικαστικό σύμπαν της Inna Orlik. Η έκθεση φέρνει στο προσκήνιο έναν κόσμο όπου η σύγχρονη ζωγραφική συνομιλεί με τη μυθολογία\, τη φύση και την ανθρώπινη εμπειρία\, δημιουργώντας ένα περιβάλλον πλούσιο σε συμβολισμούς και ερμηνευτικά επίπεδα.\n\nΜε έντονα χρώματα\, σύνθετες υφές και μια ιδιαίτερη ζωγραφική γλώσσα\, τα έργα της Orlik κινούνται ανάμεσα στο ορατό και το υπαινικτικό\, το προσωπικό και το συλλογικό. Η καλλιτέχνις μετατρέπει τον καμβά σε χώρο αφήγησης και αναζήτησης\, προσκαλώντας τον θεατή να ανακαλύψει μορφές\, σύμβολα και υπόγειες συνδέσεις. Μια έκθεση που απευθύνεται σε όσους αναζητούν στη σύγχρονη τέχνη όχι μόνο αισθητική ένταση\, αλλά και ουσιαστικό βάθος.\n\nΏρες λειτουργίας: Καθημερινά: 12:00 – 18:00
URL:https://cityfestival.thisisathens.org/event/inna-orlik-monimi-ekthesi/2026-05-04/
LOCATION:Γκαλερί Orlik\, Παλαιολόγου Μπενιζέλου 3\, Αθήνα\, 105 56\, Greece
CATEGORIES:ΓΚΑΛΕΡΙ,ΔΩΡΕΑΝ,ΕΚΘΕΣΗ
ATTACH;FMTTYPE=image/jpeg:https://cityfestival.thisisathens.org/wp-content/uploads/2026/03/1K9A0075-HDR-scaled.jpg
GEO:37.974622591545;23.729274295913
X-APPLE-STRUCTURED-LOCATION;VALUE=URI;X-ADDRESS=Γκαλερί Orlik Παλαιολόγου Μπενιζέλου 3 Αθήνα 105 56 Greece;X-APPLE-RADIUS=500;X-TITLE=Παλαιολόγου Μπενιζέλου 3:geo:23.729274295913,37.974622591545
END:VEVENT
END:VCALENDAR