BEGIN:VCALENDAR
VERSION:2.0
PRODID:-//Το Φεστιβάλ του Δήμου Αθηναίων - ECPv6.12.0.1//NONSGML v1.0//EN
CALSCALE:GREGORIAN
METHOD:PUBLISH
X-WR-CALNAME:Το Φεστιβάλ του Δήμου Αθηναίων
X-ORIGINAL-URL:https://cityfestival.thisisathens.org
X-WR-CALDESC:Events for Το Φεστιβάλ του Δήμου Αθηναίων
REFRESH-INTERVAL;VALUE=DURATION:PT1H
X-Robots-Tag:noindex
X-PUBLISHED-TTL:PT1H
BEGIN:VTIMEZONE
TZID:Europe/Athens
BEGIN:DAYLIGHT
TZOFFSETFROM:+0200
TZOFFSETTO:+0300
TZNAME:EEST
DTSTART:20250330T010000
END:DAYLIGHT
BEGIN:STANDARD
TZOFFSETFROM:+0300
TZOFFSETTO:+0200
TZNAME:EET
DTSTART:20251026T010000
END:STANDARD
END:VTIMEZONE
BEGIN:VEVENT
DTSTART;TZID=Europe/Athens:20250921T120000
DTEND;TZID=Europe/Athens:20250921T140000
DTSTAMP:20260421T224112
CREATED:20250908T090915Z
LAST-MODIFIED:20251202T095450Z
UID:10004041-1758456000-1758463200@cityfestival.thisisathens.org
SUMMARY:Παιδικό Εργαστήριο: Αποστολή: Χωρίς Αυτοκίνητο
DESCRIPTION:Μια ηλιακή καταιγίδα πλήττει την πόλη\, θέτοντας όλα τα αυτοκίνητα εκτός λειτουργίας. Το γεγονός προκαλεί διαφορετικές αντιδράσεις: άλλοι το βλέπουν ως ευκαιρία για μείωση της ατμοσφαιρικής ρύπανσης\, ενώ άλλοι δυσανασχετούν με τις δυσκολίες στις μετακινήσεις. Μέσα από ένα διαδραστικό παιδικό εργαστήριο\, παιδιά 8-12 ετών μαθαίνουν ότι η χρήση του αυτοκινήτου στην πόλη δεν είναι μονόδρομος και εξερευνούν εναλλακτικούς τρόπους μετακίνησης.\n\nΦωτογραφία: Βαγγέλης Πατσιάλος\, Τεχνόπολη Δήμου Αθηναίων
URL:https://cityfestival.thisisathens.org/event/paidiko-ergastirio-apostoli-xwris-autokinito/
LOCATION:Αθηνάς\, Αθηνάς\, Αθήνα\, Αθήνα\, 105 52\, Greece
CATEGORIES:ΔΩΡΕΑΝ,ΕΡΓΑΣΤΗΡΙΑ,ΠΑΙΔΙ,ΥΠΑΙΘΡΙΑ ΔΡΑΣΗ,ΨΥΧΑΓΩΓΙΑ
ATTACH;FMTTYPE=image/jpeg:https://cityfestival.thisisathens.org/wp-content/uploads/2025/09/481698353_626693796778720_5200131355090414603_n.jpg
END:VEVENT
END:VCALENDAR