BEGIN:VCALENDAR
VERSION:2.0
PRODID:-//Το Φεστιβάλ του Δήμου Αθηναίων - ECPv6.12.0.1//NONSGML v1.0//EN
CALSCALE:GREGORIAN
METHOD:PUBLISH
X-WR-CALNAME:Το Φεστιβάλ του Δήμου Αθηναίων
X-ORIGINAL-URL:https://cityfestival.thisisathens.org
X-WR-CALDESC:Events for Το Φεστιβάλ του Δήμου Αθηναίων
REFRESH-INTERVAL;VALUE=DURATION:PT1H
X-Robots-Tag:noindex
X-PUBLISHED-TTL:PT1H
BEGIN:VTIMEZONE
TZID:Europe/Athens
BEGIN:DAYLIGHT
TZOFFSETFROM:+0200
TZOFFSETTO:+0300
TZNAME:EEST
DTSTART:20260329T010000
END:DAYLIGHT
BEGIN:STANDARD
TZOFFSETFROM:+0300
TZOFFSETTO:+0200
TZNAME:EET
DTSTART:20261025T010000
END:STANDARD
END:VTIMEZONE
BEGIN:VEVENT
DTSTART;TZID=Europe/Athens:20260507T180000
DTEND;TZID=Europe/Athens:20260507T190000
DTSTAMP:20260421T231928
CREATED:20260421T115138Z
LAST-MODIFIED:20260421T115138Z
UID:10005479-1778176800-1778180400@cityfestival.thisisathens.org
SUMMARY:Ξενάγηση στον Κόσμο της Niki de Saint Phalle
DESCRIPTION:Μέσα από δύο ειδικά οργανωμένες ξεναγήσεις για τους φίλους του Φεστιβάλ του Δήμου Αθηναίων στην έκθεση «Από τις σκοποβολές στην ελευθερία»\, το κοινό έχει την ευκαιρία να βυθιστεί στον επαναστατικό κόσμο μιας από τις πιο ενδιαφέρουσες καλλιτέχνιδες του 20ού αιώνα και να ανακαλύψει πώς η Niki de Saint Phalle μετέτρεψε τον θυμό και τον πόνο σε μια διαρκή γιορτή χρώματος και αναγέννησης. Η έκθεση\, που παρουσιάζεται για πρώτη φορά στην Ελλάδα\, ξετυλίγει την ατρόμητη πορεία της: από τα ανατρεπτικά έργα-δράσεις σκοποβολής Tirs μέχρι τις πληθωρικές και πολύχρωμες Nanas. Μέσα από ζωγραφικά έργα\, κολάζ και γλυπτά\, οι συμμετέχοντες θα έρθουν σε επαφή με μια τέχνη που μοιάζει με παιδικό παιχνίδι\, διατηρώντας όμως όλη τη δύναμη μιας μαχητικής γυναίκας που βρήκε τη λύτρωση μέσα στη δημιουργία. \n\nΟι κρατήσεις ανοίγουν στις 30/04 στο +30 210 321 5717 (Τρίτη-Κυριακή 10:00-18:00\, Πέμπτη 12:00-20:00). Θα τηρηθεί σειρά προτεραιότητας.
URL:https://cityfestival.thisisathens.org/event/ksenagisi-niki-de-saint-phalle/
LOCATION:MOMus-Μουσείο Άλεξ Μυλωνά\, Πλατεία Αγίων Ασωμάτων 5\, Αθήνα\, Αθήνα\, 105 54\, Greece
CATEGORIES:ΔΩΡΕΑΝ,ΕΚΘΕΣΗ,ΜΟΥΣΕΙΟ,ΠΕΡΙΗΓΗΣΗ
ATTACH;FMTTYPE=image/jpeg:https://cityfestival.thisisathens.org/wp-content/uploads/2026/04/momusalexmylona_ndsp_photo-Spyros-Katopodis-201.jpg
END:VEVENT
END:VCALENDAR