BEGIN:VCALENDAR
VERSION:2.0
PRODID:-//Το Φεστιβάλ του Δήμου Αθηναίων - ECPv6.12.0.1//NONSGML v1.0//EN
CALSCALE:GREGORIAN
METHOD:PUBLISH
X-ORIGINAL-URL:https://cityfestival.thisisathens.org
X-WR-CALDESC:Events for Το Φεστιβάλ του Δήμου Αθηναίων
REFRESH-INTERVAL;VALUE=DURATION:PT1H
X-Robots-Tag:noindex
X-PUBLISHED-TTL:PT1H
BEGIN:VTIMEZONE
TZID:Europe/Athens
BEGIN:DAYLIGHT
TZOFFSETFROM:+0200
TZOFFSETTO:+0300
TZNAME:EEST
DTSTART:20260329T010000
END:DAYLIGHT
BEGIN:STANDARD
TZOFFSETFROM:+0300
TZOFFSETTO:+0200
TZNAME:EET
DTSTART:20261025T010000
END:STANDARD
END:VTIMEZONE
BEGIN:VEVENT
DTSTART;TZID=Europe/Athens:20260508T120000
DTEND;TZID=Europe/Athens:20260508T130000
DTSTAMP:20260421T232106
CREATED:20260331T131120Z
LAST-MODIFIED:20260407T124534Z
UID:10004629-1778241600-1778245200@cityfestival.thisisathens.org
SUMMARY:Ξενάγηση στο Μουσείο της Πόλεως των Αθηνών
DESCRIPTION:Το Μουσείο της Πόλεως των Αθηνών – Ίδρυμα Βούρου-Ευταξία υποδέχεται το κοινό του Φεστιβάλ του Δήμου Αθηναίων 2026 σε μια ξεχωριστή ξενάγηση αφιερωμένη στη νεότερη ιστορία της πρωτεύουσας. Η δράση εκτείνεται στα δύο εμβληματικά κτίρια του μουσείου και ξεκινά από το γνωστό «Παλαιό Παλάτι»\, την πρώτη κατοικία του Όθωνα και της Αμαλίας\, έναν χώρο άμεσα συνδεδεμένο με τα πρώτα βήματα της Αθήνας ως σύγχρονης πρωτεύουσας.\n\nΗ επίσκεψη επιτρέπει στο κοινό να δει την πόλη μέσα από τα αντικείμενα και τους χώρους που τη συγκρότησαν. Η περιήγηση συνεχίζεται στο δεύτερο κτίριο του συγκροτήματος\, όπου ζούσε η οικογένεια Δεκόζη Βούρου\, προσφέροντας μια πιο άμεση εικόνα της αστικής ζωής\, της αισθητικής και της καθημερινότητας του 19ου και των αρχών του 20ου αιώνα. Μέσα από τις συλλογές και το ίδιο το αρχιτεκτονικό περιβάλλον\, αναδύεται η διαδρομή μιας πόλης που άλλαζε\, επεκτεινόταν και διαμόρφωνε τη σύγχρονη ταυτότητά της. Μια ξενάγηση που ενώνει την πολιτική και την οικιακή ιστορία της Αθήνας.\n\nΟι κρατήσεις ανοίγουν μία εβδομάδα πριν τη δράση\, στις 12:00 το μεσημέρι.
URL:https://cityfestival.thisisathens.org/event/ksenagisi-mouseio-poleos-athinon/2026-05-08/
LOCATION:Μουσείο της Πόλεως των Αθηνών\, Ιωάννου Παπαρρηγοπούλου 5-7\, Αθήνα\, 105 61\, Greece
CATEGORIES:ΔΩΡΕΑΝ,ΕΚΘΕΣΗ,ΜΟΥΣΕΙΟ,ΠΕΡΙΗΓΗΣΗ
ATTACH;FMTTYPE=image/jpeg:https://cityfestival.thisisathens.org/wp-content/uploads/2026/03/imgi_2_a10-1-scaled-1.jpg
GEO:37.978924087872;23.731570954219
X-APPLE-STRUCTURED-LOCATION;VALUE=URI;X-ADDRESS=Μουσείο της Πόλεως των Αθηνών Ιωάννου Παπαρρηγοπούλου 5-7 Αθήνα 105 61 Greece;X-APPLE-RADIUS=500;X-TITLE=Ιωάννου Παπαρρηγοπούλου 5-7:geo:23.731570954219,37.978924087872
END:VEVENT
BEGIN:VEVENT
DTSTART;TZID=Europe/Athens:20260508T183000
DTEND;TZID=Europe/Athens:20260508T213000
DTSTAMP:20260421T232106
CREATED:20260402T143948Z
LAST-MODIFIED:20260420T131218Z
UID:10004222-1778265000-1778275800@cityfestival.thisisathens.org
SUMMARY:Ιστορικός Περίπατος με τον Δρ. Ιορδάνη Παπαδόπουλο: Μακρυγιάννη
DESCRIPTION:Ο Δρ. Ιορδάνης Παπαδόπουλος μας οδηγεί σε έναν μυσταγωγικό περίπατο στη γειτονιά του Μακρυγιάννη\, ανάμεσα στο αρχαίο κάλλος και τη σύγχρονη αθηναϊκή καθημερινότητα. Ο έμπειρος ακαδημαϊκός και διδάκτωρ Πολιτικής Φιλοσοφίας μας καλεί να αποκωδικοποιήσουμε την αστική μας ταυτότητα\, βλέποντας τη γνώριμη σκιά του Ιερού Βράχου όχι ως απλό σκηνικό\, αλλά ως ζωντανό μάρτυρα μιας πόλης που αρνείται να ξεχάσει. Η διαδρομή ξεκινά από τις σιωπηλές στοές των ρωμαϊκών οικιών και τις ταραγμένες μνήμες των Δεκεμβριανών που «στοίχειωσαν» το παλιό Σύνταγμα Χωροφυλακής.\n\nΠερπατώντας στη Διονυσίου Αρεοπαγίτου\, θα ανακαλύψουμε τον ρόλο των Ξένων Αρχαιολογικών Αποστολών στο Κουκάκι\, ενώ στο Θέατρο του Διονύσου θα συζητήσουμε τη βαθιά σύνδεση ανάμεσα στη Δημοκρατία και το Αρχαίο Δράμα. Η ξενάγηση συνεχίζεται στο Ασκληπιείο και στην πηγή της «Κλεψύθρας»\, για να καταλήξει στον Άρειο Πάγο\, εκεί όπου ο Απόστολος Παύλος κήρυξε μπροστά στον «Βωμό του Αγνώστου Θεού».\n\nΟ Δρ. Παπαδόπουλος συνθέτει τα θραύσματα της ιστορίας\, από την Επανάσταση του ’21 έως τον Εμφύλιο\, και από τον Χρυσό Αιώνα έως τη σύγχρονη Αθήνα\, προσφέροντας μια μοναδική εμπειρία που συνδέει το παρελθόν με το παρόν και τη γνώση με την προσωπική εμπειρία.\n\nΣημείο Συνάντησης: Μετρό Ακροπόλεως\, έξοδος Μακρυγιάννη.\n\nΟι κρατήσεις ανοίγουν μία εβδομάδα πριν τη δράση\, στις 12:00 το μεσημέρι.
URL:https://cityfestival.thisisathens.org/event/istorikos-peripatos-dr-iordanis-papdopoulos-makriyianni/
LOCATION:Σταθμός Μετρό Ακρόπολη\, Μακρυγιάννη 9\, Αθήνα\, Αθήνα\, 117 42\, Greece
CATEGORIES:ΔΩΡΕΑΝ,ΙΣΤΟΡΙΑ,ΠΕΡΙΗΓΗΣΗ,ΥΠΑΙΘΡΙΑ ΔΡΑΣΗ
ATTACH;FMTTYPE=image/png:https://cityfestival.thisisathens.org/wp-content/uploads/2026/04/image-7.png
END:VEVENT
END:VCALENDAR