BEGIN:VCALENDAR
VERSION:2.0
PRODID:-//Το Φεστιβάλ του Δήμου Αθηναίων - ECPv6.12.0.1//NONSGML v1.0//EN
CALSCALE:GREGORIAN
METHOD:PUBLISH
X-ORIGINAL-URL:https://cityfestival.thisisathens.org
X-WR-CALDESC:Events for Το Φεστιβάλ του Δήμου Αθηναίων
REFRESH-INTERVAL;VALUE=DURATION:PT1H
X-Robots-Tag:noindex
X-PUBLISHED-TTL:PT1H
BEGIN:VTIMEZONE
TZID:Europe/Athens
BEGIN:DAYLIGHT
TZOFFSETFROM:+0200
TZOFFSETTO:+0300
TZNAME:EEST
DTSTART:20260329T010000
END:DAYLIGHT
BEGIN:STANDARD
TZOFFSETFROM:+0300
TZOFFSETTO:+0200
TZNAME:EET
DTSTART:20261025T010000
END:STANDARD
END:VTIMEZONE
BEGIN:VEVENT
DTSTART;TZID=Europe/Athens:20260509T110000
DTEND;TZID=Europe/Athens:20260509T120000
DTSTAMP:20260421T232043
CREATED:20260403T104914Z
LAST-MODIFIED:20260407T130157Z
UID:10005161-1778324400-1778328000@cityfestival.thisisathens.org
SUMMARY:Ξενάγηση στο «Σπίτι του Ελύτη»-Μουσείο
DESCRIPTION:Στο πλαίσιο του Φεστιβάλ του Δήμου Αθηναίων 2026\, το κοινό έχει την ευκαιρία να γνωρίσει από κοντά τον προσωπικό και πνευματικό κόσμο του Οδυσσέα Ελύτη μέσα από μια ειδικά σχεδιασμένη ξενάγηση στο «Σπίτι του Ελύτη» – Μουσείο. Η μόνιμη έκθεση ζωντανεύει τη ζωή και το έργο του μεγάλου ποιητή\, μέσα από πολύτιμα χειρόγραφα\, σπάνιες εκδόσεις και εικαστικά έργα που φωτίζουν την πολυδιάστατη δημιουργικότητά του. Ξεχωριστή στιγμή αποτελεί η ανασύσταση του γραφείου του\, του αυθεντικού χώρου όπου εργάστηκε αδιάλειπτα για δεκαετίες. Μια βιωματική περιήγηση στην καρδιά της ελληνικής ποίησης\, που μας φέρνει πιο κοντά στην ατμόσφαιρα όπου γεννήθηκαν έργα παγκόσμιας εμβέλειας. Η συμμετοχή είναι δωρεάν\, με απαραίτητη προεγγραφή λόγω περιορισμένων θέσεων.\n\nΟι κρατήσεις ανοίγουν μία εβδομάδα πριν τη δράση\, στις 12:00 το μεσημέρι.
URL:https://cityfestival.thisisathens.org/event/ksenagisi-spiti-elyti-mouseio/
LOCATION:Σπίτι του Ελύτη – Μουσείο\, Πολυγνώτου 7\, Αθήνα\, Αθήνα\, 105 55\, Greece
CATEGORIES:ΔΩΡΕΑΝ,ΕΚΘΕΣΗ,ΜΟΥΣΕΙΟ,ΠΕΡΙΗΓΗΣΗ
ATTACH;FMTTYPE=image/jpeg:https://cityfestival.thisisathens.org/wp-content/uploads/2026/04/Ξενάγηση-κοινού-1-scaled.jpg
END:VEVENT
BEGIN:VEVENT
DTSTART;TZID=Europe/Athens:20260509T120000
DTEND;TZID=Europe/Athens:20260509T130000
DTSTAMP:20260421T232043
CREATED:20260421T115334Z
LAST-MODIFIED:20260421T115334Z
UID:10005481-1778328000-1778331600@cityfestival.thisisathens.org
SUMMARY:Ξενάγηση στον Κόσμο της Niki de Saint Phalle
DESCRIPTION:Μέσα από δύο ειδικά οργανωμένες ξεναγήσεις για τους φίλους του Φεστιβάλ του Δήμου Αθηναίων στην έκθεση «Από τις σκοποβολές στην ελευθερία»\, το κοινό έχει την ευκαιρία να βυθιστεί στον επαναστατικό κόσμο μιας από τις πιο ενδιαφέρουσες καλλιτέχνιδες του 20ού αιώνα και να ανακαλύψει πώς η Niki de Saint Phalle μετέτρεψε τον θυμό και τον πόνο σε μια διαρκή γιορτή χρώματος και αναγέννησης. Η έκθεση\, που παρουσιάζεται για πρώτη φορά στην Ελλάδα\, ξετυλίγει την ατρόμητη πορεία της: από τα ανατρεπτικά έργα-δράσεις σκοποβολής Tirs μέχρι τις πληθωρικές και πολύχρωμες Nanas. Μέσα από ζωγραφικά έργα\, κολάζ και γλυπτά\, οι συμμετέχοντες θα έρθουν σε επαφή με μια τέχνη που μοιάζει με παιδικό παιχνίδι\, διατηρώντας όμως όλη τη δύναμη μιας μαχητικής γυναίκας που βρήκε τη λύτρωση μέσα στη δημιουργία. \n\nΟι κρατήσεις ανοίγουν στις 30/04 στο +30 210 321 5717 (Τρίτη-Κυριακή 10:00-18:00\, Πέμπτη 12:00-20:00). Θα τηρηθεί σειρά προτεραιότητας.
URL:https://cityfestival.thisisathens.org/event/ksenagisi-niki-de-saint-phalle-2/
LOCATION:MOMus-Μουσείο Άλεξ Μυλωνά\, Πλατεία Αγίων Ασωμάτων 5\, Αθήνα\, Αθήνα\, 105 54\, Greece
CATEGORIES:ΔΩΡΕΑΝ,ΕΚΘΕΣΗ,ΜΟΥΣΕΙΟ,ΠΕΡΙΗΓΗΣΗ
ATTACH;FMTTYPE=image/jpeg:https://cityfestival.thisisathens.org/wp-content/uploads/2026/04/momusalexmylona_ndsp_photo-Spyros-Katopodis-201.jpg
END:VEVENT
BEGIN:VEVENT
DTSTART;TZID=Europe/Athens:20260509T120000
DTEND;TZID=Europe/Athens:20260509T133000
DTSTAMP:20260421T232043
CREATED:20260409T095141Z
LAST-MODIFIED:20260409T095141Z
UID:10004275-1778328000-1778333400@cityfestival.thisisathens.org
SUMMARY:Άγιος Διονύσιος ο Αρεοπαγίτης\, ο Άγιος των Αθηνών: Ξεναγήσεις στους Ναούς του Ι
DESCRIPTION:Το Φεστιβάλ του Δήμου Αθηναίων μας καλεί να ανακαλύψουμε την ιστορία και την αισθητική ενός από τα πιο εμβληματικά μνημεία της πόλης. Με οδηγό την ιστορικό τέχνης Δέσποινα Παρασκευά\, θα περιηγηθούμε στον «Άγιο των Αθηνών»\, τον Άγιο Διονύσιο στην οδό Σκουφά\, εξερευνώντας τη συνάντηση ορισμένων από τους κορυφαίους δημιουργούς της νεότερης Ελλάδας.\n\nΑπό το αρχιτεκτονικό όραμα του Αναστασίου Ορλάνδου περνάμε στην επιβλητική αγιογράφηση του Σπύρου Βασιλείου\, που προσδίδει στον ναό τη μοναδική του ατμόσφαιρα. Θα θαυμάσουμε από κοντά τα ξυλόγλυπτα του Θεοφάνη Νομικού και τα περίτεχνα ψηφιδωτά\, καρπό της συνεργασίας του Φώτη Κόντογλου με τον Στέφανο Ξενόπουλο. Μια ξενάγηση που αποκαλύπτει πώς η παράδοση συνομιλεί με τη νεότερη καλλιτεχνική δημιουργία στην καρδιά του Κολωνακίου.\n\nΤο πρόγραμμα αποκτά το δικό του soundtrack\, καθώς θα έχουμε την ευκαιρία να ακούσουμε ζωντανά δείγματα βυζαντινής ψαλμωδίας\, δημιουργώντας μια μοναδική ατμόσφαιρα απόλυτης κατάνυξης και μυσταγωγίας.\n\nΜην χάσετε και την ξενάγηση στον Καθολικό Ναό που δημιουργεί έναν καλλιτεχνικό διάλογο ανάμεσα σε δύο δόγματα και δύο διαφορετικές εκφάνσεις της νεότερης ελληνικής δημιουργίας\, στην καρδιά του αστικού ιστού.\n\nΣημείο συνάντησης: Είσοδος Ιερού Ναού
URL:https://cityfestival.thisisathens.org/event/agios-dionysios-areopagitis/2026-05-09/
LOCATION:Ιερός Ναός Αγίου Διονυσίου Αρεοπαγίτου\, Σκουφά 34\, Αθήνα\, 106 72\, Greece
CATEGORIES:ΔΩΡΕΑΝ,ΠΕΡΙΗΓΗΣΗ
ATTACH;FMTTYPE=image/jpeg:https://cityfestival.thisisathens.org/wp-content/uploads/2026/03/agios-Dionisios-1.jpg
GEO:37.979752778799;23.738748835044
X-APPLE-STRUCTURED-LOCATION;VALUE=URI;X-ADDRESS=Ιερός Ναός Αγίου Διονυσίου Αρεοπαγίτου Σκουφά 34 Αθήνα 106 72 Greece;X-APPLE-RADIUS=500;X-TITLE=Σκουφά 34:geo:23.738748835044,37.979752778799
END:VEVENT
BEGIN:VEVENT
DTSTART;TZID=Europe/Athens:20260509T133000
DTEND;TZID=Europe/Athens:20260509T173000
DTSTAMP:20260421T232043
CREATED:20260421T092345Z
LAST-MODIFIED:20260421T092345Z
UID:10005468-1778333400-1778347800@cityfestival.thisisathens.org
SUMMARY:Ξεναγήσεις στο Κτίριο του Αρχείου Καβάφη
DESCRIPTION:Το Φεστιβάλ του Δήμου Αθηναίων εγκαινιάζει μια ξεχωριστή συνεργασία με το Ίδρυμα Ωνάση και προσκαλεί το κοινό σε αποκλειστικές ξεναγήσεις στο Αρχείο Καβάφη\, στην οδό Φρυνίχου\, στην καρδιά της Πλάκας. Σε ένα εμβληματικό διατηρητέο κτίριο\, οι επισκέπτες έχουν την ευκαιρία να γνωρίσουν από κοντά τον προσωπικό κόσμο του Κ. Π. Καβάφη\, μέσα από έναν χώρο αφιερωμένο στη ζωή\, το έργο και τη διαχρονική παρουσία του μεγάλου ποιητή. Η εμπειρία αυτή δεν λειτουργεί μόνο ως επίσκεψη σε ένα αρχείο\, αλλά ως μια πραγματική κατάδυση σε έναν λογοτεχνικό και ιστορικό κόσμο. Η περιήγηση περνά από ειδικά διαμορφωμένες αίθουσες με προσωπικά αντικείμενα\, σπάνια βιβλία\, τεκμήρια\, έπιπλα και έργα τέχνης που φωτίζουν τον άνθρωπο πίσω από το έργο. Παράλληλα\, αποκαλύπτονται πτυχές της σχέσης του Καβάφη με την Αθήνα\, αλλά και η διαχρονική απήχηση της ποίησής του στην Ελλάδα και διεθνώς. Μια εμπειρία που συνδυάζει μνήμη\, λογοτεχνία και ιστορία\, προσφέροντας μια πιο ουσιαστική επαφή με μία από τις σημαντικότερες μορφές της νεότερης ποίησης.\n\nΗ ξενάγηση διαρκεί περίπου 40-45’.\n\nΏρες ξεναγήσεων:\n• 13:30\n• 14:30\n• 15:30\n• 16:30\n\nΟι κρατήσεις ανοίγουν μία εβδομάδα πριν τη δράση\, στις 12:00 το μεσημέρι. Επιλέξτε την επιθυμητή ώρα και πραγματοποιήστε την κράτησή σας μέσω του αντίστοιχου συνδέσμου.
URL:https://cityfestival.thisisathens.org/event/ksenagisi-cavafy/
LOCATION:Αρχείο Καβάφη\, Φρυνίχου 16B\, Πλάκα\, 105 58\, Greece
CATEGORIES:ΔΩΡΕΑΝ,ΕΚΘΕΣΗ,ΛΟΓΟΤΕΧΝΙΑ,ΜΟΥΣΕΙΟ,ΠΕΡΙΗΓΗΣΗ
ATTACH;FMTTYPE=image/jpeg:https://cityfestival.thisisathens.org/wp-content/uploads/2026/03/S9A1494_small.jpg
GEO:37.970139361328;23.730618794063
X-APPLE-STRUCTURED-LOCATION;VALUE=URI;X-ADDRESS=Αρχείο Καβάφη Φρυνίχου 16B Πλάκα 105 58 Greece;X-APPLE-RADIUS=500;X-TITLE=Φρυνίχου 16B:geo:23.730618794063,37.970139361328
END:VEVENT
BEGIN:VEVENT
DTSTART;TZID=Europe/Athens:20260509T170000
DTEND;TZID=Europe/Athens:20260509T190000
DTSTAMP:20260421T232043
CREATED:20260421T082303Z
LAST-MODIFIED:20260421T082329Z
UID:10004252-1778346000-1778353200@cityfestival.thisisathens.org
SUMMARY:Α΄ Κοιμητήριο Αθηνών: Μία Υπαίθρια Γλυπτοθήκη 2
DESCRIPTION:Η «Κοιμωμένη» του Γιαννούλη Χαλεπά είναι\, δίχως αμφιβολία\, το πιο εμβληματικό γλυπτό του Α΄ Κοιμητηρίου Αθηνών\, όμως η ομορφιά αυτού του υπαίθριου μουσείου δεν εξαντλείται εκεί.\nΣτο πλαίσιο του Φεστιβάλ του Δήμου Αθηναίων 2026\, ο αρχαιολόγος και διπλωματούχος ξεναγός Μιχάλης Γιοχάλας μας καλεί να αφήσουμε την κεντρική οδό και να ακολουθήσουμε μια εναλλακτική διαδρομή στα ανηφορικά δρομάκια του κοιμητηρίου. Εκεί\, μακριά από τα πολυδιάβατα σημεία\, θα ανακαλύψουμε μια λιγότερο γνωστή αλλά εξίσου συγκλονιστική πλευρά της νεοελληνικής γλυπτικής. Θα συναντήσουμε επιβλητικά μαυσωλεία και μνημεία όπου το μεγαλόστομο πάθος για υστεροφημία συνυπάρχει με τη συντριπτική σιωπή\, σε έναν χώρο όπου οι θνητοί μοιάζουν να συνομιλούν με τους αθάνατους. Μια ξενάγηση που φωτίζει άγνωστα αριστουργήματα και ανθρώπινες ιστορίες\, προσφέροντας μια βαθιά βιωματική ματιά στην καλλιτεχνική και ιστορική κληρονομιά της Αθήνας.\n\nΣημείο Συνάντησης: Κεντρική Είσοδος Α΄ Κοιμητηρίου Αθηνών (τέρμα οδού Αναπαύσεως).\n\nΟι κρατήσεις ανοίγουν μία εβδομάδα πριν τη δράση\, στις 12:00 το μεσημέρι.
URL:https://cityfestival.thisisathens.org/event/proto-koimitirio-athinon-ypaithria-glyptothiki-2-2/
LOCATION:Α’ Κοιμητήριο Αθηνών\, Λογγίνου 3\, Αθήνα\, Αθήνα\, 116 36\, Greece
CATEGORIES:ΔΩΡΕΑΝ,ΠΕΡΙΗΓΗΣΗ,ΥΠΑΙΘΡΙΑ ΔΡΑΣΗ
ATTACH;FMTTYPE=image/jpeg:https://cityfestival.thisisathens.org/wp-content/uploads/2026/03/ΠΟΛ.65-Άγγελος-005-scaled.jpg
END:VEVENT
END:VCALENDAR