BEGIN:VCALENDAR
VERSION:2.0
PRODID:-//Το Φεστιβάλ του Δήμου Αθηναίων - ECPv6.12.0.1//NONSGML v1.0//EN
CALSCALE:GREGORIAN
METHOD:PUBLISH
X-ORIGINAL-URL:https://cityfestival.thisisathens.org
X-WR-CALDESC:Events for Το Φεστιβάλ του Δήμου Αθηναίων
REFRESH-INTERVAL;VALUE=DURATION:PT1H
X-Robots-Tag:noindex
X-PUBLISHED-TTL:PT1H
BEGIN:VTIMEZONE
TZID:Europe/Athens
BEGIN:DAYLIGHT
TZOFFSETFROM:+0200
TZOFFSETTO:+0300
TZNAME:EEST
DTSTART:20250330T010000
END:DAYLIGHT
BEGIN:STANDARD
TZOFFSETFROM:+0300
TZOFFSETTO:+0200
TZNAME:EET
DTSTART:20251026T010000
END:STANDARD
END:VTIMEZONE
BEGIN:VEVENT
DTSTART;TZID=Europe/Athens:20250530T190000
DTEND;TZID=Europe/Athens:20250530T230000
DTSTAMP:20260422T035651
CREATED:20250404T105334Z
LAST-MODIFIED:20250530T133330Z
UID:10003398-1748631600-1748646000@cityfestival.thisisathens.org
SUMMARY:Κρητικό Γλέντι με τον Ψαρογιώργη
DESCRIPTION:Το Φεστιβάλ του Δήμου Αθηναίων φέρνει τον παλμό της Κρήτης στην Αθήνα\, διοργανώνοντας ένα μεγάλο Κρητικό Γλέντι με τον Ψαρογιώργη. Ο Γιώργης ανατράφηκε μέσα στη βαθιά μουσική παράδοση των Ανωγείων\, και είναι απόγονος μιας θρυλικής οικογένειας μουσικών του ορεινού αυτού χωριού. Γιος του μοναδικού στο είδος του Ψαραντώνη και ανιψιός του Νίκου Ξυλούρη\, του ανθρώπου που συνέβαλε τα μέγιστα στην αναζωπύρωση της κρητικής παραδοσιακής μουσικής\, ο Γιώργης έχει καταφέρει να βάλει το λαούτο σε πρώτο πλάνο\, δίνοντας πρωταγωνιστικό ρόλο σε ένα όργανο που πολλοί θεωρούσαν συνοδευτικό.
URL:https://cityfestival.thisisathens.org/event/kritiko-glenti-me-ton-psarogiorgi/
LOCATION:Πάρκο Δημάρχου Δημήτρη Μπέη\, Πάρκο Δημάρχου Δημήτρη Μπέη\, Nέος Κόσμος\, Αθήνα\, Αθήνα\, 117 45\, Greece
CATEGORIES:ΔΩΡΕΑΝ,ΣΥΝΑΥΛΙΑ,ΥΠΑΙΘΡΙΑ ΔΡΑΣΗ,ΨΥΧΑΓΩΓΙΑ
ATTACH;FMTTYPE=image/jpeg:https://cityfestival.thisisathens.org/wp-content/uploads/2025/04/20230516-TGR-AthensCityFestival-Psarogiorgis-0182-scaled.jpg
END:VEVENT
END:VCALENDAR