BEGIN:VCALENDAR
VERSION:2.0
PRODID:-//Το Φεστιβάλ του Δήμου Αθηναίων - ECPv6.12.0.1//NONSGML v1.0//EN
CALSCALE:GREGORIAN
METHOD:PUBLISH
X-ORIGINAL-URL:https://cityfestival.thisisathens.org
X-WR-CALDESC:Events for Το Φεστιβάλ του Δήμου Αθηναίων
REFRESH-INTERVAL;VALUE=DURATION:PT1H
X-Robots-Tag:noindex
X-PUBLISHED-TTL:PT1H
BEGIN:VTIMEZONE
TZID:Europe/Athens
BEGIN:DAYLIGHT
TZOFFSETFROM:+0200
TZOFFSETTO:+0300
TZNAME:EEST
DTSTART:20250330T010000
END:DAYLIGHT
BEGIN:STANDARD
TZOFFSETFROM:+0300
TZOFFSETTO:+0200
TZNAME:EET
DTSTART:20251026T010000
END:STANDARD
END:VTIMEZONE
BEGIN:VEVENT
DTSTART;TZID=Europe/Athens:20250517T203000
DTEND;TZID=Europe/Athens:20250517T213000
DTSTAMP:20260421T130650
CREATED:20250403T120753Z
LAST-MODIFIED:20250506T124348Z
UID:10003361-1747513800-1747517400@cityfestival.thisisathens.org
SUMMARY:De Profundis Live: VBH
DESCRIPTION:Vivaldi-Bach-Handel\nΤρεις από τους σημαντικότερους συνθέτες όλων των εποχών\, οι οποίοι ποτέ δεν συναντήθηκαν αλλά «βρέθηκαν» μέσα από τη γραφή – τη μουσική γραφή.\nΟ Γιόχαν Σεμπάστιαν Μπαχ γνώρισε\, μέσα από τη γραπτή μουσική γλώσσα\, τον Αντόνιο Βιβάλντι κι έμαθε τη μουσική σκέψη μέσα από τις συνθέσεις του σπουδαίου Βενετού συνθέτη. Ο Χαίντελ και ο Μπαχ\, αν και οι δύο Γερμανοί και οι δύο γεννημένοι το 1685\, ποτέ δεν κατάφεραν να συναντηθούν. Και πάλι η μουσική γλώσσα «ταξίδεψε» μέσω της γραφής\, δημιουργώντας πολλά χειρόγραφα του Μπαχ με μουσική του Χαίντελ\, ενώ και η μουσική του Χαίντελ είναι γεμάτη με επιρροές του Αντόνιο Βιβάλντι.\n\nΜία παράσταση γεμάτη από τα αριστουργήματα της μουσικής τέχνης τριών ιδιοφυών συνθετών\, μία πρώτη συνάντησή τους μέσω της μουσικής στο αίθριο του Επιγραφικού Μουσείου Αθηνών.\n\nDe profundis ensemble\n\nA’ Βιολιά\nΗλίας Γυφτονικολός\nΖωή Προκοπίου\n\nΒ’ Βιολιά\nΧρυσή Τζάβλα\nΜαρία Αργύρη\n\nΒιόλα\nΕλένη Φουρλάνου\n\nΤσέλο\nΜυρτώ Ξηρουχάκη\n\nΚοντραμπάσο\nΓιώργος Ντάνης\n\nΑπαιτείται η κράτηση θέσης.
URL:https://cityfestival.thisisathens.org/event/de-profundis-live-vbh/
LOCATION:Επιγραφικό Μουσείο\, Τοσίτσα 1\, Αθήνα\, Αθήνα\, 106 82\, Greece
CATEGORIES:ΔΩΡΕΑΝ,ΜΟΥΣΕΙΟ,ΣΥΝΑΥΛΙΑ,ΨΥΧΑΓΩΓΙΑ
ATTACH;FMTTYPE=image/jpeg:https://cityfestival.thisisathens.org/wp-content/uploads/2025/04/IMG_8694-scaled.jpg
END:VEVENT
BEGIN:VEVENT
DTSTART;TZID=Europe/Athens:20250514T200000
DTEND;TZID=Europe/Athens:20250514T230000
DTSTAMP:20260421T130650
CREATED:20250327T101429Z
LAST-MODIFIED:20250506T125734Z
UID:10001248-1747252800-1747263600@cityfestival.thisisathens.org
SUMMARY:Leonard Cohen Tribute
DESCRIPTION:Τρεις από τις πιο αναγνωρίσιμες και φρέσκιες φωνές του ελληνικού πενταγράμμου αποτίνουν φόρο τιμής στον μεγάλο καλλιτέχνη Leonard Cohen. Η Nalyssa Green\, η Sugahspank! και η Lou Is ερμηνεύουν\, με τις ξεχωριστές φωνές τους και τη συνοδεία εξαιρετικών μουσικών\, τραγούδια που έχουν αφήσει ένα τεράστιο αποτύπωμα στην ιστορία της μουσικής.\n\nΕπτά χρόνια μετά την εκπληκτική πρώτη παρουσίασή του\, το αφιέρωμα στον Leonard Cohen έρχεται στην αυλή του Athens Book Space για ένα καθηλωτικό\, μουσικό απόγευμα.
URL:https://cityfestival.thisisathens.org/event/leonard-cohen-tribute/
LOCATION:Athens Book Space\, Athens Book Space\, Αθήνα\, Αθήνα\, 115 21\, Greece
CATEGORIES:ΔΩΡΕΑΝ,ΣΥΝΑΥΛΙΑ,ΥΠΑΙΘΡΙΑ ΔΡΑΣΗ,ΨΥΧΑΓΩΓΙΑ
ATTACH;FMTTYPE=image/jpeg:https://cityfestival.thisisathens.org/wp-content/uploads/2025/03/Cohen-Tribute-8-scaled.jpg
END:VEVENT
BEGIN:VEVENT
DTSTART;TZID=Europe/Athens:20250514T190000
DTEND;TZID=Europe/Athens:20250514T213000
DTSTAMP:20260421T130650
CREATED:20250506T191629Z
LAST-MODIFIED:20250506T201623Z
UID:10003932-1747249200-1747258200@cityfestival.thisisathens.org
SUMMARY:Η Γιορτή της Πορτογαλικής Γλώσσας στην Αθήνα
DESCRIPTION:Η Δημοτική Αγορά της Κυψέλης μετατρέπεται σε ένα ζωντανό σταυροδρόμι πολιτισμών φιλοξενώντας μια μοναδική εμπειρία αφιερωμένη στους χορούς και τις μουσικές παραδόσεις του πορτογαλόφωνου κόσμου.\n\nΑπό την Αγκόλα και τη Μοζαμβίκη μέχρι τη Βραζιλία\, το Πράσινο Ακρωτήρι και την Πορτογαλία\, το αθηναϊκό κοινό θα ταξιδέψει με κιβωτό τη μουσική και χάρτη την Πορτογαλική Γλώσσα\, ανακαλύπτοντας τον κοινό πολιτισμικό μίτο που ενώνει τις δύο όχθες του Ατλαντικού.\n\nΗ Miranda Verouli και οι Choro Plus θα ερμηνεύσουν αγαπημένα κομμάτια από τα Fados της Amália Rodrigues\, τις Mornas της Cesária Évora\, τις Sambas του Caetano Veloso και την Bossa Nova του Sérgio Mendes\, πλαισιωμένα από σπάνιους ήχους της Πορτογαλόφωνης Αφρικής.\n\nΗ σκηνή ζωντανεύει ακόμα περισσότερο με τη Victoria KizzArte και την ομάδα The KizzLab\, που θα μας παρασύρουν στους ρυθμούς της παραδοσιακής Semba και στην αισθησιακή Kizomba της Αγκόλας.\n\nΤο χορευτικό ταξίδι ολοκληρώνεται με τους Forró Atenas\, που θα μεταφέρουν το κοινό στη ζεστή ατμόσφαιρα μιας βραζιλιάνικης γιορτής.\n\nΈνα μουσικό ταξίδι-ωδή στους λαούς και τους πολιτισμούς που υφαίνουν το γαλάζιο πέπλο της πορτογαλικής γλώσσας.\n\n14 Μαΐου 2025 | 19:00 | Είσοδος ελεύθερη\n\nΜια συνέργεια του Φεστιβάλ του Δήμου Αθηναίων και της Πρεσβείας της Πορτογαλίας και την υποστήριξη του Camões\, I.P. στο πλαίσιο των εορτασμών της Παγκόσμιας Ημέρας Πορτογαλικής Γλώσσας (5ης Μαΐου).
URL:https://cityfestival.thisisathens.org/event/i-giorti-tis-portogalikis-glossas-stin-athina/
LOCATION:Δημοτική Αγορά Κυψέλης\, Kypseli Municipal Market\, Αθήνα\, Αθήνα\, 113 61\, Greece
CATEGORIES:ΣΥΝΑΥΛΙΑ,ΧΟΡΟΣ,ΨΥΧΑΓΩΓΙΑ
ATTACH;FMTTYPE=image/jpeg:https://cityfestival.thisisathens.org/wp-content/uploads/2025/05/Foto-capa-evento-ονόματα.jpg
END:VEVENT
BEGIN:VEVENT
DTSTART;TZID=Europe/Athens:20250513T120000
DTEND;TZID=Europe/Athens:20250513T130000
DTSTAMP:20260421T130650
CREATED:20250327T141912Z
LAST-MODIFIED:20250506T130045Z
UID:10002468-1747137600-1747141200@cityfestival.thisisathens.org
SUMMARY:Piano City Athens
DESCRIPTION:Η θεραπευτική δύναμη της μουσικής είναι κάτι που δεν αμφισβητείται. Το Φεστιβάλ του Δήμου Αθηναίων\, σε συνεργασία με το Piano City Athens\, φέρνει τη μουσική στο μεγαλύτερο νοσοκομείο της πόλης\, τον Ευαγγελισμό\, χαρίζοντας στιγμές χαλάρωσης στους ανθρώπους που τη χρειάζονται περισσότερο.\n\nΗ δράση απευθύνεται αποκλειστικά στο ιατρικό\, νοσηλευτικό και διοικητικό προσωπικό του νοσοκομείου.\n\n 
URL:https://cityfestival.thisisathens.org/event/piano-city-athens-4/
LOCATION:Νοσοκομείο Ευαγγελισμός\, Υψηλάντου 45-47\, Αθήνα\, Αθήνα\, 106 76\, Greece
CATEGORIES:ΔΩΡΕΑΝ,ΣΥΝΑΥΛΙΑ,ΨΥΧΑΓΩΓΙΑ
ATTACH;FMTTYPE=image/jpeg:https://cityfestival.thisisathens.org/wp-content/uploads/2025/03/20240516-TiACF-TGR-PianoCityAmerikisSq-0137-scaled.jpg
END:VEVENT
BEGIN:VEVENT
DTSTART;TZID=Europe/Athens:20250512T203000
DTEND;TZID=Europe/Athens:20250512T223000
DTSTAMP:20260421T130650
CREATED:20250327T154428Z
LAST-MODIFIED:20250424T074657Z
UID:10003233-1747081800-1747089000@cityfestival.thisisathens.org
SUMMARY:Lycabettus Sunset Live Πέτρος Κλαμπάνης
DESCRIPTION:Κατά τη διάρκεια της πανδημίας του 2020\, ο Πέτρος Κλαμπάνης βρήκε το δικό του «φως» στην άκρη του τούνελ και δημιούργησε το πέμπτο του άλμπουμ\, ένα προσωπικό μανιφέστο με μπάσο\, τo «Rooftop Stories».\n\nΠρόκειται για μια σειρά από βίντεο\, στα οποία ο Πέτρος ανεβαίνει σε ταράτσες\, σε διάφορες πόλεις ανά τον κόσμο και παίζει τη μουσική του με μοναδική συντροφιά το μπάσο\, τον ενισχυτή του και μερικά ηλεκτρονικά effects.\n\nΜε τη σκέψη πως αυτά τα video θα αποτελέσουν ηχητικά\, ταξιδιωτικά «ενθύμια» δημιούργησε ένα πρωτότυπο οπτικοακουστικό σόλο project που αποτελεί την πιο οικεία και προσωπική του ηχογράφηση μέχρι σήμερα.To project αυτό κυκλοφόρησε ως album το 2021 από την εταιρεία του Πέτρου Κλαμπάνη\, PKmusik.\n\nΤο Φεστιβάλ του Δήμου Αθηναίων υποδέχεται τις «Rooftop Stories» του Πέτρου Κλαμπάνη στην αυλή του Αγίου Γεωργίου Λυκαβηττού\, το ομορφότερο «μπαλκόνι» της πόλης. Εκεί\, κοντραμπάσο\, λούπες\, κρουστά και φωνή θα συνθέσουν ένα ηχητικό ταξίδι σε πόλεις και αγαπημένα τραγούδια\, που θα μας ξανασυστηθούν μέσα από τη ματιά του Πέτρου Κλαμπάνη.
URL:https://cityfestival.thisisathens.org/event/lycabettus-sunset-live-klabanis/
LOCATION:Άγιος Γεώργιος Λυκαβηττού\, Λόφος Λυκαβηττού\, Αθήνα\, Αθήνα\, 114 71\, Greece
CATEGORIES:ΔΩΡΕΑΝ,ΣΥΝΑΥΛΙΑ,ΥΠΑΙΘΡΙΑ ΔΡΑΣΗ,ΨΥΧΑΓΩΓΙΑ
ATTACH;FMTTYPE=image/jpeg:https://cityfestival.thisisathens.org/wp-content/uploads/2025/03/20240523-TiACF-GMK-PetrosKlampanis-0041-scaled.jpg
END:VEVENT
BEGIN:VEVENT
DTSTART;TZID=Europe/Athens:20250508T193000
DTEND;TZID=Europe/Athens:20250508T230000
DTSTAMP:20260421T130650
CREATED:20250320T174013Z
LAST-MODIFIED:20250506T132130Z
UID:10000037-1746732600-1746745200@cityfestival.thisisathens.org
SUMMARY:Αγία Φανφάρα και DJ Spery
DESCRIPTION:Η Αγία Φανφάρα\, η 25μελής μπάντα χάλκινων\, ξύλινων πνευστών και κρουστών\, είναι κάτι παραπάνω από ένα μουσικό συγκρότημα – είναι φαινόμενο! Αν και ταπεινοί\, έχουν κατακτήσει την καρδιά του ελληνικού κοινού και έχουν γίνει\, άθελά τους\, super stars.\n\nΕτοιμαστείτε για μία ακόμη μουσική εμπειρία! Η Αγία Φανφάρα ξεκινά την πατινάδα της από την Πλατεία Μοναστηρακίου\, διασχίζει την οδό Αδριανού και καταλήγει στην Πλατεία Θησέως για να μας χαρίσει ένα αξέχαστο μουσικό ξεφάντωμα. Μαζί της\, η Dj Spery απογειώνει τη βραδιά με την Balkan δισκοθήκη της.
URL:https://cityfestival.thisisathens.org/event/agia-fanfara-dj-spery/
LOCATION:Πλατεία Μοναστηρακίου\, Πλατεία Μοναστηρακίου\, Αθήνα\, Αθήνα\, 105 57\, Greece
CATEGORIES:DJ SET,ΔΩΡΕΑΝ,ΠΑΡΤΙ,ΣΥΝΑΥΛΙΑ,ΥΠΑΙΘΡΙΑ ΔΡΑΣΗ,ΨΥΧΑΓΩΓΙΑ
ATTACH;FMTTYPE=image/jpeg:https://cityfestival.thisisathens.org/wp-content/uploads/2025/03/20240922-TGR-AthinasCarFree-Saturday-0084-scaled.jpg
END:VEVENT
BEGIN:VEVENT
DTSTART;TZID=Europe/Athens:20250507T210000
DTEND;TZID=Europe/Athens:20250507T230000
DTSTAMP:20260421T130650
CREATED:20250327T120927Z
LAST-MODIFIED:20250429T132418Z
UID:10001662-1746651600-1746658800@cityfestival.thisisathens.org
SUMMARY:Μέντα Live Με Τον Μπάμπη Στόκα
DESCRIPTION:ΜΕΝΤΑ LIVE\n\nΤην Τετάρτη 7 Μαΐου\, στις 9 το βράδυ\, στο Πάρκο Ελευθερίας – στο κέντρο της Αθήνας – απλώνουμε τις ψάθες και τις πετσέτες μας στο γρασίδι και τραγουδάμε μαζί κάτω από τ’ αστέρια.\n\nΗ είσοδος είναι ελεύθερη!\n\nΦέρνουμε τους φίλους μας\, τα αγαπημένα μας πρόσωπα\, το χαμόγελο\, τις πετσέτες\, τις ψάθες και τα ποτά μας και ζούμε μαζί τη μυσταγωγία της παρέας\, την ανεπανάληπτη ατμόσφαιρα των ΜΕΝΤΑ LIVE\, κάτω από τον αττικό ουρανό.\n\nΈνα ανοιξιάτικο Μέντα Live από τον Μέντα 88\, με τις καλύτερες στιγμές του Μπάμπη Στόκα\, από τη σπουδαία διαδρομή του με τους Πύξ Λαξ και τα κορυφαία τραγούδια της προσωπικής του δισκογραφίας.
URL:https://cityfestival.thisisathens.org/event/menta-live-me-ton-babi-stoka/
LOCATION:Πάρκο Ελευθερίας\, Πάρκο Ελευθερίας\, Αθήνα\, Αθήνα\, 115 21\, Greece
CATEGORIES:ΔΩΡΕΑΝ,ΣΥΝΑΥΛΙΑ,ΥΠΑΙΘΡΙΑ ΔΡΑΣΗ,ΨΥΧΑΓΩΓΙΑ
ATTACH;FMTTYPE=image/jpeg:https://cityfestival.thisisathens.org/wp-content/uploads/2025/03/900x600.jpg
END:VEVENT
BEGIN:VEVENT
DTSTART;TZID=Europe/Athens:20250507T203000
DTEND;TZID=Europe/Athens:20250507T223000
DTSTAMP:20260421T130650
CREATED:20250327T122306Z
LAST-MODIFIED:20250402T101240Z
UID:10001669-1746649800-1746657000@cityfestival.thisisathens.org
SUMMARY:Lycabettus Sunset Live: Νεφέλη Φασούλη
DESCRIPTION:Το κορίτσι – φαινόμενο της νέας «φουρνιάς» του ελληνικού τραγουδιού\, η Νεφέλη Φασούλη\, συμμετέχει και φέτος στο Φεστιβάλ του Δήμου Αθηναίων\, με μία συναυλία στο ειδυλλιακό «μπαλκόνι» του Αγίου Γεωργίου στον Λυκαβηττό.\n\nΣαν μία φιγούρα βγαλμένη από το Νέο Κύμα του γαλλικού κινηματογράφου\, η Νεφέλη Φασούλη κινείται με χάρη ανάμεσα σε διαφορετικά μουσικά είδη και καταφέρνει να μετατρέψει την κάθε εμφάνισή της σε μια πραγματική έκπληξη\, ταξιδεύοντας το κοινό της στον κόσμο της μουσικής.
URL:https://cityfestival.thisisathens.org/event/lycabettus-sunset-live-nefeli-fasouli/
LOCATION:Άγιος Γεώργιος Λυκαβηττού\, Λόφος Λυκαβηττού\, Αθήνα\, Αθήνα\, 114 71\, Greece
CATEGORIES:ΔΩΡΕΑΝ,ΣΥΝΑΥΛΙΑ,ΥΠΑΙΘΡΙΑ ΔΡΑΣΗ,ΨΥΧΑΓΩΓΙΑ
ATTACH;FMTTYPE=image/jpeg:https://cityfestival.thisisathens.org/wp-content/uploads/2025/03/452416458_913014910872419_1645799443935540830_n.jpg
END:VEVENT
BEGIN:VEVENT
DTSTART;TZID=Europe/Athens:20250504T130000
DTEND;TZID=Europe/Athens:20250504T150000
DTSTAMP:20260421T130650
CREATED:20250320T153619Z
LAST-MODIFIED:20251202T095538Z
UID:10000031-1746363600-1746370800@cityfestival.thisisathens.org
SUMMARY:Τραγούδια - Μουσικές - Χοροί του Γάμου από την Καρωτή της Θράκης
DESCRIPTION:Γάμος\, το σημαντικότερο γεγονός στην παραδοσιακή κοινωνία. Οι στενές σχέσεις των μελών της κοινότητας εκφράζονταν με τη συμμετοχή όλων\, με πιστή εφαρμογή του τελετουργικού όπως το κληρονόμησαν.\n\nΚυριακή πρωί\, άνοιξη\, στη Μητρόπολη Αθηνών. Τραγούδια\, μουσικές\, χοροί του γάμου από την Καρωτή της Θράκης. Το Θέατρο «Δόρα Στράτου» θα σας μεταφέρει σε ένα χωριό κοντά στα σύνορα που κρατάει ζωντανά τα παραδοσιακά του έθιμα και ξέρει να γλεντάει.
URL:https://cityfestival.thisisathens.org/event/tragoudia-mousikes-xoroi-gamou-thraki/
LOCATION:Πλατεία Μητροπόλεως\, Πλατεία Μητροπόλεως\, Athens\, Athens\, 105 63\, Greece
CATEGORIES:ΔΩΡΕΑΝ,ΠΑΡΑΔΟΣΗ,ΣΥΝΑΥΛΙΑ,ΥΠΑΙΘΡΙΑ ΔΡΑΣΗ,ΧΟΡΟΣ,ΨΥΧΑΓΩΓΙΑ
ATTACH;FMTTYPE=image/jpeg:https://cityfestival.thisisathens.org/wp-content/uploads/2025/03/20240519-TiACF-TGR-DoraStratouPassarella-0060-scaled.jpg
END:VEVENT
BEGIN:VEVENT
DTSTART;TZID=Europe/Athens:20250502T200000
DTEND;TZID=Europe/Athens:20250502T230000
DTSTAMP:20260421T130650
CREATED:20250320T120732Z
LAST-MODIFIED:20250506T134325Z
UID:10000021-1746216000-1746226800@cityfestival.thisisathens.org
SUMMARY:Σκιαδαρέσες Live
DESCRIPTION:Οι Σκιαδαρέσες έρχονται για μία μοναδική συναυλία στην πλατεία Κουμουνδούρου. Οι δίδυμες αδελφές Όλγα και Νίκη\, από την πρώτη στιγμή που ξεκίνησαν να γράφουν τραγούδια σε ένα μικρό δωμάτιο\, ήταν γραφτό να ταξιδέψουν στο μεγάλο διαδίκτυο και να γνωρίσουν την επιτυχία. Τα τραγούδια τους είναι αληθινά\, ακομπλεξάριστα\, σαν να έχουν βγει από την ψυχή του καθενός. Αγάπες\, έρωτες\, χαρές και λύπες αποτυπώνονται με ακρίβεια\, εκπροσωπώντας κάτι πολύ περισσότερο από τη συναισθηματική αβεβαιότητα\, όχι μόνο της δικής τους αλλά οποιασδήποτε γενιάς.
URL:https://cityfestival.thisisathens.org/event/skiadareses-live/
LOCATION:Πλατεία Κουμουνδούρου\, Πλ. Κουμουνδουρου\, Athens\, Αθήνα\, 105 53\, Greece
CATEGORIES:ΔΩΡΕΑΝ,ΣΥΝΑΥΛΙΑ,ΥΠΑΙΘΡΙΑ ΔΡΑΣΗ,ΨΥΧΑΓΩΓΙΑ
ATTACH;FMTTYPE=image/jpeg:https://cityfestival.thisisathens.org/wp-content/uploads/2025/03/IMG-bd25cd24e2da6cdb32a09415282e6cd6-V-7-scaled.jpg
END:VEVENT
BEGIN:VEVENT
DTSTART;TZID=Europe/Athens:20250501T120000
DTEND;TZID=Europe/Athens:20250501T200000
DTSTAMP:20260421T130650
CREATED:20250318T131208Z
LAST-MODIFIED:20250506T134607Z
UID:10000015-1746100800-1746129600@cityfestival.thisisathens.org
SUMMARY:Athens Urban Picnic 2025
DESCRIPTION:Το Athens Urban Picnic επιστρέφει την Πρωτομαγιά\, στο πάρκο Ακαδημίας Πλάτωνος\, με ελεύθερη είσοδο! Μια μοναδική εκδήλωση στην πόλη\, που συνδυάζει εκπαίδευση\, ψυχαγωγία και μουσική για όλη την οικογένεια!\n\nΜε δραστηριότητες για παιδιά\, δημιουργικά εργαστήρια\, θεατρικές παραστάσεις και ζωντανή μουσική\, προσφέρει μια ευχάριστη ημέρα στο πάρκο για να απολαύσουν όλοι\, μικροί και μεγάλοι\, τη φύση και τη χαρά της άνοιξης.\n\nΈνα ιδανικό event για να περάσετε ποιοτικό χρόνο με την οικογένεια σας\, γεμάτο διασκέδαση και μάθηση!\n\nΠρόγραμμα  \n\n12.00-18.00\n\nFace painting: Ζωγραφική προσώπου και glitter tattooing που θα μεταμορφώσει τα πρόσωπα των παιδιών με εντυπωσιακά χρώματα\n\n12.00- 15.00\n\nΟικολογικά παιχνίδια: Τα παιδιά φτιάχνουν στεφάνια με πολύχρωμα λουλούδια από ρολά χαρτιού\, κατασκευάζουν κάρτες με μπουκέτα τουλίπας από πλαστικά κουτάλια\, μαθαίνουν παίζοντας να κάνουν σωστή διαλογή των απορριμμάτων στους μπλε\, μοβ και καφέ κάδους και φτιάχνουν το δικό τους μικροσκόπιο από χρησιμοποιημένες συσκευασίες απορρυπαντικών\, συνδυάζοντας δημιουργικότητα και εκπαίδευση!\n\n12.30-13.15\, 13.30-14.15\, 14.30-15.15\, 15.45-16.30\, 16.45-17.30\n\nΠαιχνίδια στη φύση: Διαδραστικό πρόγραμμα με ανοιξιάτικη διάθεση και δοκιμασίες παιχνιδιών:\n\n 	Μεγάλο κυνήγι θησαυρού με πεταλούδες και απόχες για τα μικρά παιδιά\n 	Mεγάλο κυνήγι θησαυρού με στοιχεία της φύσης για τα μεγαλύτερα παιδιά\n 	Διελκυστίνδα (tug of war)\n 	Limbo\n 	Πολύχρωμο αερόστατο\n 	Στριφογυριστό ρολόι\n 	Μουσικοκινητικά παιχνίδια\n 	Μπαλονοδρομίες\n 	Μega jenga\n 	Τic tac toe\n 	Μπαλονοκατασκευές και πολλά άλλα!\n\n13.00- 14.00\n\nΘεατρική παράσταση: «Το μυστήριο της γύρης | Πού πήγαν όλα τα αμύγδαλα;». Μια διασκεδαστική περιβαλλοντική θεατρική εμπειρία αφιερωμένη στις μέλισσες και την απίστευτη ικανότητά τους να μετατρέπουν τα λουλούδια σε καρπούς\n\n13.30- 18.30\n\nΚεραμική στη φύση! Ένας κεραμίστας μαθαίνει στα παιδιά την τέχνη του πηλού στον τροχό! Τα παιδιά φτιάχνουν τα δικά τους κεραμεικά αντικείμενα – βάζα\, πιατάκια\, μπoλάκια και πολλά άλλα!\n\n14.00- 15.00\n\nDj Set Hit 88.9 – Μαίρη Μαργέλη\n\n14.00- 18.00\n\nDinoverse – Blue: Νομίζετε ότι οι δεινόσαυροι εξαφανίστηκαν; Πέρσι\, γνωρίσατε τον Ross\, αλλά φέτος θα είναι κοντά μας η φίλη του η Blue! Η Blue είναι μία έφηβη τυραννόσαυρος\, γλυκύτατη\, παιχνιδιάρα και χορευταρού! Ελάτε να τη γνωρίσετε από κοντά\, να βγάλετε φωτογραφίες\, να την ταΐσετε\, να την πάτε βόλτα και φυσικά να παίξετε μαζί της … μέχρι τελικής πτώσεως!\n\n14.30-15.50\n\nFelipe -Bubble show:  Ένα show γεμάτο μαγικές σαπουνόφουσκες\, που πετάνε στον ουρανό με παρέα τους μια παραμυθένια μουσική\n\n17.30- 18.30\n\nDj Set En Lefko 87.7 – Εύα Θεοτοκάτου\n\n18.30- 19.30\n\nKids Radio Banda: Από την αρχή λειτουργίας του Kids Radio 88.6\, υπήρχε ένα πρωτοπόρο όραμα: να φτιαχτεί ένα ραδιόφωνο για όλη την οικογένεια\, ώστε να διασκεδάζουν όλοι παρέα με τραγούδια και ιστορίες και να δημιουργηθούν μοντέρνα τραγούδια\, που θα μείνουν στις αναμνήσεις και στα βιώματα της επόμενης γενιάς.  Κάπως έτσι δημιουργήθηκε η Kids Radio Banda!\n\n20.00: Λήξη εκδήλωσης
URL:https://cityfestival.thisisathens.org/event/athens-urban-picnic-2025/
LOCATION:Ακαδημία Πλάτωνος\, Μοναστηρίου 138\, Αθήνα\, Αθήνα\, 104 42\, Greece
CATEGORIES:DJ SET,ΔΩΡΕΑΝ,ΠΑΙΔΙ,ΣΥΝΑΥΛΙΑ,ΥΠΑΙΘΡΙΑ ΔΡΑΣΗ,ΨΥΧΑΓΩΓΙΑ
ATTACH;FMTTYPE=image/jpeg:https://cityfestival.thisisathens.org/wp-content/uploads/2025/03/2-FB-PICNIC.jpg
END:VEVENT
END:VCALENDAR