BEGIN:VCALENDAR
VERSION:2.0
PRODID:-//Το Φεστιβάλ του Δήμου Αθηναίων - ECPv6.12.0.1//NONSGML v1.0//EN
CALSCALE:GREGORIAN
METHOD:PUBLISH
X-WR-CALNAME:Το Φεστιβάλ του Δήμου Αθηναίων
X-ORIGINAL-URL:https://cityfestival.thisisathens.org
X-WR-CALDESC:Events for Το Φεστιβάλ του Δήμου Αθηναίων
REFRESH-INTERVAL;VALUE=DURATION:PT1H
X-Robots-Tag:noindex
X-PUBLISHED-TTL:PT1H
BEGIN:VTIMEZONE
TZID:Europe/Athens
BEGIN:DAYLIGHT
TZOFFSETFROM:+0200
TZOFFSETTO:+0300
TZNAME:EEST
DTSTART:20250330T010000
END:DAYLIGHT
BEGIN:STANDARD
TZOFFSETFROM:+0300
TZOFFSETTO:+0200
TZNAME:EET
DTSTART:20251026T010000
END:STANDARD
END:VTIMEZONE
BEGIN:VEVENT
DTSTART;TZID=Europe/Athens:20250920T233000
DTEND;TZID=Europe/Athens:20250921T053000
DTSTAMP:20260421T231826
CREATED:20250902T141342Z
LAST-MODIFIED:20250904T071335Z
UID:10004015-1758411000-1758432600@cityfestival.thisisathens.org
SUMMARY:Μεταμεσονύχτιες Προβολές με το Midnight Express
DESCRIPTION:Η ιδέα του κινηματογραφικού γκουρού Άκη Καπράνου\, επιστρέφει και ξαναφέρνει στη ζωή τη μαγεία των μεταμεσονύχτιων προβολών. Τρεις ταινίες\, τρεις διαφορετικοί κόσμοι\, μια κινηματογραφική εμπειρία κάτω από τα αστέρια της πόλης.\n\n 	The Love Bug (Κατσαριδάκι Αγάπη μου)\, Robert Stevenson\, 1968 (108′)\n\nΟ αξιαγάπητος Χέρμπι\, το «σκαθάρι» με ψυχή\, χαρίζει γέλιο και δράση σε μια κλασική κωμωδία της Disney. Ένας ραλίστας σε κρίση καριέρας και ένα αυτοκίνητο με προσωπικότητα αποδεικνύουν ότι η φιλία και η αφοσίωση κερδίζουν κάθε αγώνα. Μια ανάλαφρη\, feel-good ταινία που συνεχίζει να μαγεύει μικρούς και μεγάλους.\n\n 	Christine\, John Carpent\, 1983 (110′)\n\nΑπό τη φαντασία του Στίβεν Κινγκ και τη σκηνοθεσία του Τζον Κάρπεντερ\, έρχεται ένα από τα πιο χαρακτηριστικά κινηματογραφικά θρίλερ των ’80s. Ένα φαινομενικά αθώο κόκκινο Plymouth Fury αποκτά δική του προσωπικότητα και παρασύρει τον νεαρό ιδιοκτήτη του σε μια σκοτεινή εμμονή. Ένα cult φιλμ για την άλλη όψη του πάθους\, που αποτυπώνει μοναδικά την ατμόσφαιρα της δεκαετίας του ’80 και παραμένει αγαπημένο στους φίλους του κινηματογράφου του τρόμου μέχρι σήμερα.\n\n 	Blade Runner (Μπλέιντ Ράνερς: Ομάδες Eξόντωσης)\, Ridley Scott\, 1982 (117′)\n\nΠερισσότερο από μια ταινία επιστημονικής φαντασίας\, το αξεπέραστο φουτουριστικό φιλμ νουάρ του Ρίντλεϊ Σκοτ μάς μεταφέρει στο σκοτεινό\, βροχερό Λος Άντζελες του 2019. Οι «blade runners» κυνηγούν ρέπλικες\, γενετικά τροποποιημένους ανθρώπους\, σε μια ιστορία που ξεπερνά την αστυνομική πλοκή και αγγίζει τα μεγάλα υπαρξιακά ερωτήματα για την ταυτότητα και την ανθρωπιά. Ένα αριστούργημα που καθόρισε το είδος.
URL:https://cityfestival.thisisathens.org/event/metamesonixties-provoles-midnight-express/
LOCATION:Αθηνάς\, Αθηνάς\, Αθήνα\, Αθήνα\, 105 52\, Greece
CATEGORIES:ΔΩΡΕΑΝ,ΣΙΝΕΜΑ,ΥΠΑΙΘΡΙΑ ΔΡΑΣΗ,ΨΥΧΑΓΩΓΙΑ
ATTACH;FMTTYPE=image/jpeg:https://cityfestival.thisisathens.org/wp-content/uploads/2025/09/20240922-TGR-AthinasCarFree-Saturday-0623-scaled.jpg
END:VEVENT
BEGIN:VEVENT
DTSTART;TZID=Europe/Athens:20250921T100000
DTEND;TZID=Europe/Athens:20250921T120000
DTSTAMP:20260421T231826
CREATED:20250902T131636Z
LAST-MODIFIED:20250902T131832Z
UID:10004011-1758448800-1758456000@cityfestival.thisisathens.org
SUMMARY:Παιδικό Εργαστήριο: Η Πόλη που Αναπνέει
DESCRIPTION:Ένα εργαστήριο για παιδιά 5-7 ετών που ταξιδεύουν σε μια πόλη χωρίς αυτοκίνητα! Μια πρώτη γνωριμία με τη λειτουργία και τα οφέλη των ΜΜΜ\, αλλά και ένα φανταστικό παιχνίδι μετακίνησης σε μια Αθήνα όπως θα τη θέλαμε: πιο καθαρή\, πιο ήσυχη\, πιο ανθρώπινη. Μικροί εξερευνητές ζουν την πόλη αλλιώς\, μέσα από δημιουργία\, φαντασία και κίνηση.
URL:https://cityfestival.thisisathens.org/event/paidiko-ergastirio-poli-pou-anapneei/
LOCATION:Αθηνάς\, Αθηνάς\, Αθήνα\, Αθήνα\, 105 52\, Greece
CATEGORIES:ΔΩΡΕΑΝ,ΠΑΙΔΙ,ΥΠΑΙΘΡΙΑ ΔΡΑΣΗ,ΨΥΧΑΓΩΓΙΑ
ATTACH;FMTTYPE=image/jpeg:https://cityfestival.thisisathens.org/wp-content/uploads/2025/09/20240922-OSF-AthinasCarFree-Sunday-0012-scaled.jpg
END:VEVENT
BEGIN:VEVENT
DTSTART;TZID=Europe/Athens:20250921T100000
DTEND;TZID=Europe/Athens:20250921T140000
DTSTAMP:20260421T231826
CREATED:20250902T143953Z
LAST-MODIFIED:20250903T100608Z
UID:10004018-1758448800-1758463200@cityfestival.thisisathens.org
SUMMARY:Ανακυκλώνω με Ρυθμό – Ζωγραφίζω με Σκοπό
DESCRIPTION:Σε συνεργασία με το Τμήμα Εναλλακτικής Διαχείρισης Αποβλήτων της Διεύθυνσης Καθαριότητας – Ανακύκλωσης του Δήμου Αθηναίων\, παιδιά και γονείς αναλαμβάνουν μια δημιουργική αποστολή: να μεταμορφώσουν τους καφέ κάδους συλλογής βιοαποβλήτων σε μικρά έργα τέχνης!\n\nΜε πινέλα και χρώματα\, οι κάδοι αποκτούν ζωή και ξεκινούν ένα ταξίδι σε σχολεία\, παιδικούς σταθμούς και γειτονιές της πόλης\, με στόχο να ευαισθητοποιήσουν μικρούς και μεγάλους. Ένας από αυτούς θα παραμείνει στην οδό Αθηνάς\, ως ξεχωριστό σύμβολο της πρωτοβουλίας\, θυμίζοντάς μας ότι η ανακύκλωση μπορεί να γίνει ταυτόχρονα παιχνίδι και τέχνη.
URL:https://cityfestival.thisisathens.org/event/anakiklono-me-rythmo-zografizo-me-skopo/
LOCATION:Αθηνάς\, Αθηνάς\, Αθήνα\, Αθήνα\, 105 52\, Greece
CATEGORIES:ΔΩΡΕΑΝ,ΠΑΙΔΙ,ΥΠΑΙΘΡΙΑ ΔΡΑΣΗ,ΨΥΧΑΓΩΓΙΑ
ATTACH;FMTTYPE=image/jpeg:https://cityfestival.thisisathens.org/wp-content/uploads/2025/09/GKS1041-scaled.jpg
END:VEVENT
BEGIN:VEVENT
DTSTART;TZID=Europe/Athens:20250921T113000
DTEND;TZID=Europe/Athens:20250921T143000
DTSTAMP:20260421T231826
CREATED:20250903T074925Z
LAST-MODIFIED:20250917T120547Z
UID:10004019-1758454200-1758465000@cityfestival.thisisathens.org
SUMMARY:Εργαστήριο Ποδηλάτου: Πώς Φαντάζομαι την Πόλη
DESCRIPTION:Φέρνουμε τη φαντασία στον δρόμο! Στρώνουμε χλοοτάπητα και μαξιλάρια\, και με τη βοήθεια ενός εικαστικού\, προσκαλούμε τα παιδιά να πάρουν πινέλο και να ζωγραφίσουν την πόλη που ονειρεύονται. Σε αυτή τη δράση\, τα παιδιά έχουν την ευκαιρία να σχεδιάσουν το μέλλον που θέλουν\, δίνοντας ζωή και χρώμα στα όνειρά τους.
URL:https://cityfestival.thisisathens.org/event/ergastirio-podilatou-pws-fantazomai-tin-poli/
LOCATION:Αθηνάς\, Αθηνάς\, Αθήνα\, Αθήνα\, 105 52\, Greece
CATEGORIES:ΔΩΡΕΑΝ,ΠΑΙΔΙ,ΥΠΑΙΘΡΙΑ ΔΡΑΣΗ,ΨΥΧΑΓΩΓΙΑ
ATTACH;FMTTYPE=image/jpeg:https://cityfestival.thisisathens.org/wp-content/uploads/2025/09/Bike-1.jpg
END:VEVENT
BEGIN:VEVENT
DTSTART;TZID=Europe/Athens:20250921T120000
DTEND;TZID=Europe/Athens:20250921T133000
DTSTAMP:20260421T231826
CREATED:20250903T075723Z
LAST-MODIFIED:20250918T124743Z
UID:10004020-1758456000-1758461400@cityfestival.thisisathens.org
SUMMARY:Comic Workshop: Δήμητρα Αδαμοπούλου & Νικόλας Στεφαδούρος
DESCRIPTION:Ήρθε η ώρα για μια εμπειρία αλλιώτικη από τις συνηθισμένες! Βραβευμένοι σκιτσογράφοι μάς ταξιδεύουν στον κόσμο της ένατης τέχνης\, δείχνοντάς μας βήμα-βήμα πώς γεννιούνται οι ιστορίες και οι ήρωες. Όλοι μαζί δημιουργούμε ένα γιγάντιο κόμικ\, αφήνοντας τη φαντασία και τη δημιουργικότητά μας να πρωταγωνιστήσουν στο πιο πολύχρωμο εργαστήριο του Φεστιβάλ.
URL:https://cityfestival.thisisathens.org/event/comic-workshop-adamopoulou-stef/
LOCATION:Αθηνάς\, Αθηνάς\, Αθήνα\, Αθήνα\, 105 52\, Greece
CATEGORIES:ΔΩΡΕΑΝ,ΥΠΑΙΘΡΙΑ ΔΡΑΣΗ,ΨΥΧΑΓΩΓΙΑ
ATTACH;FMTTYPE=image/jpeg:https://cityfestival.thisisathens.org/wp-content/uploads/2025/09/landscape.jpg
END:VEVENT
BEGIN:VEVENT
DTSTART;TZID=Europe/Athens:20250921T120000
DTEND;TZID=Europe/Athens:20250921T140000
DTSTAMP:20260421T231826
CREATED:20250908T090915Z
LAST-MODIFIED:20251202T095450Z
UID:10004041-1758456000-1758463200@cityfestival.thisisathens.org
SUMMARY:Παιδικό Εργαστήριο: Αποστολή: Χωρίς Αυτοκίνητο
DESCRIPTION:Μια ηλιακή καταιγίδα πλήττει την πόλη\, θέτοντας όλα τα αυτοκίνητα εκτός λειτουργίας. Το γεγονός προκαλεί διαφορετικές αντιδράσεις: άλλοι το βλέπουν ως ευκαιρία για μείωση της ατμοσφαιρικής ρύπανσης\, ενώ άλλοι δυσανασχετούν με τις δυσκολίες στις μετακινήσεις. Μέσα από ένα διαδραστικό παιδικό εργαστήριο\, παιδιά 8-12 ετών μαθαίνουν ότι η χρήση του αυτοκινήτου στην πόλη δεν είναι μονόδρομος και εξερευνούν εναλλακτικούς τρόπους μετακίνησης.\n\nΦωτογραφία: Βαγγέλης Πατσιάλος\, Τεχνόπολη Δήμου Αθηναίων
URL:https://cityfestival.thisisathens.org/event/paidiko-ergastirio-apostoli-xwris-autokinito/
LOCATION:Αθηνάς\, Αθηνάς\, Αθήνα\, Αθήνα\, 105 52\, Greece
CATEGORIES:ΔΩΡΕΑΝ,ΕΡΓΑΣΤΗΡΙΑ,ΠΑΙΔΙ,ΥΠΑΙΘΡΙΑ ΔΡΑΣΗ,ΨΥΧΑΓΩΓΙΑ
ATTACH;FMTTYPE=image/jpeg:https://cityfestival.thisisathens.org/wp-content/uploads/2025/09/481698353_626693796778720_5200131355090414603_n.jpg
END:VEVENT
BEGIN:VEVENT
DTSTART;TZID=Europe/Athens:20250921T120000
DTEND;TZID=Europe/Athens:20250921T150000
DTSTAMP:20260421T231826
CREATED:20250902T133654Z
LAST-MODIFIED:20250902T133654Z
UID:10004014-1758456000-1758466800@cityfestival.thisisathens.org
SUMMARY:Θεατρικό Παιχνίδι: No Car Adventure
DESCRIPTION:Παιδιά και γονείς ξεκινούν μια διαδραστική περιπέτεια στην οδό Αθηνάς με τέσσερις σταθμούς γεμάτους παιχνίδια και βιωματικές δράσεις. Κάθε σταθμός έχει διαφορετική θεματική\, ενώ επιχειρεί να συνδυάσει τη μάθηση με τη διασκέδαση. Στόχος της δράσης είναι να καλλιεργήσει μια νέα κουλτούρα μετακίνησης στην πόλη\, να ενισχύσει την περιβαλλοντική συνείδηση και να προάγει την ασφαλή μετακίνηση. Μια περιπέτεια για όλη την οικογένεια που μετατρέπει την οδό Αθηνάς σε χώρο εξερεύνησης και παιχνιδιού.
URL:https://cityfestival.thisisathens.org/event/theatriko-paixnidi-no-car-adventure/
LOCATION:Αθηνάς\, Αθηνάς\, Αθήνα\, Αθήνα\, 105 52\, Greece
CATEGORIES:ΔΩΡΕΑΝ,ΘΕΑΤΡΟ,ΠΑΙΔΙ,ΥΠΑΙΘΡΙΑ ΔΡΑΣΗ,ΨΥΧΑΓΩΓΙΑ
ATTACH;FMTTYPE=image/jpeg:https://cityfestival.thisisathens.org/wp-content/uploads/2025/09/20240922-OSF-AthinasCarFree-Sunday-0066-scaled.jpg
END:VEVENT
BEGIN:VEVENT
DTSTART;TZID=Europe/Athens:20250921T120000
DTEND;TZID=Europe/Athens:20250921T150000
DTSTAMP:20260421T231826
CREATED:20250902T142139Z
LAST-MODIFIED:20250902T142229Z
UID:10004016-1758456000-1758466800@cityfestival.thisisathens.org
SUMMARY:Αντώνης Βαβαγιάννης: Δεν Είναι καν Κουίζ
DESCRIPTION:Ένα απροσδόκητο δρώμενο που ανατρέπει όσα ξέραμε για τα κουίζ! Στην καρδιά της Αθηνάς\, το κοινό γίνεται πρωταγωνιστής μιας εμπειρίας γεμάτης χιούμορ\, αλληλεπίδραση και απρόοπτα. Δεν είναι απλά μία δράση ερωτήσεων-απαντήσεων αλλά ένα ζωντανό παιχνίδι\, που σπάει τα όρια της φαντασίας και πλημμυρίζει τον δρόμο με ενέργεια.
URL:https://cityfestival.thisisathens.org/event/antonis-vavagiannis-den-einai-kan-quiz/
LOCATION:Αθηνάς\, Αθηνάς\, Αθήνα\, Αθήνα\, 105 52\, Greece
CATEGORIES:ΔΩΡΕΑΝ,ΥΠΑΙΘΡΙΑ ΔΡΑΣΗ,ΨΥΧΑΓΩΓΙΑ
ATTACH;FMTTYPE=image/png:https://cityfestival.thisisathens.org/wp-content/uploads/2025/09/vavagiannis_den-ine-kan-quiz.png
END:VEVENT
BEGIN:VEVENT
DTSTART;TZID=Europe/Athens:20250921T120000
DTEND;TZID=Europe/Athens:20250921T160000
DTSTAMP:20260421T231826
CREATED:20250903T080320Z
LAST-MODIFIED:20250903T081912Z
UID:10004021-1758456000-1758470400@cityfestival.thisisathens.org
SUMMARY:Dinoverse: Νομίζατε πως οι δεινόσαυροι εξαφανίστηκαν;
DESCRIPTION:Νομίζατε πως οι δεινόσαυροι εξαφανίστηκαν; Σκεφτείτε ξανά!\n\nΟ Ross\, ένας γλυκύτατος\, παιχνιδιάρης και γεμάτος ενέργεια έφηβος τυραννόσαυρος\, εμφανίζεται στην καρδιά της πόλης και ψάχνει φίλους. Ελάτε να τον γνωρίσετε από κοντά\, να τον ταΐσετε\, να βγάλετε φωτογραφίες\, να τον πάτε βόλτα και να παίξετε μαζί του όσο αντέχετε! Μια διασκεδαστική εμπειρία για μικρούς και μεγάλους που αποδεικνύει πως\, τελικά\, οι δεινόσαυροι είναι ακόμα εδώ!
URL:https://cityfestival.thisisathens.org/event/dinoverse-nomizate-pws-oi-deinosauroi-eksafanistikan/
LOCATION:Αθηνάς\, Αθηνάς\, Αθήνα\, Αθήνα\, 105 52\, Greece
CATEGORIES:ΔΩΡΕΑΝ,ΠΑΙΔΙ,ΥΠΑΙΘΡΙΑ ΔΡΑΣΗ,ΨΥΧΑΓΩΓΙΑ
ATTACH;FMTTYPE=image/jpeg:https://cityfestival.thisisathens.org/wp-content/uploads/2025/09/20240922-OSF-AthinasCarFree-Sunday-0080-scaled.jpg
END:VEVENT
BEGIN:VEVENT
DTSTART;TZID=Europe/Athens:20250921T133000
DTEND;TZID=Europe/Athens:20250921T150000
DTSTAMP:20260421T231826
CREATED:20250902T143258Z
LAST-MODIFIED:20250918T124841Z
UID:10004017-1758461400-1758466800@cityfestival.thisisathens.org
SUMMARY:Καρικατούρες απο τους: Θανάση Πετρόπουλο\, Δήμητρα Αδαμοπούλου\, Νικόλα Στεφαδούρο
DESCRIPTION:Στην οδό Αθηνάς\, το χαμόγελο γίνεται έργο τέχνης! Οι βραβευμένοι σκιτσογράφοι Θανάσης Πετρόπουλος\, Δήμητρα Αδαμοπούλου και Νικόλας Στεφαδούρος (Stef) μας περιμένουν για να ζωγραφίσουν μικρούς και μεγάλους με το δικό τους\, χιουμοριστικό στυλ. Ένα χαριτωμένο\, ζωντανό «στοπ καρέ» της μέρας\, που μετατρέπει τον δρόμο σε πολύχρωμο άλμπουμ γεμάτο γέλια\, εκπλήξεις και μικρές αναμνήσεις για όλη την οικογένεια. Μια πρωτότυπη εμπειρία που συνδυάζει την τέχνη της καρικατούρας με τη ζωντάνια του κέντρου της πόλης.
URL:https://cityfestival.thisisathens.org/event/karikatoures-petropoulos-adamopoulou-stef/
LOCATION:Αθηνάς\, Αθηνάς\, Αθήνα\, Αθήνα\, 105 52\, Greece
CATEGORIES:ΔΩΡΕΑΝ,ΥΠΑΙΘΡΙΑ ΔΡΑΣΗ,ΨΥΧΑΓΩΓΙΑ
ATTACH;FMTTYPE=image/png:https://cityfestival.thisisathens.org/wp-content/uploads/2025/09/dimi.png
END:VEVENT
BEGIN:VEVENT
DTSTART;TZID=Europe/Athens:20250921T183000
DTEND;TZID=Europe/Athens:20250921T200000
DTSTAMP:20260421T231826
CREATED:20250905T095718Z
LAST-MODIFIED:20250905T095718Z
UID:10004039-1758479400-1758484800@cityfestival.thisisathens.org
SUMMARY:Πάνος Βλάχος Live
DESCRIPTION:Μια μοναδική συναυλία γεμάτη αυτοσχεδιασμούς\, τραγούδι\, γέλιο και αυθορμητισμό έρχεται στην καρδιά της Αθήνας! Όσα έχει συγκεντρώσει όλα αυτά τα χρόνια στις αποσκευές του\, ο αεικίνητος ηθοποιός και τραγουδοποιός\, Πάνος Βλάχος\, τα καταθέτει στη σκηνή του «Αθηνάς Χωρίς Αυτοκίνητο»\, με γενναιοδωρία και συγκίνηση.\n\nΤα τραγούδια του αποτελούν μια αφήγηση με προσωπική\, κοινωνική και πολιτική διάσταση. Για τον Πάνο Βλάχο\, η τέχνη είναι παρέα και στη μέση της οδού Αθηνάς\, η παρέα αυτή γίνεται ακόμη πιο ζωντανή\, υποσχόμενη στιγμές μέθεξης\, συγκίνησης και χαράς.
URL:https://cityfestival.thisisathens.org/event/panos-vlahos-live/
LOCATION:Αθηνάς\, Αθηνάς\, Αθήνα\, Αθήνα\, 105 52\, Greece
CATEGORIES:ΔΩΡΕΑΝ,ΣΥΝΑΥΛΙΑ,ΥΠΑΙΘΡΙΑ ΔΡΑΣΗ,ΨΥΧΑΓΩΓΙΑ
ATTACH;FMTTYPE=image/jpeg:https://cityfestival.thisisathens.org/wp-content/uploads/2025/09/1B1A7965-copy-scaled.jpg
END:VEVENT
END:VCALENDAR