BEGIN:VCALENDAR
VERSION:2.0
PRODID:-//Το Φεστιβάλ του Δήμου Αθηναίων - ECPv6.12.0.1//NONSGML v1.0//EN
CALSCALE:GREGORIAN
METHOD:PUBLISH
X-WR-CALNAME:Το Φεστιβάλ του Δήμου Αθηναίων
X-ORIGINAL-URL:https://cityfestival.thisisathens.org
X-WR-CALDESC:Events for Το Φεστιβάλ του Δήμου Αθηναίων
REFRESH-INTERVAL;VALUE=DURATION:PT1H
X-Robots-Tag:noindex
X-PUBLISHED-TTL:PT1H
BEGIN:VTIMEZONE
TZID:Europe/Athens
BEGIN:DAYLIGHT
TZOFFSETFROM:+0200
TZOFFSETTO:+0300
TZNAME:EEST
DTSTART:20250330T010000
END:DAYLIGHT
BEGIN:STANDARD
TZOFFSETFROM:+0300
TZOFFSETTO:+0200
TZNAME:EET
DTSTART:20251026T010000
END:STANDARD
END:VTIMEZONE
BEGIN:VEVENT
DTSTART;TZID=Europe/Athens:20250508T183000
DTEND;TZID=Europe/Athens:20250508T200000
DTSTAMP:20260422T015921
CREATED:20250321T182939Z
LAST-MODIFIED:20250506T132212Z
UID:10000826-1746729000-1746734400@cityfestival.thisisathens.org
SUMMARY:Ξενάγηση στον Σύλλογο των Αθηναίων και Oμιλία με Θέμα: Αθηναϊκή Μετοικεσία
DESCRIPTION:Οι επισκέπτες θα ξεναγηθούν στον Σύλλογο των Αθηναίων και στο Αθηναϊκό Μουσείο\, ενώ θα παρακολουθήσουν την ομιλία του Προέδρου\, Ελευθέριου Γ. Σκιαδά\, με αφορμή την έκδοση του νέου του βιβλίου με τίτλο: «ΑΘΗΝΑΪΚΗ ΜΕΤΟΪΚΕΣΙΑ: Το έθιμο της ομαδικής μετακόμισης κάθε 1η Σεπτεμβρίου και το real estate από τα χρόνια του βασιλιά Όθωνα».\n\nΑπαιτείται κράτηση θέσης στο info@syllogostonathinaion.gr (Oνοματεπώνυμο\, Aριθμός Ατόμων\, Ημερομηνία Δράσης).
URL:https://cityfestival.thisisathens.org/event/xenagisi-sillogo-athinaion-omilia-athinaiki-metoikesia/
LOCATION:Σύλλογος των Αθηναίων\, Κέκροπος 10\, Αθήνα\, Αθήνα\, 105 58\, Greece
CATEGORIES:ΔΩΡΕΑΝ,ΙΣΤΟΡΙΑ,ΛΟΓΟΤΕΧΝΙΑ,ΜΟΥΣΕΙΟ,ΠΕΡΙΗΓΗΣΗ
ATTACH;FMTTYPE=image/png:https://cityfestival.thisisathens.org/wp-content/uploads/2025/03/ΑTHCF_8-ΜΑΪΟΥ.png
END:VEVENT
BEGIN:VEVENT
DTSTART;TZID=Europe/Athens:20250510T103000
DTEND;TZID=Europe/Athens:20250510T113000
DTSTAMP:20260422T015921
CREATED:20250423T124054Z
LAST-MODIFIED:20250506T131348Z
UID:10003644-1746873000-1746876600@cityfestival.thisisathens.org
SUMMARY:Ξενάγηση στο Σπίτι του Ελύτη
DESCRIPTION:Στο νεοκλασικό κτήριο στην οδό Διοσκούρων 4 & Πολυγνώτου\, από την 1η Νοεμβρίου 2024 λειτουργεί το νέο Μουσείο «ΣΠΙΤΙ ΤΟΥ ΕΛΥΤΗ».\n\nΤο Μουσείο φιλοξενεί μία μόνιμη έκθεση αφιερωμένη στη ζωή και στο έργο του μεγάλου ποιητή. Χειρόγραφα\, εκδόσεις ελληνικές και ξένες\, εικαστικά έργα\, ποικίλα αυθεντικά τεκμήρια από το σπίτι του Ελύτη\, παρουσιάζονται μαζί με το σύνολο του γραφείου του ποιητή\, του χώρου όπου εργαζόταν από το 1962 έως το τέλος της ζωής του.\n\nΑπαιτείται η κράτηση θέσης: info@elytishousemuseum.gr
URL:https://cityfestival.thisisathens.org/event/xenagisi-spiti-elyti/
LOCATION:Σπίτι του Ελύτη – Μουσείο\, Πολυγνώτου 7\, Αθήνα\, Αθήνα\, 105 55\, Greece
CATEGORIES:ΔΩΡΕΑΝ,ΕΚΘΕΣΗ,ΛΟΓΟΤΕΧΝΙΑ,ΜΟΥΣΕΙΟ,ΠΕΡΙΗΓΗΣΗ
ATTACH;FMTTYPE=image/jpeg:https://cityfestival.thisisathens.org/wp-content/uploads/2025/03/elitis_banner.jpg
END:VEVENT
BEGIN:VEVENT
DTSTART;TZID=Europe/Athens:20250516T173000
DTEND;TZID=Europe/Athens:20250516T223000
DTSTAMP:20260422T015921
CREATED:20250512T173413Z
LAST-MODIFIED:20250512T185512Z
UID:10003944-1747416600-1747434600@cityfestival.thisisathens.org
SUMMARY:6ο Φεστιβάλ Αστυνομικής Λογοτεχνίας
DESCRIPTION:Το 6ο Φεστιβάλ Αστυνομικής Λογοτεχνίας Agatha στην Αθήνα είναι γεγονός! \nΗ διοργάνωση-σταθμός για την ελληνική αστυνομική λογοτεχνία έρχεται ξανά\, για έκτη συνεχόμενη χρονιά\, να φέρει κοντά ανα-γνώστες\, συγγραφείς και εκδότες στη μεγάλη γιορτή του βιβλίου.\nΟι εργασίες του φεστιβάλ κορυφώνονται το τριήμερο 16\, 17 και 18 Μαΐου 2025\, στο Πολεμικό Μουσείο (Βασ. Σοφίας & Ριζάρη 2\, Αθήνα). \nΤιμές Εισιτηρίων: \nΗμερήσιο 6€ \nΤριήμερο 14€\n \nΑναλυτικό πρόγραμμα: \n \n\nΠαρασκευή 16 Μαΐου – Αίθουσα Ρήγας Φεραίος\n\n17:30: Πέτρος Μάρκαρης vs Κώστας Χαρίτος.\n\nΜια συζήτηση εφ’ όλης της ύλης για τον συγγραφέα και τον άνθρωπο Πέτρο Μάρκαρη και τον πασίγνωστο ήρωα του Κώστα Χαρίτο.\n\nΟμιλητές: Γρηγόρης Αζαριάδης (συγγραφέας\, κριτικός αστυνομικής λογοτεχνίας)\, Βάσω Κυριαζάκου (μεταφράστρια\, επιμελήτρια).\n\n \n\n19:00: Αφιέρωμα: Romy Hausmann\n\nΠαρουσίαση και ομιλία της συγγραφέα\, σε συνεργασία με το Ινστιτούτο ÖSD Ελλάδας και τις εκδόσεις Μεταίχμιο.\n\nΟμιλητές: Βαγγέλης Γιαννίσης (συγγραφέας και μεταφραστής)\, Κλαίρη Θεοδώρου (συγγραφέας).\n\nΣτην εκδήλωση θα υπάρχει διαδοχική διερμηνεία από την Κλαίρη Θεοδώρου.\n\n \n\n20:30: Debate: Κλασικό VS σύγχρονο αστυνομικό μυθιστόρημα\n\nΗ Ελληνική Λέσχη Συγγραφέων Αστυνομικής Λογοτεχνίας (ΕΛΣΑΛ) διοργανώνει μια εκδήλωση που πλέον έχει γίνει παράδοση. Από τη μια πλευρά του «ρινγκ»\, υποστηρίζοντας τους «δεινόσαυρους» της αστυνομικής λογοτεχνίας\, οι συγγραφείς Αλίκη Αλιφέρη\, Γεωργία Παπαλυμπέρη και Κώστας Στοφόρος\, ενώ απέναντι\, στο πλευρό της πιο «φρέσκιας» άποψης\, οι Τεύκρος Μιχαηλίδης\, Τέση Παπαθανασίου και Έλενα Χουσνή.\n\nΣυντονίζει η Έρικα Αθανασίου (συγγραφέας).\n 
URL:https://cityfestival.thisisathens.org/event/6o-festival-astynomikis-logotehnias/
LOCATION:Πολεμικό Μουσείο\, Ριζάρη 2-4\, Αθήνα\, Αθήνα\, 106 75\, Greece
CATEGORIES:ΛΟΓΟΤΕΧΝΙΑ,ΨΥΧΑΓΩΓΙΑ
ATTACH;FMTTYPE=image/jpeg:https://cityfestival.thisisathens.org/wp-content/uploads/2025/05/Φεστιβάλ-Αστυνομικής-Λογοτεχνίαςjpg.jpg
END:VEVENT
BEGIN:VEVENT
DTSTART;TZID=Europe/Athens:20250517T160000
DTEND;TZID=Europe/Athens:20250517T223000
DTSTAMP:20260422T015921
CREATED:20250512T182402Z
LAST-MODIFIED:20250512T183757Z
UID:10003945-1747497600-1747521000@cityfestival.thisisathens.org
SUMMARY:6ο Φεστιβάλ Αστυνομικής Λογοτεχνίας
DESCRIPTION:Το 6ο Φεστιβάλ Αστυνομικής Λογοτεχνίας Agatha στην Αθήνα είναι γεγονός!\n\nΗ διοργάνωση-σταθμός για την ελληνική αστυνομική λογοτεχνία έρχεται ξανά\, για έκτη συνεχόμενη χρονιά\, να φέρει κοντά ανα-γνώστες\, συγγραφείς και εκδότες στη μεγάλη γιορτή του βιβλίου.\nΟι εργασίες του φεστιβάλ κορυφώνονται το τριήμερο 16\, 17 και 18 Μαΐου 2025\, στο Πολεμικό Μουσείο (Βασ. Σοφίας & Ριζάρη 2\, Αθήνα).\n\nΤιμές Εισιτηρίων:\n\nΗμερήσιο 6€\n\nΤριήμερο 14€\n\nΑναλυτικό πρόγραμμα:\n\n \n\nΣάββατο 17 Μαΐου – Μεγάλη Αίθουσα\n\n16:00: Προβολές ταινιών μικρού μήκους\n\nΘα προβληθούν οι ταινίες:\n\n 	CLEANER Συγγραφέας / σκηνοθέτης: Κώστας Γερμπάνης.\n 	Lou Σενάριο / σκηνοθεσία: Αντονίνα Φρόκου.\n 	InBetween  Σενάριο / σκηνοθεσία: Εύα Καζαντζή.\n 	That Night Σενάριο / σκηνοθεσία: Κωνσταντίνος Γουργιώτης.\n 	Η Μπλε Φάλαινα Σενάριο / σκηνοθεσία: Παναγιώτης Γλυνός.\n 	Ο θάνατος του Κηπουρού Σενάριο / σκηνοθεσία: Χριστίνα Σπηλιοπούλου.\n\nΤις ταινίες και τους σκηνοθέτες θα παρουσιάσει ο συγγραφέας Βαγγέλης Μπέκας.\n\nΗ εκδήλωση πραγματοποιείται με την υποστήριξη του New York College.\n\n18:00: Η μουσική στην αστυνομική λογοτεχνία\n\nΜια πρωτότυπη ραδιοφωνική εκπομπή που θα μαγνητοσκοπηθεί\, με ποικιλία τραγουδιών από μυθιστορήματα αστυνομικής λογοτεχνίας.\n\nΟμιλητές: Νίκος Γεωργιάδης (συγγραφέας)\, Θανάσης Λαζαρίδης (ραδιοφωνικός παραγωγός)\, Χίλντα Παπαδημητρίου (συγγραφέας\, μεταφράστρια).\n\n \n\n19:30: Αφιέρωμα: Jean-Christophe Grangé\n\nΟ μετρ του γαλλικού αστυνομικού μυθιστορήματος\, του σασπένς και της ανατροπής στην Αθήνα. Παρουσίαση και ομιλία του Γάλλου συγγραφέα και δημοσιογράφου Ζαν-Κριστόφ Γκρανζέ για πρώτη φορά στην Ελλάδα\, σε συνεργασία με το Γαλλικό Ινστιτούτο και τις εκδόσεις Καλέντη.\n\nΟμιλητές: Γρηγόρης Αζαριάδης (συγγραφέας\, κριτικός αστυνομικής λογοτεχνίας)\, Ελεονώρα Ορφανίδου (δημοσιογράφος\, ραδιοφωνικός παραγωγός)\, Μάκης Προβατάς (δημοσιογράφος\, συγγραφέας).\n\nΣτην εκδήλωση θα υπάρχει διαδοχική διερμηνεία από τη Νέβη Γκρουλλέρο.\n\n \n\n21:00: Θέατρο: «Θέρετρα και Φέρετρα»\n\nΠρωτότυπη θεατρική παράσταση με την συνεργασία όλων των συμμετεχόντων σε σκηνοθεσία της Ευφροσύνης Γιαννάκενα.\n\nΔιάλογοι: Γρηγόρης Αζαριάδης\, Άντυ Βρόσγος\, Χρήστος Γιαννάκενας\, Γεωργία Παπαλυμπέρη.\n\nΧορογραφία: Αλέξανδρος Γεωργίου.\n\nΠαίζουν: Γρηγόρης Αζαριάδης\, Έρικα Αθανασίου\, Άντυ Βρόσγος\, Χρήστος Γιαννάκενας\, Μίνως Ευσταθιάδης\, Σπύρος Κακατσάκης\, Γιάννης Μόσχος\, Έλενα Μπολονάση\, Βάσω Παπαδοπούλου\, Τέση Παπαθανασίου\, Γεωργία Παπαλυμπέρη\, Ιωάννα Πετρίδου\, Άγγελος Χαριάτης\, Έλενα Χουσνή\, Γιάννης Χουτόπουλος.\n\nΈκτακτη εμφάνιση: Γιάννης Πανούσης.\n\n \n\nΣάββατο 17 Μαΐου – Αίθουσα Ρήγας Φεραίος\n\n18:00 – 19:30: Η ρουμανική αστυνομική λογοτεχνία:\nΗ περίπτωση Teodorescu\n\nΟμιλητής: Bogdan Hrib (συγγραφέας και εκδότης)\, Άντζελα Μπράτσου (μεταφράστρια)\, Νέστορας Πουλάκος (εκδότης).\n\nΣτην εκδήλωση θα υπάρχει διαδοχική διερμηνεία από την Άντζελα Μπράτσου.\n\n \n\n19:30 – 22:00:  Studio Phonetics: «Εγκληματικά» τραγούδια\n\nΕρμηνεύουν: Αγάογλου Μάνος\, Αρβανίτη Αλέκα\, Αρβανίτη Γιούλη\, Γεώργα Μαργαρίτα\, Γεωργούλα Άνσυ\, Διοσκουρίδης Αλέξανδρος\, Δρακακάκης Ιάσωνας\, Ζαχαροπούλου Κατερίνα\, Κουλούρης Ανδρέας\, Λίσκα Νόνη\, Μιμίνης Γιώργος\, Μπαφές Διονύσης\, Μπερτσιάς Κωνσταντίνος\, Πίττα Λίλα\, Πολυχρονίδη Ελεάνα\, Σμέρος Σωτήρης\, Τσιτσίνης Γιάννης\, Φεύγα Δήμητρα.\n\nΚαθοδηγούν: Μαρίτα Καψανάκη\, Δημήτρης Κατακουζηνός\,\nΜιχάλης Σμέρος.\n\nΣάββατο 17 Μαΐου – Αίθουσα Αδαμάντιος Κοραής\n\n18:30 – 19:30: Escape Book: ΑΣΥΛΟ 616\n\nΟ συγγραφέας του βιβλίου «ΑΣΥΛΟ 616» Κώστας Χαμαλάκης συνομιλεί με τον μεταφραστή Νίκο Στρατηγάκη για τα escape books. Θα παρουσιαστεί ένα διαδραστικό παιχνίδι για το κοινό βασισμένο στους γρίφους του βιβλίου.
URL:https://cityfestival.thisisathens.org/event/6%ce%bf-%cf%86%ce%b5%cf%83%cf%84%ce%b9%ce%b2%ce%ac%ce%bb-%ce%b1%cf%83%cf%84%cf%85%ce%bd%ce%bf%ce%bc%ce%b9%ce%ba%ce%ae%cf%82-%ce%bb%ce%bf%ce%b3%ce%bf%cf%84%ce%b5%cf%87%ce%bd%ce%af%ce%b1%cf%82/
LOCATION:Πολεμικό Μουσείο\, Ριζάρη 2-4\, Αθήνα\, Αθήνα\, 106 75\, Greece
CATEGORIES:ΛΟΓΟΤΕΧΝΙΑ
ATTACH;FMTTYPE=image/jpeg:https://cityfestival.thisisathens.org/wp-content/uploads/2025/05/Φεστιβάλ-Αστυνομικής-Λογοτεχνίαςjpg.jpg
END:VEVENT
BEGIN:VEVENT
DTSTART;TZID=Europe/Athens:20250518T140000
DTEND;TZID=Europe/Athens:20250518T223000
DTSTAMP:20260422T015921
CREATED:20250512T184541Z
LAST-MODIFIED:20250512T184541Z
UID:10003947-1747576800-1747607400@cityfestival.thisisathens.org
SUMMARY:6ο Φεστιβάλ Αστυνομικής Λογοτεχνίας
DESCRIPTION:Το 6ο Φεστιβάλ Αστυνομικής Λογοτεχνίας Agatha στην Αθήνα είναι γεγονός!\n\nΗ διοργάνωση-σταθμός για την ελληνική αστυνομική λογοτεχνία έρχεται ξανά\, για έκτη συνεχόμενη χρονιά\, να φέρει κοντά ανα-γνώστες\, συγγραφείς και εκδότες στη μεγάλη γιορτή του βιβλίου.\nΟι εργασίες του φεστιβάλ κορυφώνονται το τριήμερο 16\, 17 και 18 Μαΐου 2025\, στο Πολεμικό Μουσείο (Βασ. Σοφίας & Ριζάρη 2\, Αθήνα).\n\nΤιμές Εισιτηρίων:\n\nΗμερήσιο 6€\n\nΤριήμερο 14€\n\nΑναλυτικό πρόγραμμα:\n\nΚυριακή 18 Μαΐου – Lobby\n\n14:00 – 17:00: Έγκλημα στο Πολεμικό Μουσείο\n\nΗ συγγραφέας Τέση Παπαθανασίου έχει ετοιμάσει μια σειρά γρίφων και μυστικών κλειδιών που μας περιμένουν να τα ακολουθήσουμε μέχρι τη λύση του μυστηρίου. Για παιδιά από 8 ετών.\n\n \n\n17:00: Μυστήριο στο Πολεμικό Μουσείο\n\nΠοιος ήταν ο μυστηριώδης διαρρήκτης; Τι αναζητούσε ανάμεσα στα εκθέματα του Μουσείου;Μέσα από γρίφους και στοιχεία που θα συγκεντρώσουμε σε ένα πρωτότυπο «κυνήγι θησαυρού» θα δημιουργήσουμε όλοι μαζί μια δική μας αστυνομική ιστορία.\n\nΤη δράση συντονίζει ο δημοσιογράφος και συγγραφέας Κώστας Στοφόρος.\n\nΚυριακή 18 Μαΐου – Αίθουσα Αδαμάντιος Κοραής\n\n15:00: Τρόμος στην πτήση Lufthansa 3015\n\nΖωντανό role playing game μυστηρίου από τη δημιουργική ομάδα της Gamecraft.\n\nΖήστε μια περιπέτεια\, αναλαμβάνοντας ρόλους φανταστικών χαρακτήρων και επηρεάστε την εξέλιξή της!\n\nΔήλωση συμμετοχών έως τις 10 Μαΐου στο τηλέφωνο 6958465415.\n\n \n\n18:00 – 19:00: Στρογγυλή τράπεζα\n\nΣυγγραφείς\, εκδότες και ατζέντηδες συζητούν με τον Bogdan Hrib για την εκδοτική αλληλεπίδραση Ελλάδας και Ρουμανίας.\n\n \n\nΚυριακή 18 Μαΐου – Αίθουσα Ρήγας Φεραίος\n\n15:30 – 17:00: «Ήρωες και ιστορίες»:\nΕργαστήριο δημιουργικής γραφής για παιδιά\n\nΗ συγγραφέας Έρικα Αθανασίου δημιουργεί με τα παιδιά νέους ήρωες και τους συνδέει με γνωστές ιστορίες. Για παιδιά από 8 ετών.\n\n \n\n17:00 – 18:00: Ανήλικοι και Βία\n\nΠαρουσίαση κοινωνικών ερευνών από το τμήμα εγκληματολογίας της Tabula Rasa. Η εγκληματολόγος Έλενα Μπολονάση (δικηγόρος\, εγκληματολόγος\, συγγραφέας) και οι μαθητές της παρουσιάζουν την έρευνά τους με θέμα «Ανήλικοι και Βία».\n\n \n\n18:00 – 18:30: Stand Up Crime Comedy \n\nΟ συγγραφέας Βαγγέλης Μπέκας σε μια κρίση τρέλας ανεβαίνει στην σκη-νή για να αποδείξει ότι η αστυνομική λογοτεχνία μπορεί να γίνει stand up.\n\n \n\n18:30 – 20:00: True Crime\n\nΕκδήλωση με θέμα το είδος True Crime.\n\nΟμιλητές/Ομιλήτρια: Μάρθα Λεμπέση (Κοινωνιολόγος\, ΜΔΕ Εγκληματολογίας\, Διευθύντρια Κέντρου Μελέτης του Εγκλήματος – ΚΕ.Μ.Ε.)\, Γιάννης Πανούσης (ομότιμος καθηγητής εγκληματολογίας)\, Γιώργος Τσούκαλης (ιδιωτικός ερευνητής)\, Κώστας Χασιώτης (αστυνομικός υποδιευθυντής\, πρώην προϊστάμενος του Τμήματος Ανθρωποκτονιών).\n\n \n\n20:00 – 21:00: Τιμητική Βράβευση\n\nΤο φετινό βραβείο αφιερώνεται στη μνήμη του Σέργιου Γκάκα. Συγγραφείς και φίλοι παρουσιάζουν σκέψεις και αναμνήσεις για το έργο και τη ζωή του.
URL:https://cityfestival.thisisathens.org/event/60-festival-astynomikis-logotexnias/
LOCATION:Πολεμικό Μουσείο\, Ριζάρη 2-4\, Αθήνα\, Αθήνα\, 106 75\, Greece
CATEGORIES:ΛΟΓΟΤΕΧΝΙΑ
ATTACH;FMTTYPE=image/jpeg:https://cityfestival.thisisathens.org/wp-content/uploads/2025/05/Φεστιβάλ-Αστυνομικής-Λογοτεχνίαςjpg.jpg
END:VEVENT
BEGIN:VEVENT
DTSTART;TZID=Europe/Athens:20250524T103000
DTEND;TZID=Europe/Athens:20250524T113000
DTSTAMP:20260422T015921
CREATED:20250423T124207Z
LAST-MODIFIED:20250519T133802Z
UID:10003645-1748082600-1748086200@cityfestival.thisisathens.org
SUMMARY:Ξενάγηση στο Σπίτι του Ελύτη
DESCRIPTION:Στο νεοκλασικό κτήριο στην οδό Διοσκούρων 4 & Πολυγνώτου\, από την 1η Νοεμβρίου 2024 λειτουργεί το νέο Μουσείο «ΣΠΙΤΙ ΤΟΥ ΕΛΥΤΗ».\n\nΤο Μουσείο φιλοξενεί μία μόνιμη έκθεση αφιερωμένη στη ζωή και στο έργο του μεγάλου ποιητή. Χειρόγραφα\, εκδόσεις ελληνικές και ξένες\, εικαστικά έργα\, ποικίλα αυθεντικά τεκμήρια από το σπίτι του Ελύτη\, παρουσιάζονται μαζί με το σύνολο του γραφείου του ποιητή\, του χώρου όπου εργαζόταν από το 1962 έως το τέλος της ζωής του.\n\nΑπαιτείται η κράτηση θέσης: info@elytishousemuseum.gr\n\nΟι θέσεις έχουν καλυφθεί.
URL:https://cityfestival.thisisathens.org/event/xenagisi-spiti-elyti-2/
LOCATION:Σπίτι του Ελύτη – Μουσείο\, Πολυγνώτου 7\, Αθήνα\, Αθήνα\, 105 55\, Greece
CATEGORIES:ΔΩΡΕΑΝ,ΕΚΘΕΣΗ,ΛΟΓΟΤΕΧΝΙΑ,ΜΟΥΣΕΙΟ,ΠΕΡΙΗΓΗΣΗ
ATTACH;FMTTYPE=image/jpeg:https://cityfestival.thisisathens.org/wp-content/uploads/2025/03/elitis_banner.jpg
END:VEVENT
END:VCALENDAR