BEGIN:VCALENDAR
VERSION:2.0
PRODID:-//Το Φεστιβάλ του Δήμου Αθηναίων - ECPv6.12.0.1//NONSGML v1.0//EN
CALSCALE:GREGORIAN
METHOD:PUBLISH
X-WR-CALNAME:Το Φεστιβάλ του Δήμου Αθηναίων
X-ORIGINAL-URL:https://cityfestival.thisisathens.org
X-WR-CALDESC:Events for Το Φεστιβάλ του Δήμου Αθηναίων
REFRESH-INTERVAL;VALUE=DURATION:PT1H
X-Robots-Tag:noindex
X-PUBLISHED-TTL:PT1H
BEGIN:VTIMEZONE
TZID:Europe/Athens
BEGIN:DAYLIGHT
TZOFFSETFROM:+0200
TZOFFSETTO:+0300
TZNAME:EEST
DTSTART:20250330T010000
END:DAYLIGHT
BEGIN:STANDARD
TZOFFSETFROM:+0300
TZOFFSETTO:+0200
TZNAME:EET
DTSTART:20251026T010000
END:STANDARD
BEGIN:DAYLIGHT
TZOFFSETFROM:+0200
TZOFFSETTO:+0300
TZNAME:EEST
DTSTART:20260329T010000
END:DAYLIGHT
BEGIN:STANDARD
TZOFFSETFROM:+0300
TZOFFSETTO:+0200
TZNAME:EET
DTSTART:20261025T010000
END:STANDARD
END:VTIMEZONE
BEGIN:VEVENT
DTSTART;TZID=Europe/Athens:20250509T170000
DTEND;TZID=Europe/Athens:20250509T233000
DTSTAMP:20260420T045255
CREATED:20250418T143719Z
LAST-MODIFIED:20250506T131641Z
UID:10003529-1746810000-1746833400@cityfestival.thisisathens.org
SUMMARY:World of Beer Festival
DESCRIPTION:Ψάχνεις μία ξεχωριστή πρόταση διασκέδασης; Σου αρέσει η μπίρα και η καλή μουσική; Λατρεύεις το stand up; Είσαι fun των φεστιβάλ;\n\nTo World of Beer Festival είναι το μεγαλύτερο φεστιβάλ μπίρας στην Ελλάδα και έρχεται από τις 9 έως τις 11 Μαίου στην Τεχνόπολη του Δήμου Αθηναίων.\n\nLager\, Ale\, Weiss\, Pils\, Pale Ale\, Trappist\, Αbbey\, Tripel\, Dinkel\, Draught αλλά και Μηλίτη… ότι και να πίνεις\, στο φεστιβάλ θα βρεις αμέτρητες ετικέτες μπίρας από τις καλύτερες ζυθοποιίες και μικροζυθοποιίες. Επίσης\, εξαιρετικές επιλογές σε comfort food\, street food\, snacks\, προτάσεις σε είδη σερβιρίσματος της μπίρας αλλά και αξεσουάρ.\n\nΚάθε ημέρα\, η σκηνή του φεστιβάλ φιλοξενεί συναυλίες με διάσημους καλλιτέχνες: Onirama\, Stavento\, Μελίνα Κανά\, Χρήστο Δάντη\, Υπόγεια Ρεύματα\, Γιαγκίνηδες\, Wedding Singers\, The Speakeasies Swing Band\, Prestige the Βand.\nΟ Λάμπρος Φισφής και ο Διονύσης Ατζαράκης\, οι special guest hosts του φεστιβάλ\, θα πραγματοποιήσουν stand-up και sit down shows.\n\nΜπες τώρα και κλείσε το εισιτήριό σου και επωφελήσου από την προνομιακή τιμή προπώλησης των 5€.*\n\n*Το εισιτήριο\, τις ημέρες του φεστιβάλ θα πωλείται online και στα φυσικά ταμεία 7€.\n\nΤι άλλο πρέπει να γνωρίζεις;\nΌλοι οι επισκέπτες θα λάβουν\, κατά την είσοδο τους\, tote bag που θα περιλαμβάνει συλλεκτικά και branded δώρα όπως 1 ποτήρι 330ml με χάραξη στα 100ml\, 1 σουβέρ κ.ά.
URL:https://cityfestival.thisisathens.org/event/world-of-beer-festival/
LOCATION:Τεχνόπολη Δήμου Αθηναίων\, Πειραιώς 100\, Αθήνα\, Αθήνα\, 118 54\, Greece
CATEGORIES:DJ SET,ΓΑΣΤΡΟΝΟΜΙΑ,ΨΥΧΑΓΩΓΙΑ
ATTACH;FMTTYPE=image/jpeg:https://cityfestival.thisisathens.org/wp-content/uploads/2025/04/IAK00743.jpeg
END:VEVENT
BEGIN:VEVENT
DTSTART;TZID=Europe/Athens:20250510T140000
DTEND;TZID=Europe/Athens:20250510T233000
DTSTAMP:20260420T045255
CREATED:20250418T143848Z
LAST-MODIFIED:20250506T131226Z
UID:10003530-1746885600-1746919800@cityfestival.thisisathens.org
SUMMARY:World of Beer Festival
DESCRIPTION:Ψάχνεις μία ξεχωριστή πρόταση διασκέδασης; Σου αρέσει η μπίρα και η καλή μουσική; Λατρεύεις το stand up; Είσαι fun των φεστιβάλ;\n\nTo World of Beer Festival είναι το μεγαλύτερο φεστιβάλ μπίρας στην Ελλάδα και έρχεται από τις 9 έως τις 11 Μαίου στην Τεχνόπολη του Δήμου Αθηναίων.\n\nLager\, Ale\, Weiss\, Pils\, Pale Ale\, Trappist\, Αbbey\, Tripel\, Dinkel\, Draught αλλά και Μηλίτη… ότι και να πίνεις\, στο φεστιβάλ θα βρεις αμέτρητες ετικέτες μπίρας από τις καλύτερες ζυθοποιίες και μικροζυθοποιίες. Επίσης\, εξαιρετικές επιλογές σε comfort food\, street food\, snacks\, προτάσεις σε είδη σερβιρίσματος της μπίρας αλλά και αξεσουάρ.\n\nΚάθε ημέρα\, η σκηνή του φεστιβάλ φιλοξενεί συναυλίες με διάσημους καλλιτέχνες: Onirama\, Stavento\, Μελίνα Κανά\, Χρήστο Δάντη\, Υπόγεια Ρεύματα\, Γιαγκίνηδες\, Wedding Singers\, The Speakeasies Swing Band\, Prestige the Βand.\nΟ Λάμπρος Φισφής και ο Διονύσης Ατζαράκης\, οι special guest hosts του φεστιβάλ\, θα πραγματοποιήσουν stand-up και sit down shows.\n\nΜπες τώρα και κλείσε το εισιτήριό σου και επωφελήσου από την προνομιακή τιμή προπώλησης των 5€.*\n\n*Το εισιτήριο\, τις ημέρες του φεστιβάλ θα πωλείται online και στα φυσικά ταμεία 7€.\n\nΤι άλλο πρέπει να γνωρίζεις;\nΌλοι οι επισκέπτες θα λάβουν\, κατά την είσοδο τους\, tote bag που θα περιλαμβάνει συλλεκτικά και branded δώρα όπως 1 ποτήρι 330ml με χάραξη στα 100ml\, 1 σουβέρ κ.ά.
URL:https://cityfestival.thisisathens.org/event/world-of-beer-festival-2/
LOCATION:Τεχνόπολη Δήμου Αθηναίων\, Πειραιώς 100\, Αθήνα\, Αθήνα\, 118 54\, Greece
CATEGORIES:DJ SET,ΓΑΣΤΡΟΝΟΜΙΑ,ΨΥΧΑΓΩΓΙΑ
ATTACH;FMTTYPE=image/jpeg:https://cityfestival.thisisathens.org/wp-content/uploads/2025/04/IAK00743.jpeg
END:VEVENT
BEGIN:VEVENT
DTSTART;TZID=Europe/Athens:20250511T140000
DTEND;TZID=Europe/Athens:20250511T233000
DTSTAMP:20260420T045255
CREATED:20250418T144017Z
LAST-MODIFIED:20250506T130755Z
UID:10003531-1746972000-1747006200@cityfestival.thisisathens.org
SUMMARY:World of Beer Festival
DESCRIPTION:Ψάχνεις μία ξεχωριστή πρόταση διασκέδασης; Σου αρέσει η μπίρα και η καλή μουσική; Λατρεύεις το stand up; Είσαι fun των φεστιβάλ;\n\nTo World of Beer Festival είναι το μεγαλύτερο φεστιβάλ μπίρας στην Ελλάδα και έρχεται από τις 9 έως τις 11 Μαίου στην Τεχνόπολη του Δήμου Αθηναίων.\n\nLager\, Ale\, Weiss\, Pils\, Pale Ale\, Trappist\, Αbbey\, Tripel\, Dinkel\, Draught αλλά και Μηλίτη… ότι και να πίνεις\, στο φεστιβάλ θα βρεις αμέτρητες ετικέτες μπίρας από τις καλύτερες ζυθοποιίες και μικροζυθοποιίες. Επίσης\, εξαιρετικές επιλογές σε comfort food\, street food\, snacks\, προτάσεις σε είδη σερβιρίσματος της μπίρας αλλά και αξεσουάρ.\n\nΚάθε ημέρα\, η σκηνή του φεστιβάλ φιλοξενεί συναυλίες με διάσημους καλλιτέχνες: Onirama\, Stavento\, Μελίνα Κανά\, Χρήστο Δάντη\, Υπόγεια Ρεύματα\, Γιαγκίνηδες\, Wedding Singers\, The Speakeasies Swing Band\, Prestige the Βand.\nΟ Λάμπρος Φισφής και ο Διονύσης Ατζαράκης\, οι special guest hosts του φεστιβάλ\, θα πραγματοποιήσουν stand-up και sit down shows.\n\nΜπες τώρα και κλείσε το εισιτήριό σου και επωφελήσου από την προνομιακή τιμή προπώλησης των 5€.*\n\n*Το εισιτήριο\, τις ημέρες του φεστιβάλ θα πωλείται online και στα φυσικά ταμεία 7€.\n\nΤι άλλο πρέπει να γνωρίζεις;\nΌλοι οι επισκέπτες θα λάβουν\, κατά την είσοδο τους\, tote bag που θα περιλαμβάνει συλλεκτικά και branded δώρα όπως 1 ποτήρι 330ml με χάραξη στα 100ml\, 1 σουβέρ κ.ά.
URL:https://cityfestival.thisisathens.org/event/world-of-beer-festival-3/
LOCATION:Τεχνόπολη Δήμου Αθηναίων\, Πειραιώς 100\, Αθήνα\, Αθήνα\, 118 54\, Greece
CATEGORIES:DJ SET,ΓΑΣΤΡΟΝΟΜΙΑ,ΨΥΧΑΓΩΓΙΑ
ATTACH;FMTTYPE=image/jpeg:https://cityfestival.thisisathens.org/wp-content/uploads/2025/04/IAK00743.jpeg
END:VEVENT
BEGIN:VEVENT
DTSTART;TZID=Europe/Athens:20260508T140000
DTEND;TZID=Europe/Athens:20260508T233000
DTSTAMP:20260420T045255
CREATED:20260408T122650Z
LAST-MODIFIED:20260408T123607Z
UID:10005224-1778248800-1778283000@cityfestival.thisisathens.org
SUMMARY:World of Beer Festival 2026
DESCRIPTION:Το Φεστιβάλ του Δήμου Αθηναίων 2026 συναντά το World of Beer Festival για ένα μοναδικό τριήμερο αφιερωμένο σε όσους αγαπούν την καλή μπίρα\, το φαγητό και τη μουσική. Από τις 8 έως τις 10 Μαΐου\, στην Τεχνόπολη του Δήμου Αθηναίων θα συγκεντρωθούν πάνω από 300 beer brands από την Ελλάδα και το εξωτερικό: από κλασικές lager και weiss μέχρι πρωτότυπες craft μπίρες με μαστίχα ή λεβάντα.\n\nΣτα Beer Talks & Tastings\, οι ειδικοί θα αποκαλύψουν τα μυστικά του τέλειου pairing\, ενώ η εμπειρία θα απογειωθεί με λαχταριστό street food και ένα εκρηκτικό line-up 9 διαφορετικών συναυλιών: από το rock των Magic de Spell και του Διονύση Τσακνή μέχρι τα παραδοσιακά ικαριώτικα γλέντια του Νίκου Φάκαρου.\n\nΤο γέλιο έχει την τιμητική του με κορυφαία stand-up shows από τους Βαγγέλη Χαρισόπουλο\, Δήμητρα Νικητέα και άλλους αγαπημένους κωμικούς. Με games area\, τα Greek Beer Awards 2026 και μια ατμόσφαιρα γεμάτη ενέργεια\, το World of Beer γίνεται το απόλυτο σημείο συνάντησης της πόλης.\n\nΚλείστε το εισιτήριό σας και ετοιμαστείτε για ένα τριήμερο που τα έχει όλα\, απολαμβάνοντας πάντα υπεύθυνα!
URL:https://cityfestival.thisisathens.org/event/world-of-beer-festival-2026/2026-05-08/
LOCATION:Τεχνόπολη Δήμου Αθηναίων\, Πειραιώς 100\, Αθήνα\, Αθήνα\, 118 54\, Greece
CATEGORIES:DJ SET,ΓΑΣΤΡΟΝΟΜΙΑ,ΣΥΝΑΥΛΙΑ,ΨΥΧΑΓΩΓΙΑ
ATTACH;FMTTYPE=image/jpeg:https://cityfestival.thisisathens.org/wp-content/uploads/2026/04/DJI_20250510203440_0199_D-scaled.jpg
END:VEVENT
BEGIN:VEVENT
DTSTART;TZID=Europe/Athens:20260509T120000
DTEND;TZID=Europe/Athens:20260509T233000
DTSTAMP:20260420T045255
CREATED:20260408T122650Z
LAST-MODIFIED:20260408T123607Z
UID:10005225-1778328000-1778369400@cityfestival.thisisathens.org
SUMMARY:World of Beer Festival 2026
DESCRIPTION:Το Φεστιβάλ του Δήμου Αθηναίων 2026 συναντά το World of Beer Festival για ένα μοναδικό τριήμερο αφιερωμένο σε όσους αγαπούν την καλή μπίρα\, το φαγητό και τη μουσική. Από τις 8 έως τις 10 Μαΐου\, στην Τεχνόπολη του Δήμου Αθηναίων θα συγκεντρωθούν πάνω από 300 beer brands από την Ελλάδα και το εξωτερικό: από κλασικές lager και weiss μέχρι πρωτότυπες craft μπίρες με μαστίχα ή λεβάντα.\n\nΣτα Beer Talks & Tastings\, οι ειδικοί θα αποκαλύψουν τα μυστικά του τέλειου pairing\, ενώ η εμπειρία θα απογειωθεί με λαχταριστό street food και ένα εκρηκτικό line-up 9 διαφορετικών συναυλιών: από το rock των Magic de Spell και του Διονύση Τσακνή μέχρι τα παραδοσιακά ικαριώτικα γλέντια του Νίκου Φάκαρου.\n\nΤο γέλιο έχει την τιμητική του με κορυφαία stand-up shows από τους Βαγγέλη Χαρισόπουλο\, Δήμητρα Νικητέα και άλλους αγαπημένους κωμικούς. Με games area\, τα Greek Beer Awards 2026 και μια ατμόσφαιρα γεμάτη ενέργεια\, το World of Beer γίνεται το απόλυτο σημείο συνάντησης της πόλης.\n\nΚλείστε το εισιτήριό σας και ετοιμαστείτε για ένα τριήμερο που τα έχει όλα\, απολαμβάνοντας πάντα υπεύθυνα!
URL:https://cityfestival.thisisathens.org/event/world-of-beer-festival-2026/2026-05-09/
LOCATION:Τεχνόπολη Δήμου Αθηναίων\, Πειραιώς 100\, Αθήνα\, Αθήνα\, 118 54\, Greece
CATEGORIES:DJ SET,ΓΑΣΤΡΟΝΟΜΙΑ,ΣΥΝΑΥΛΙΑ,ΨΥΧΑΓΩΓΙΑ
ATTACH;FMTTYPE=image/jpeg:https://cityfestival.thisisathens.org/wp-content/uploads/2026/04/DJI_20250510203440_0199_D-scaled.jpg
END:VEVENT
BEGIN:VEVENT
DTSTART;TZID=Europe/Athens:20260510T120000
DTEND;TZID=Europe/Athens:20260510T233000
DTSTAMP:20260420T045255
CREATED:20260408T122650Z
LAST-MODIFIED:20260408T123607Z
UID:10005226-1778414400-1778455800@cityfestival.thisisathens.org
SUMMARY:World of Beer Festival 2026
DESCRIPTION:Το Φεστιβάλ του Δήμου Αθηναίων 2026 συναντά το World of Beer Festival για ένα μοναδικό τριήμερο αφιερωμένο σε όσους αγαπούν την καλή μπίρα\, το φαγητό και τη μουσική. Από τις 8 έως τις 10 Μαΐου\, στην Τεχνόπολη του Δήμου Αθηναίων θα συγκεντρωθούν πάνω από 300 beer brands από την Ελλάδα και το εξωτερικό: από κλασικές lager και weiss μέχρι πρωτότυπες craft μπίρες με μαστίχα ή λεβάντα.\n\nΣτα Beer Talks & Tastings\, οι ειδικοί θα αποκαλύψουν τα μυστικά του τέλειου pairing\, ενώ η εμπειρία θα απογειωθεί με λαχταριστό street food και ένα εκρηκτικό line-up 9 διαφορετικών συναυλιών: από το rock των Magic de Spell και του Διονύση Τσακνή μέχρι τα παραδοσιακά ικαριώτικα γλέντια του Νίκου Φάκαρου.\n\nΤο γέλιο έχει την τιμητική του με κορυφαία stand-up shows από τους Βαγγέλη Χαρισόπουλο\, Δήμητρα Νικητέα και άλλους αγαπημένους κωμικούς. Με games area\, τα Greek Beer Awards 2026 και μια ατμόσφαιρα γεμάτη ενέργεια\, το World of Beer γίνεται το απόλυτο σημείο συνάντησης της πόλης.\n\nΚλείστε το εισιτήριό σας και ετοιμαστείτε για ένα τριήμερο που τα έχει όλα\, απολαμβάνοντας πάντα υπεύθυνα!
URL:https://cityfestival.thisisathens.org/event/world-of-beer-festival-2026/2026-05-10/
LOCATION:Τεχνόπολη Δήμου Αθηναίων\, Πειραιώς 100\, Αθήνα\, Αθήνα\, 118 54\, Greece
CATEGORIES:DJ SET,ΓΑΣΤΡΟΝΟΜΙΑ,ΣΥΝΑΥΛΙΑ,ΨΥΧΑΓΩΓΙΑ
ATTACH;FMTTYPE=image/jpeg:https://cityfestival.thisisathens.org/wp-content/uploads/2026/04/DJI_20250510203440_0199_D-scaled.jpg
END:VEVENT
END:VCALENDAR