BEGIN:VCALENDAR
VERSION:2.0
PRODID:-//Το Φεστιβάλ του Δήμου Αθηναίων - ECPv6.12.0.1//NONSGML v1.0//EN
CALSCALE:GREGORIAN
METHOD:PUBLISH
X-WR-CALNAME:Το Φεστιβάλ του Δήμου Αθηναίων
X-ORIGINAL-URL:https://cityfestival.thisisathens.org
X-WR-CALDESC:Events for Το Φεστιβάλ του Δήμου Αθηναίων
REFRESH-INTERVAL;VALUE=DURATION:PT1H
X-Robots-Tag:noindex
X-PUBLISHED-TTL:PT1H
BEGIN:VTIMEZONE
TZID:Europe/Athens
BEGIN:DAYLIGHT
TZOFFSETFROM:+0200
TZOFFSETTO:+0300
TZNAME:EEST
DTSTART:20260329T010000
END:DAYLIGHT
BEGIN:STANDARD
TZOFFSETFROM:+0300
TZOFFSETTO:+0200
TZNAME:EET
DTSTART:20261025T010000
END:STANDARD
END:VTIMEZONE
BEGIN:VEVENT
DTSTART;TZID=Europe/Athens:20260523T100000
DTEND;TZID=Europe/Athens:20260523T220000
DTSTAMP:20260422T015801
CREATED:20260415T112831Z
LAST-MODIFIED:20260415T113139Z
UID:10005333-1779530400-1779573600@cityfestival.thisisathens.org
SUMMARY:Connect Athens: All Day Street Festival
DESCRIPTION:To Φεστιβάλ του Δήμου Αθηναίων\, σε συνεργασία με το Connect Athens Festival\, διοργανώνει μία ολοήμερη γιορτή στον πεζόδρομο της Φωκίωνος Νέγρη.\n\nΜετά την εκδήλωση «Χτίζοντας γέφυρες για την ψυχική υγεία των νέων σε ρίσκο»\, που πραγματοποιήθηκε στην πόλη στις 22 Μαΐου\, το Connect Athens μεταφέρει το μήνυμά του από τα πάνελ συζήτησης στην καρδιά της πόλης. Με το σύνθημα #πάρετηγιαγιάσουκαιέλα\, η θεωρία γίνεται πράξη και η «σύνδεση» μετατρέπεται σε βίωμα που αγκαλιάζει κάθε ηλικία.\n\nΑπό το πρωί\, μικροί και μεγάλοι συμμετέχουν σε εργαστήρια\, δράσεις ενσυναίσθησης και πρωτότυπα workshops Τεχνητής Νοημοσύνης\, εμπνευσμένα από τις αναμνήσεις των παλαιότερων γενεών. Με θεατρικά παιχνίδια δρόμου\, χορούς από όλο τον κόσμο και έναν ανοιχτό χώρο διαλόγου με influencers και δημόσια πρόσωπα\, το φεστιβάλ δίνει χώρο στις ιστορίες που μας ενώνουν.\n\nΗ ημέρα θα κορυφωθεί με ένα μεγάλο μουσικοχορευτικό πάρτυ\, στο οποίο θα συμμετέχουν πολυπολιτισμικά σχήματα και DJs\, αποδεικνύοντας πως η ψυχική υγεία και η αποδοχή χτίζονται μέσα στην κοινότητα\, εκεί που η επαφή των γενεών δημιουργεί έναν ασφαλή και φωτεινό χώρο για όλους.
URL:https://cityfestival.thisisathens.org/event/connect-athens-all-day-street-festival/
LOCATION:Πλατεία Κυψέλης\, ΑΘΗΝΑ\, 113 61\, Greece
CATEGORIES:DJ SET,ΔΩΡΕΑΝ,ΕΡΓΑΣΤΗΡΙΑ,ΘΕΑΤΡΟ,ΠΑΙΔΙ,ΠΑΡΤΙ,ΥΠΑΙΘΡΙΑ ΔΡΑΣΗ,ΧΟΡΟΣ,ΨΥΧΑΓΩΓΙΑ
ATTACH;FMTTYPE=image/png:https://cityfestival.thisisathens.org/wp-content/uploads/2026/04/CATHENS-FEST_23.05_POST-2.png
GEO:38.002532609602;23.740746270871
END:VEVENT
END:VCALENDAR