BEGIN:VCALENDAR
VERSION:2.0
PRODID:-//Το Φεστιβάλ του Δήμου Αθηναίων - ECPv6.12.0.1//NONSGML v1.0//EN
CALSCALE:GREGORIAN
METHOD:PUBLISH
X-WR-CALNAME:Το Φεστιβάλ του Δήμου Αθηναίων
X-ORIGINAL-URL:https://cityfestival.thisisathens.org
X-WR-CALDESC:Events for Το Φεστιβάλ του Δήμου Αθηναίων
REFRESH-INTERVAL;VALUE=DURATION:PT1H
X-Robots-Tag:noindex
X-PUBLISHED-TTL:PT1H
BEGIN:VTIMEZONE
TZID:Europe/Athens
BEGIN:DAYLIGHT
TZOFFSETFROM:+0200
TZOFFSETTO:+0300
TZNAME:EEST
DTSTART:20260329T010000
END:DAYLIGHT
BEGIN:STANDARD
TZOFFSETFROM:+0300
TZOFFSETTO:+0200
TZNAME:EET
DTSTART:20261025T010000
END:STANDARD
END:VTIMEZONE
BEGIN:VEVENT
DTSTART;TZID=Europe/Athens:20260530T130000
DTEND;TZID=Europe/Athens:20260530T143000
DTSTAMP:20260425T182006
CREATED:20260403T103523Z
LAST-MODIFIED:20260407T120303Z
UID:10005128-1780146000-1780151400@cityfestival.thisisathens.org
SUMMARY:Ξενάγηση: Νικόλας Κληρονόμος - Αναδρομή 1985-2025
DESCRIPTION:Μια σειρά ξεναγήσεων θα πραγματοποιηθεί στο πλαίσιο του Φεστιβάλ στην αναδρομική έκθεση του Νικόλα Κληρονόμου. Πρόκειται για μια διαδρομή που ξετυλίγει σαράντα χρόνια αδιάλειπτης καλλιτεχνικής δημιουργίας. Η ξενάγηση φωτίζει τη διττή ταυτότητα του δημιουργού -ζωγράφος και σκηνογράφος- αποκαλύπτοντας πώς «σκηνοθετεί» τον καμβά του\, μετατρέποντας εικόνες της πόλης και των ανθρώπων της σε ζωντανές\, ποιητικές αφηγήσεις. Καθώς περιηγούμαστε στα έργα του\, η καθημερινότητα συναντά το όνειρο και οι εναλλαγές των εποχών αποτυπώνονται μέσα από τολμηρά χρώματα και ιδιαίτερα υλικά που χαρίζουν κίνηση και ένταση. Πρόκειται για μια βιωματική εμπειρία που μας καλεί να εμβαθύνουμε στις αθέατες πτυχές του χρόνου και της ανθρώπινης ύπαρξης\, ανακαλύπτοντας πώς ο Κληρονόμος καταφέρνει να προσδίδει μνημειακότητα στις πιο μικρές\, φευγαλέες στιγμές. Μια ξενάγηση που αγγίζει τη μνήμη και το συναίσθημα\, προσφέροντας μια ολοκληρωμένη ματιά στο έργο ενός από τους πιο πολυσχιδείς δημιουργούς της σύγχρονης ελληνικής σκηνής.\n\nΟι κρατήσεις ανοίγουν μία εβδομάδα πριν τη δράση\, στις 12:00 το μεσημέρι.
URL:https://cityfestival.thisisathens.org/event/ksenagisi-nikolas-klironomos-anadromi-1985-2025/2026-05-30/
LOCATION:Πινακοθήκη Δήμου Αθηναίων\, Municipal Gallery of Athens\, Αθήνα\, Αθήνα\, 104 36\, Greece
CATEGORIES:ΓΚΑΛΕΡΙ,ΔΩΡΕΑΝ,ΕΚΘΕΣΗ,ΠΕΡΙΗΓΗΣΗ
ATTACH;FMTTYPE=image/jpeg:https://cityfestival.thisisathens.org/wp-content/uploads/2026/04/17.-Εργοτάξιο-ιδιωτ.-συλλογή-120Χ250-εκ-Λάδι-και-Ακρυλικό-σε-καμβά-Αθήνα-2012-scaled.jpg
END:VEVENT
BEGIN:VEVENT
DTSTART;TZID=Europe/Athens:20260531T100000
DTEND;TZID=Europe/Athens:20260531T160000
DTSTAMP:20260425T182006
CREATED:20260402T112815Z
LAST-MODIFIED:20260402T114245Z
UID:10005046-1780221600-1780243200@cityfestival.thisisathens.org
SUMMARY:Δήμητρα Σιατερλή: Συνεκτικά Δίκτυα
DESCRIPTION:Η ατομική έκθεση της Δήμητρας Σιατερλή ξεδιπλώνεται ως ένα συναρπαστικό ταξίδι που ενώνει το παρελθόν με το παρόν της δημιουργού. Από τις δεκαετίες του ’80 και του ’90 έως τις πιο πρόσφατες δουλειές της\, η έκθεση οργανώνεται σε τρεις ενότητες που θυμίζουν θεατρικές πράξεις. Ο επισκέπτης περιηγείται σε έναν κόσμο γεμάτο ορυκτά\, απολιθώματα και μυθικές μορφές\, για να καταλήξει στην «ανατομία» της ανθρώπινης παρουσίας μέσα από γλυπτά\, πλέγματα και χαρακτικά. Μικροσκοπικές φιγούρες ξεπηδούν μέσα από δαιδαλώδεις συνθέσεις\, δημιουργώντας ένα παιχνίδι ανάμεσα στον μύθο και την πραγματικότητα. Πρόκειται για μια βαθιά βιωματική εμπειρία που αναδεικνύει τη σημασία της συνύπαρξης και της ανθρώπινης σύνδεσης. Μην χάσετε την ευκαιρία να συμμετάσχετε σε μία από τις ξεναγήσεις για μια πιο ουσιαστική γνωριμία με το έργο της καλλιτέχνιδας.
URL:https://cityfestival.thisisathens.org/event/dimitra-siaterli-synektika-diktia/2026-05-31/
LOCATION:Πινακοθήκη Δήμου Αθηναίων\, Municipal Gallery of Athens\, Αθήνα\, Αθήνα\, 104 36\, Greece
CATEGORIES:ΓΚΑΛΕΡΙ,ΔΩΡΕΑΝ,ΕΚΘΕΣΗ
ATTACH;FMTTYPE=image/jpeg:https://cityfestival.thisisathens.org/wp-content/uploads/2026/04/DIMITRA-SIATERLI-WORLD_CULTURAL_MAP.jpg
END:VEVENT
BEGIN:VEVENT
DTSTART;TZID=Europe/Athens:20260531T100000
DTEND;TZID=Europe/Athens:20260531T160000
DTSTAMP:20260425T182006
CREATED:20260402T123222Z
LAST-MODIFIED:20260407T093609Z
UID:10005097-1780221600-1780243200@cityfestival.thisisathens.org
SUMMARY:Νικόλας Κληρονόμος: Αναδρομή 1985-2025
DESCRIPTION:Η μεγάλη αναδρομική έκθεση του Νικόλα Κληρονόμου μας προσκαλεί να ανακαλύψουμε την πολυετή διαδρομή ενός δημιουργού που κινείται με μοναδική ευχέρεια ανάμεσα στη ζωγραφική και τη σκηνογραφία. Ο καλλιτέχνης λειτουργεί σαν «σκηνοθέτης» του καμβά: δεν αποτυπώνει απλώς εικόνες\, αλλά τις μεταπλάθει μέσα από τη μνήμη\, το συναίσθημα και την προσωπική του εμπειρία. Στα έργα του\, η καθημερινότητα συναντά το όνειρο και οι εποχές μοιάζουν να μπλέκονται με μικρές\, απρόσμενες στιγμές της ζωής. Με έντονα χρώματα και ιδιαίτερα υλικά\, δημιουργεί συνθέσεις που μοιάζουν να βρίσκονται σε διαρκή κίνηση\, προσφέροντας μια βαθιά ποιητική ματιά στον κόσμο που μας περιβάλλει. Μια έκθεση που μιλά κατευθείαν στη μνήμη και το συναίσθημα\, και μια σπάνια ευκαιρία να γνωρίσουμε το έργο ενός δημιουργού που καταφέρνει να δίνει μνημειακή διάσταση στο εφήμερο. Μην χάσετε την ευκαιρία να συμμετάσχετε και σε μία από τις προγραμματισμένες ξεναγήσεις για μια πιο διεισδυτική προσέγγιση στο έργο του.\n\nΏρες λειτουργίας: Τρίτη – Σάββατο: 11:00 - 19:00 & Κυριακή: 10:00 - 16:00\, Δευτέρα: κλειστά.
URL:https://cityfestival.thisisathens.org/event/nikolas-klironomos-anadromi-1985-2025/2026-05-31/
LOCATION:Πινακοθήκη Δήμου Αθηναίων\, Municipal Gallery of Athens\, Αθήνα\, Αθήνα\, 104 36\, Greece
CATEGORIES:ΓΚΑΛΕΡΙ,ΔΩΡΕΑΝ,ΕΚΘΕΣΗ
ATTACH;FMTTYPE=image/jpeg:https://cityfestival.thisisathens.org/wp-content/uploads/2026/04/5.-Η-Ακρόπολη-από-τον-Λυκαβηττό-ιδιωτ.-συλλογή-ακρυλικά-σε-καμβά-120Χ110εκ.jpg
END:VEVENT
BEGIN:VEVENT
DTSTART;TZID=Europe/Athens:20260531T120000
DTEND;TZID=Europe/Athens:20260531T180000
DTSTAMP:20260425T182006
CREATED:20260331T121739Z
LAST-MODIFIED:20260407T093952Z
UID:10004419-1780228800-1780250400@cityfestival.thisisathens.org
SUMMARY:Inna Orlik: Μόνιμη Έκθεση
DESCRIPTION:Η Orlik Gallery υποδέχεται το κοινό του Φεστιβάλ του Δήμου Αθηναίων σε μια ξεχωριστή συνάντηση με το εικαστικό σύμπαν της Inna Orlik. Η έκθεση φέρνει στο προσκήνιο έναν κόσμο όπου η σύγχρονη ζωγραφική συνομιλεί με τη μυθολογία\, τη φύση και την ανθρώπινη εμπειρία\, δημιουργώντας ένα περιβάλλον πλούσιο σε συμβολισμούς και ερμηνευτικά επίπεδα.\n\nΜε έντονα χρώματα\, σύνθετες υφές και μια ιδιαίτερη ζωγραφική γλώσσα\, τα έργα της Orlik κινούνται ανάμεσα στο ορατό και το υπαινικτικό\, το προσωπικό και το συλλογικό. Η καλλιτέχνις μετατρέπει τον καμβά σε χώρο αφήγησης και αναζήτησης\, προσκαλώντας τον θεατή να ανακαλύψει μορφές\, σύμβολα και υπόγειες συνδέσεις. Μια έκθεση που απευθύνεται σε όσους αναζητούν στη σύγχρονη τέχνη όχι μόνο αισθητική ένταση\, αλλά και ουσιαστικό βάθος.\n\nΏρες λειτουργίας: Καθημερινά: 12:00 – 18:00
URL:https://cityfestival.thisisathens.org/event/inna-orlik-monimi-ekthesi/2026-05-31/
LOCATION:Γκαλερί Orlik\, Παλαιολόγου Μπενιζέλου 3\, Αθήνα\, 105 56\, Greece
CATEGORIES:ΓΚΑΛΕΡΙ,ΔΩΡΕΑΝ,ΕΚΘΕΣΗ
ATTACH;FMTTYPE=image/jpeg:https://cityfestival.thisisathens.org/wp-content/uploads/2026/03/1K9A0075-HDR-scaled.jpg
GEO:37.974622591545;23.729274295913
X-APPLE-STRUCTURED-LOCATION;VALUE=URI;X-ADDRESS=Γκαλερί Orlik Παλαιολόγου Μπενιζέλου 3 Αθήνα 105 56 Greece;X-APPLE-RADIUS=500;X-TITLE=Παλαιολόγου Μπενιζέλου 3:geo:23.729274295913,37.974622591545
END:VEVENT
END:VCALENDAR