BEGIN:VCALENDAR
VERSION:2.0
PRODID:-//Το Φεστιβάλ του Δήμου Αθηναίων - ECPv6.12.0.1//NONSGML v1.0//EN
CALSCALE:GREGORIAN
METHOD:PUBLISH
X-WR-CALNAME:Το Φεστιβάλ του Δήμου Αθηναίων
X-ORIGINAL-URL:https://cityfestival.thisisathens.org
X-WR-CALDESC:Events for Το Φεστιβάλ του Δήμου Αθηναίων
REFRESH-INTERVAL;VALUE=DURATION:PT1H
X-Robots-Tag:noindex
X-PUBLISHED-TTL:PT1H
BEGIN:VTIMEZONE
TZID:Europe/Athens
BEGIN:DAYLIGHT
TZOFFSETFROM:+0200
TZOFFSETTO:+0300
TZNAME:EEST
DTSTART:20250330T010000
END:DAYLIGHT
BEGIN:STANDARD
TZOFFSETFROM:+0300
TZOFFSETTO:+0200
TZNAME:EET
DTSTART:20251026T010000
END:STANDARD
END:VTIMEZONE
BEGIN:VEVENT
DTSTART;TZID=Europe/Athens:20250530T180000
DTEND;TZID=Europe/Athens:20250530T230000
DTSTAMP:20260422T032550
CREATED:20250327T150112Z
LAST-MODIFIED:20250523T094448Z
UID:10003221-1748628000-1748646000@cityfestival.thisisathens.org
SUMMARY:Pepper at the Park
DESCRIPTION:Το πρώτο καλοκαιρινό Pepper party της χρονιάς\, στο κέντρο της Αθήνας\, με ελεύθερη είσοδο.\nΤην Παρασκευή 30 Μαΐου στο Πάρκο Ελευθερίας\, δίπλα από το Μέγαρο Μουσικής\, από τις 6 το απόγευμα μέχρι αργά το\nβράδυ.\nΤις μουσικές αναλαμβάνουν special guests και οι παρουσιαστές του Pepper 96.6\nO Pepper 96.6 δημιουργεί ένα μαγευτικό open-air σκηνικό: Μουσικές\, φίλοι\, summer vibe\, ποτά στο χέρι\, απλωμένες\nπετσέτες στο γρασίδι\, παρέες μαζεμένες κάτω από τα δέντρα του πάρκου και φυσικά dj sets από κορυφαίους\nραδιοφωνικούς παραγωγούς\, που ανήκουν στην ομάδα του Pepper 96.6
URL:https://cityfestival.thisisathens.org/event/pepper-at-the-park/
LOCATION:Πάρκο Ελευθερίας\, Πάρκο Ελευθερίας\, Αθήνα\, Αθήνα\, 115 21\, Greece
CATEGORIES:DJ SET,ΔΩΡΕΑΝ,ΥΠΑΙΘΡΙΑ ΔΡΑΣΗ,ΧΟΡΟΣ,ΨΥΧΑΓΩΓΙΑ
ATTACH;FMTTYPE=image/jpeg:https://cityfestival.thisisathens.org/wp-content/uploads/2025/03/20240513-TiACF-OSF-BonEntendeur-0037-scaled.jpg
END:VEVENT
BEGIN:VEVENT
DTSTART;TZID=Europe/Athens:20250530T200000
DTEND;TZID=Europe/Athens:20250530T220000
DTSTAMP:20260422T032550
CREATED:20250423T115508Z
LAST-MODIFIED:20250523T114148Z
UID:10003438-1748635200-1748642400@cityfestival.thisisathens.org
SUMMARY:Η Αργιθέα
DESCRIPTION:Η Πανελλήνια Ομοσπονδία Αργιθεάτικων Συλλόγων (Π.Ο.Α.Σ.) σε συνεργασία με το Δήμο Αργιθέας\, παρέα με το μουσικό σχήμα “ΑΡΓΙΘΕΑΤΙΚΗ ΖΥΓΙΑ” θα παρουσιάσει με τη συμμετοχή χορευτών και χορευτριών από τα σωματεία -μέλη της Π.Ο.Α.Σ. αργιθεάτικους χορούς και θα τραγουδήσουν παραδοσιακά τραγούδια της περιοχής. Η Πανελλήνια Ομοσπονδία Αργιθεάτικων Συλλόγων έχοντας ήδη κλείσει 10 χρόνια συνεχούς δράσης\, φέτος μπαίνοντας στη 2η δεκαετία από την ίδρυσή της θα πραγματοποιήσει σειρά εκδηλώσεων με σκοπό να τιμήσει την “ΑΡΓΙΘΕΑΤΙΣΣΑ ΜΑΝΑ”\, την ηρωίδα στην οποία η περιοχή της Αργιθέα οφείλει την διάδοση και διάσωση της παράδοσης\, των ηθών και εθίμων\, της ιστορίας της\, αναδεικνύοντας τον πολυσήμαντο και πολυδιάστατο ρόλο της γυναίκας και ειδικότερα της μητέρας μέσα στην αργιθεάτικη κοινωνία. Το Φεστιβάλ του Δήμου Αθηναίων είναι η αρχή όλων αυτών των δράσεων που θα γίνουν σε Πανελλαδικό επίπεδο και θα κορυφωθούν το 2026 με μία μεγαλειώδη μουσικοθεατρική παράσταση σε συνεργασία και με το Δήμο Αθηναίων και τη συμμετοχή εξαιρετικών και καταξιωμένων καλλιτεχνών.
URL:https://cityfestival.thisisathens.org/event/argithea/
LOCATION:Πλατεία Αγίου Θωμά\, Μικράς Ασίας 69\, Αθήνα\, Αθήνα\, 115 27\, Greece
CATEGORIES:ΔΩΡΕΑΝ,ΥΠΑΙΘΡΙΑ ΔΡΑΣΗ,ΧΟΡΟΣ,ΨΥΧΑΓΩΓΙΑ
ATTACH;FMTTYPE=image/jpeg:https://cityfestival.thisisathens.org/wp-content/uploads/2025/04/1ef.jpg
END:VEVENT
BEGIN:VEVENT
DTSTART;TZID=Europe/Athens:20250530T200000
DTEND;TZID=Europe/Athens:20250530T230000
DTSTAMP:20260422T032550
CREATED:20250327T095642Z
LAST-MODIFIED:20250528T130758Z
UID:10001246-1748635200-1748646000@cityfestival.thisisathens.org
SUMMARY:Εβρίτικη Ζυγιά Live
DESCRIPTION:Ένα χρόνο πριν\, η Εβρίτικη Ζυγιά συστήθηκε στο κοινό του Φεστιβάλ μέσα από μία συγκλονιστική συναυλία στην πλατεία του Εθνικού Αρχαιολογικού Μουσείου. Φέτος\, προσγειώνεται στο κέντρο της Αθήνας\, στην Πλατεία Κοτζιά\, οδηγώντας το κοινό στη διονυσιακή μαγεία της Θρακιώτικης ψυχεδέλειας\, μέσα από τις προσωπικές ενορχηστρώσεις και συνθέσεις της μπάντας.\n\nΤην Παρασκευή 30 Μαΐου\, στις 20:00\, κάνε μια στάση στην Πλατεία Κοτζιά. Ζήσε μια\nδυνατή εμπειρία με τη συναυλία της Εβρίτικης Ζυγιάς και πάρε μέρος σε μια μεγάλη δράση αλληλεγγύης.\n\nΤο Φεστιβάλ του Δήμου Αθηναίων και το Κέντρο Υποδοχής και Αλληλεγγύης Δήμου Αθηναίων (Κ.Υ.Α.Δ.Α.) ενώνουν δυνάμεις και σε καλούν να φέρεις:\n– Τρόφιμα μακράς διαρκείας\n– Είδη προσωπικής υγιεινής (σαπούνια\, πάνες\, χαρτικά κ.ά.)\n– Καθαριστικά\, είδη σπιτιού και βασικά είδη πρώτης ανάγκης.\n\nΤο Κ.Υ.Α.Δ.Α. προσφέρει καθημερινά στήριξη σε:\n\n– Πάνω από 3.500 οικογένειες κάτω από το όριο της φτώχειας\n– Άστεγους συμπολίτες μέσα από δομές φιλοξενίας\, ψυχοκοινωνική και εργασιακή υποστήριξη\n– Άστεγους που διαβιούν στον δρόμο\, μέσω των ομάδων StreetWork\n– Ηλικιωμένους χωρίς υποστηρικτικό περιβάλλον\n\nΗ συμμετοχή σου είναι πολύτιμη και αναντικατάστατη.\n\nΜε μια τσάντα τρόφιμα\, χαρίζεις περισσότερα από όσα φαντάζεσαι.
URL:https://cityfestival.thisisathens.org/event/thrakiotiko-panigyri-2/
LOCATION:Πλατεία Κοτζιά\, Πλατεία Κοτζιά\, Αθήνα\, Αθήνα\, 105 51\, Greece
CATEGORIES:ΔΩΡΕΑΝ,ΥΠΑΙΘΡΙΑ ΔΡΑΣΗ,ΧΟΡΟΣ,ΨΥΧΑΓΩΓΙΑ
ATTACH;FMTTYPE=image/jpeg:https://cityfestival.thisisathens.org/wp-content/uploads/2025/03/R1-06634-0012.jpg
END:VEVENT
BEGIN:VEVENT
DTSTART;TZID=Europe/Athens:20250530T203000
DTEND;TZID=Europe/Athens:20250530T213000
DTSTAMP:20260422T032550
CREATED:20250513T143502Z
LAST-MODIFIED:20250513T143502Z
UID:10003953-1748637000-1748640600@cityfestival.thisisathens.org
SUMMARY:Η Κρατική Σχολή Χορού Βγαίνει Έξω
DESCRIPTION:Χορευτικές στιγμές σε απρόσμενα σημεία μέσα στην πόλη από τους σπουδαστές της Κρατικής Σχολής Ορχηστικής Τέχνης\, υπό την καλλιτεχνική διεύθυνση του κορυφαίου χοροδιδασκάλου της\, Δάφνι Κόκκινου.
URL:https://cityfestival.thisisathens.org/event/kratiki-kotzia/
LOCATION:Πλατεία Παναθηναϊκού Σταδίου (Καλλιμάρμαρο)\, Καλλιμάρμαρο\, Αθήνα\, Αθήνα\, 116 35\, Greece
CATEGORIES:ΔΩΡΕΑΝ,ΥΠΑΙΘΡΙΑ ΔΡΑΣΗ,ΧΟΡΟΣ,ΨΥΧΑΓΩΓΙΑ
ATTACH;FMTTYPE=image/jpeg:https://cityfestival.thisisathens.org/wp-content/uploads/2025/03/20240530TiACF-GMK-KSOTOmonoia-0025-scaled.jpg
END:VEVENT
BEGIN:VEVENT
DTSTART;TZID=Europe/Athens:20250531T170000
DTEND;TZID=Europe/Athens:20250531T230000
DTSTAMP:20260422T032550
CREATED:20250327T103257Z
LAST-MODIFIED:20250506T112934Z
UID:10001250-1748710800-1748732400@cityfestival.thisisathens.org
SUMMARY:Seds Lifestyle X Needless with Palms Trax UK
DESCRIPTION:Το Φεστιβάλ Δήμου Αθηναίων επιστρέφει\, ξυπνώντας τον παλμό της πόλης! Από το 2022\, κάθε Μάιο\, το κέντρο της Αθήνας μεταμορφώνεται σε μια τεράστια\, ανοιχτή γιορτή\, γεμάτη happenings και εκδηλώσεις που δίνουν ζωή στους δημόσιους χώρους.\n\nΦέτος\, για πρώτη φορά\, το Seds Lifestyle – μία από τις μεγαλύτερες\, εγχώριες πλατφόρμες της dance μουσικής\, ενώνει τις δυνάμεις του με το Αθηναϊκό mobile party Needless\, και μαζί στήνουν ένα μεγάλο open-air street party στην Πλατεία Σανταρόζα – μετατρέποντας την στο απόλυτο σημείο συνάντησης για όσους ζουν και αναπνέουν για την ηλεκτρονική\, χορευτική μουσική.\n\nΣτα decks: Palms Trax (UK) – ο περίφημος Βρετανός selector και ένας από τους πιο επιδραστικούς DJs της Ευρώπης\, έρχεται για να απογειώσει τη βραδιά με ένα εκλεκτικό dance set που ενώνει disco\, house\, electro και techno vibes.\n\nWarm-up από τους κορυφαίους local DJs\, Lex & Chevy\, σε ένα μοναδικό B2B set που θα προετοιμάσει το έδαφος για μια νύχτα γεμάτη ρυθμό και μουσική “μαγεία”.\n\nΗ Αθήνα χορεύει – εσύ θα λείπεις;
URL:https://cityfestival.thisisathens.org/event/seds-needless-palms-trax/
LOCATION:Πλατεία Δικαιοσύνης\, Πανεπιστημίου & Σανταρόζα\, Αθήνα\, Αθήνα\, 105 64\, Greece
CATEGORIES:DJ SET,ΔΩΡΕΑΝ,ΥΠΑΙΘΡΙΑ ΔΡΑΣΗ,ΧΟΡΟΣ,ΨΥΧΑΓΩΓΙΑ
ATTACH;FMTTYPE=image/jpeg:https://cityfestival.thisisathens.org/wp-content/uploads/2025/03/Palms-Trax-–-Press-Photo-7-scaled.jpg
END:VEVENT
BEGIN:VEVENT
DTSTART;TZID=Europe/Athens:20250601T180000
DTEND;TZID=Europe/Athens:20250601T230000
DTSTAMP:20260422T032550
CREATED:20250404T142420Z
LAST-MODIFIED:20250531T080832Z
UID:10003441-1748800800-1748818800@cityfestival.thisisathens.org
SUMMARY:Φεστιβάλ Δήμου Αθηναίων 2025 Closing Party: Liva K\, Atsou & Le Croque
DESCRIPTION:Το farewell του Φεστιβάλ του Δήμου Αθηναίων ’25 και το ραντεβού για την επόμενη χρονιά\, δε θα μπορούσε παρά να είναι μέσα από μία μεγάλη και επιβλητική διοργάνωση. Το μεγαλύτερο street party\, όχι μόνο στην ιστορία του Φεστιβάλ\, αλλά και της ίδιας της Αθήνας.\n\nΈνα event που θα γίνει talk of the town. Ένα event που θα γεμίσει έναν από τους πιο κεντρικούς οδικούς άξονες της πόλης με χιλιάδες φίλους του Φεστιβάλ\, ένα επιβλητικό soundsystem\, εντυπωσιακό light show και ασταμάτητο χορό.\n\nΣτα decks\, ο Liva K\, από τους πιο φρέσκους\, αναγνωρίσιμους και δημοφιλείς Έλληνες DJs και παραγωγούς\, με συνεχή παρουσία σε Ελλάδα και εξωτερικό. Μαζί του\, οι Atsou και Le Croque — καλλιτέχνες της Madorasindahouse\, του ελληνικού label και δημιουργικού community που έχει κατακτήσει τη διεθνή afro house σκηνή.\n\nΌλη η Αθήνα θα είναι εκεί;. Εσύ;
URL:https://cityfestival.thisisathens.org/event/festival-dimou-athinaion-2025-closing-party/
LOCATION:Αθηνάς\, Αθηνάς\, Αθήνα\, Αθήνα\, 105 52\, Greece
CATEGORIES:DJ SET,ΔΩΡΕΑΝ,ΠΑΡΤΙ,ΥΠΑΙΘΡΙΑ ΔΡΑΣΗ,ΧΟΡΟΣ,ΨΥΧΑΓΩΓΙΑ
ATTACH;FMTTYPE=image/jpeg:https://cityfestival.thisisathens.org/wp-content/uploads/2025/04/Liva.jpg
END:VEVENT
END:VCALENDAR