BEGIN:VCALENDAR
VERSION:2.0
PRODID:-//Το Φεστιβάλ του Δήμου Αθηναίων - ECPv6.12.0.1//NONSGML v1.0//EN
CALSCALE:GREGORIAN
METHOD:PUBLISH
X-WR-CALNAME:Το Φεστιβάλ του Δήμου Αθηναίων
X-ORIGINAL-URL:https://cityfestival.thisisathens.org
X-WR-CALDESC:Events for Το Φεστιβάλ του Δήμου Αθηναίων
REFRESH-INTERVAL;VALUE=DURATION:PT1H
X-Robots-Tag:noindex
X-PUBLISHED-TTL:PT1H
BEGIN:VTIMEZONE
TZID:Europe/Athens
BEGIN:DAYLIGHT
TZOFFSETFROM:+0200
TZOFFSETTO:+0300
TZNAME:EEST
DTSTART:20260329T010000
END:DAYLIGHT
BEGIN:STANDARD
TZOFFSETFROM:+0300
TZOFFSETTO:+0200
TZNAME:EET
DTSTART:20261025T010000
END:STANDARD
END:VTIMEZONE
BEGIN:VEVENT
DTSTART;TZID=Europe/Athens:20260505T183000
DTEND;TZID=Europe/Athens:20260505T203000
DTSTAMP:20260424T092230
CREATED:20260403T111152Z
LAST-MODIFIED:20260403T112704Z
UID:10005163-1778005800-1778013000@cityfestival.thisisathens.org
SUMMARY:Fitness Sessions
DESCRIPTION:Το Πάρκο Ελευθερίας μετατρέπεται σε ένα μεγάλο ανοιχτό σημείο άσκησης\, ενέργειας και ευεξίας στο πλαίσιο του Φεστιβάλ του Δήμου Αθηναίων. Στο Fitness Sessions\, η κίνηση γίνεται γιορτή και η άσκηση προσεγγίζεται όχι ανταγωνιστικά\, αλλά ως τρόπος φροντίδας\, συμμετοχής και αναζωογόνησης μέσα στον αστικό ιστό. Σε ένα καταπράσινο σημείο της πόλης\, το κοινό καλείται να βιώσει τη χαρά της σωματικής δραστηριότητας μέσα σε ένα περιβάλλον ανοιχτό και υποστηρικτικό.\n\nΚαταξιωμένοι γυμναστές και οι ομάδες τους\, καθοδηγούν μαθήματα για όλους\, από yoga και pilates έως πιο δυναμικές μορφές άσκησης\, δημιουργώντας ένα πρόγραμμα προσαρμοσμένο σε διαφορετικές ανάγκες και επίπεδα εμπειρίας. Η συμμετοχή\, η ευεξία και η καλή διάθεση βρίσκονται στο επίκεντρο\, δίνοντας στη δράση τον χαρακτήρα μιας ανοιχτής γιορτής για το σώμα και την πόλη. Μια ευκαιρία να κινηθούμε μαζί\, σε ένα από τα πιο όμορφα υπαίθρια σκηνικά της Αθήνας.
URL:https://cityfestival.thisisathens.org/event/fitness-sessions-5/2026-05-05/
LOCATION:Πάρκο Ελευθερίας\, Πάρκο Ελευθερίας\, Αθήνα\, Αθήνα\, 115 21\, Greece
CATEGORIES:ΑΘΛΗΤΙΣΜΟΣ,ΔΩΡΕΑΝ,ΥΠΑΙΘΡΙΑ ΔΡΑΣΗ
ATTACH;FMTTYPE=image/jpeg:https://cityfestival.thisisathens.org/wp-content/uploads/2026/03/DSC00535-scaled.jpg
END:VEVENT
BEGIN:VEVENT
DTSTART;TZID=Europe/Athens:20260505T190000
DTEND;TZID=Europe/Athens:20260505T230000
DTSTAMP:20260424T092230
CREATED:20260408T133943Z
LAST-MODIFIED:20260421T072251Z
UID:10005435-1778007600-1778022000@cityfestival.thisisathens.org
SUMMARY:ATHENS: AM EXTENDED
DESCRIPTION:Στο πλαίσιο του Φεστιβάλ\, η έκθεση «ATHENS: AM EXTENDED» μας προσκαλεί σε μια πρωτοποριακή\, πολυμεσική εμπειρία που επαναπροσδιορίζει τη σχέση μας με την πόλη μετά τα μεσάνυχτα. Ο φωτογράφος Θανάσης Καρατζάς και ο σκηνοθέτης πολυμεσικών εμπειριών Βύρωνας Νικολόπουλος ενώνουν τις δυνάμεις τους και μετατρέπουν 88 εμβληματικές ασπρόμαυρες φωτογραφίες της Αθήνας σε μια ζωντανή\, διαδραστική εγκατάσταση. Στον ειδικά διαμορφωμένο χώρο της METACOSMOI\, η εικόνα αποκτά κίνηση\, ήχο και χρώμα μέσα από τεχνολογίες AR\, VR και video projections. Μετά τη διεθνή της παρουσία σε σημαντικά φεστιβάλ\, η έκθεση επιστρέφει στην πόλη που τη γέννησε\, καλώντας το κοινό να «βουτήξει» στην άυλη ποίηση της νυχτερινής Αθήνας. Ένα σύγχρονο καλλιτεχνικό βλέμμα στο παλίμψηστο της πόλης\, εκεί όπου η φωτογραφία συναντά το ψηφιακό μέλλον.
URL:https://cityfestival.thisisathens.org/event/athens-am-extended/2026-05-05/
LOCATION:metacosmoi\, Γερανίου 44\, Αθήνα\, 104 31\, Greece
CATEGORIES:ΔΩΡΕΑΝ,ΕΚΘΕΣΗ
ATTACH;FMTTYPE=image/jpeg:https://cityfestival.thisisathens.org/wp-content/uploads/2026/04/ATHENS-AM-EXTENDED-KARATZAS-1.jpg
GEO:37.984236009787;23.726108409407
X-APPLE-STRUCTURED-LOCATION;VALUE=URI;X-ADDRESS=metacosmoi Γερανίου 44 Αθήνα 104 31 Greece;X-APPLE-RADIUS=500;X-TITLE=Γερανίου 44:geo:23.726108409407,37.984236009787
END:VEVENT
BEGIN:VEVENT
DTSTART;TZID=Europe/Athens:20260505T210000
DTEND;TZID=Europe/Athens:20260505T230000
DTSTAMP:20260424T092230
CREATED:20260417T090436Z
LAST-MODIFIED:20260417T090436Z
UID:10004151-1778014800-1778022000@cityfestival.thisisathens.org
SUMMARY:Χειμερινοί Κολυμβητές
DESCRIPTION:Οι Χειμερινοί Κολυμβητές έρχονται στην ατμοσφαιρική αυλή του Εθνικού Αρχαιολογικού Μουσείου για μια ιδιαίτερη συναυλία στο πλαίσιο του Φεστιβάλ. Με τον αναγνωρίσιμο ήχο και τη διαχρονική τους ιδιοσυγκρασία\, παρουσιάζουν τραγούδια που μιλούν για τον έρωτα\, τη μοναξιά\, τη συντροφιά και τη μαγεία της νύχτας. Σε έναν χώρο ιδιαίτερης ομορφιάς και ησυχίας\, η μουσική τους αποκτά ακόμη μεγαλύτερη εγγύτητα και συγκινησιακή δύναμη.\n\nΚομμάτια που έχουν χαραχτεί στη μουσική μνήμη πολλών γενεών επιστρέφουν σε ένα σκηνικό που ευνοεί την ακρόαση και τη συγκέντρωση. Η συναυλία λειτουργεί σαν μια συνάντηση με μια άλλη\, πιο διακριτική\, αλλά βαθιά ουσιαστική πλευρά του ελληνικού τραγουδιού. Μια βραδιά γεμάτη συγκίνηση\, οικειότητα και ποιητική απλότητα\, που υπενθυμίζει πως η αληθινή καλλιτεχνική δύναμη συχνά κρύβεται στις λεπτές αποχρώσεις.
URL:https://cityfestival.thisisathens.org/event/heimerinoi-kolimvites/
LOCATION:Εθνικό Αρχαιολογικό Μουσείο\, Πατησίων 44\, Αθήνα\, Αθήνα\, 106 82\, Greece
CATEGORIES:ΔΩΡΕΑΝ,ΣΥΝΑΥΛΙΑ,ΥΠΑΙΘΡΙΑ ΔΡΑΣΗ,ΨΥΧΑΓΩΓΙΑ
ATTACH;FMTTYPE=image/jpeg:https://cityfestival.thisisathens.org/wp-content/uploads/2026/03/Χειμερινοί-Κολυμβητές-3-scaled.jpg
END:VEVENT
END:VCALENDAR