BEGIN:VCALENDAR
VERSION:2.0
PRODID:-//Το Φεστιβάλ του Δήμου Αθηναίων - ECPv6.12.0.1//NONSGML v1.0//EN
CALSCALE:GREGORIAN
METHOD:PUBLISH
X-WR-CALNAME:Το Φεστιβάλ του Δήμου Αθηναίων
X-ORIGINAL-URL:https://cityfestival.thisisathens.org
X-WR-CALDESC:Events for Το Φεστιβάλ του Δήμου Αθηναίων
REFRESH-INTERVAL;VALUE=DURATION:PT1H
X-Robots-Tag:noindex
X-PUBLISHED-TTL:PT1H
BEGIN:VTIMEZONE
TZID:Europe/Athens
BEGIN:DAYLIGHT
TZOFFSETFROM:+0200
TZOFFSETTO:+0300
TZNAME:EEST
DTSTART:20250330T010000
END:DAYLIGHT
BEGIN:STANDARD
TZOFFSETFROM:+0300
TZOFFSETTO:+0200
TZNAME:EET
DTSTART:20251026T010000
END:STANDARD
END:VTIMEZONE
BEGIN:VEVENT
DTSTART;TZID=Europe/Athens:20250601T180000
DTEND;TZID=Europe/Athens:20250601T230000
DTSTAMP:20260419T211452
CREATED:20250404T142420Z
LAST-MODIFIED:20250531T080832Z
UID:10003441-1748800800-1748818800@cityfestival.thisisathens.org
SUMMARY:Φεστιβάλ Δήμου Αθηναίων 2025 Closing Party: Liva K\, Atsou & Le Croque
DESCRIPTION:Το farewell του Φεστιβάλ του Δήμου Αθηναίων ’25 και το ραντεβού για την επόμενη χρονιά\, δε θα μπορούσε παρά να είναι μέσα από μία μεγάλη και επιβλητική διοργάνωση. Το μεγαλύτερο street party\, όχι μόνο στην ιστορία του Φεστιβάλ\, αλλά και της ίδιας της Αθήνας.\n\nΈνα event που θα γίνει talk of the town. Ένα event που θα γεμίσει έναν από τους πιο κεντρικούς οδικούς άξονες της πόλης με χιλιάδες φίλους του Φεστιβάλ\, ένα επιβλητικό soundsystem\, εντυπωσιακό light show και ασταμάτητο χορό.\n\nΣτα decks\, ο Liva K\, από τους πιο φρέσκους\, αναγνωρίσιμους και δημοφιλείς Έλληνες DJs και παραγωγούς\, με συνεχή παρουσία σε Ελλάδα και εξωτερικό. Μαζί του\, οι Atsou και Le Croque — καλλιτέχνες της Madorasindahouse\, του ελληνικού label και δημιουργικού community που έχει κατακτήσει τη διεθνή afro house σκηνή.\n\nΌλη η Αθήνα θα είναι εκεί;. Εσύ;
URL:https://cityfestival.thisisathens.org/event/festival-dimou-athinaion-2025-closing-party/
LOCATION:Αθηνάς\, Αθηνάς\, Αθήνα\, Αθήνα\, 105 52\, Greece
CATEGORIES:DJ SET,ΔΩΡΕΑΝ,ΠΑΡΤΙ,ΥΠΑΙΘΡΙΑ ΔΡΑΣΗ,ΧΟΡΟΣ,ΨΥΧΑΓΩΓΙΑ
ATTACH;FMTTYPE=image/jpeg:https://cityfestival.thisisathens.org/wp-content/uploads/2025/04/Liva.jpg
END:VEVENT
BEGIN:VEVENT
DTSTART;TZID=Europe/Athens:20250920T203000
DTEND;TZID=Europe/Athens:20250920T230000
DTSTAMP:20260419T211452
CREATED:20250902T132823Z
LAST-MODIFIED:20250903T105628Z
UID:10004012-1758400200-1758409200@cityfestival.thisisathens.org
SUMMARY:Disco Roller Party: DJ Nicola Lavacca
DESCRIPTION:Οι δισκοθήκες ανοίγουν και ο αέρας της πόλης γεμίζει με τις καλύτερες μουσικές στιγμές των θρυλικών club των ’70s και ’80s. Στην κονσόλα\, ο κορυφαίος συλλέκτης και DJ της Αθήνας\, ο θρυλικός Nicola Lavacca\, υπογράφει ένα μοναδικό αφιέρωμα στην αυθεντική disco εποχή. Ένα ασταμάτητο κυνήγι της απόλυτης χορευτικής φιγούρας\, ένα κάλεσμα σε όλους όσοι υποκλίνονται στη ντισκομπάλα. Η απόλυτη έννοια του «party» στήνεται στην οδό Αθηνάς\, στην καρδιά της πρωτεύουσας.
URL:https://cityfestival.thisisathens.org/event/disco-roller-party-dj-nicola-lavacca/
LOCATION:Αθηνάς\, Αθηνάς\, Αθήνα\, Αθήνα\, 105 52\, Greece
CATEGORIES:DJ SET,ΔΩΡΕΑΝ,ΠΑΡΤΙ,ΥΠΑΙΘΡΙΑ ΔΡΑΣΗ,ΨΥΧΑΓΩΓΙΑ
ATTACH;FMTTYPE=image/jpeg:https://cityfestival.thisisathens.org/wp-content/uploads/2025/09/20240922-TGR-AthinasCarFree-Saturday-0477-scaled.jpg
END:VEVENT
BEGIN:VEVENT
DTSTART;TZID=Europe/Athens:20250921T173000
DTEND;TZID=Europe/Athens:20250921T183000
DTSTAMP:20260419T211452
CREATED:20250917T112642Z
LAST-MODIFIED:20250917T112642Z
UID:10004049-1758475800-1758479400@cityfestival.thisisathens.org
SUMMARY:DJ Set από την Βάσια Ρεντούμη
DESCRIPTION:Χωρίς μουσική\, όλα μοιάζουν άδεια! H αγαπημένη ραδιοφωνική παραγωγός του Menta FM\, Βάσια Ρεντούμη\, παίρνει τα ηνία και δημιουργει το μουσικό χαλί για μια Αθηνάς όπως δεν την έχουμε συνηθίσει. Ήχοι\, ρυθμός και ενέργεια πλημμυρίζουν τον δρόμο\, προσκαλώντας μας να γιορτάσουμε.
URL:https://cityfestival.thisisathens.org/event/dj-set-vasia-rentoumi/
LOCATION:Αθηνάς\, Αθηνάς\, Αθήνα\, Αθήνα\, 105 52\, Greece
CATEGORIES:DJ SET,ΔΩΡΕΑΝ,ΥΠΑΙΘΡΙΑ ΔΡΑΣΗ
ATTACH;FMTTYPE=image/jpeg:https://cityfestival.thisisathens.org/wp-content/uploads/2025/09/dj-athinas-scaled.jpg
END:VEVENT
BEGIN:VEVENT
DTSTART;TZID=Europe/Athens:20251220T143000
DTEND;TZID=Europe/Athens:20251221T233000
DTSTAMP:20260419T211452
CREATED:20251211T105756Z
LAST-MODIFIED:20251211T105756Z
UID:10004062-1766241000-1766359800@cityfestival.thisisathens.org
SUMMARY:Pizza Out of the Box - Latino Xmas Party
DESCRIPTION:Χριστούγεννα με αίσθηση… Αυγούστου; Στην Αθήνα γίνεται κι αυτό! Τη μεγαλύτερη νύχτα του χρόνου\, η Σαλαμίνος στον Κεραμεικό υποδέχεται μια μικρή λατινοαμερικάνικη γιορτή. Sandos που αχνίζουν\, Empanadas που μοσχοβολούν\, Caipirinhas που δροσίζουν σαν θαλασσινό αεράκι και βινύλια που στροβιλίζονται σε ρυθμούς από το Ρίο μέχρι την Αβάνα. Ο πεζόδρομος μεταμορφώνεται σε μια φωτεινή\, πολύχρωμη όαση όπου το καλοκαίρι κάνει την πιο… ανατρεπτική εμφάνισή του.
URL:https://cityfestival.thisisathens.org/event/pizza-out-of-the-box-latino-xmas-party/
LOCATION:Πεζόδρομος Σαλαμίνος\, Πεζόδρομος Σαλαμίνος\, Μεταξουργείο\, 104 35\, Greece
CATEGORIES:DJ SET,ΓΑΣΤΡΟΝΟΜΙΑ,ΔΩΡΕΑΝ
ATTACH;FMTTYPE=image/png:https://cityfestival.thisisathens.org/wp-content/uploads/2025/12/Untitled-2.png
GEO:37.982157428648;23.716472370367
X-APPLE-STRUCTURED-LOCATION;VALUE=URI;X-ADDRESS=Πεζόδρομος Σαλαμίνος Πεζόδρομος Σαλαμίνος Μεταξουργείο 104 35 Greece;X-APPLE-RADIUS=500;X-TITLE=Πεζόδρομος Σαλαμίνος:geo:23.716472370367,37.982157428648
END:VEVENT
BEGIN:VEVENT
DTSTART;TZID=Europe/Athens:20251220T173000
DTEND;TZID=Europe/Athens:20251221T230000
DTSTAMP:20260419T211452
CREATED:20251211T105744Z
LAST-MODIFIED:20251211T105744Z
UID:10004058-1766251800-1766358000@cityfestival.thisisathens.org
SUMMARY:Πρωτογένους Street Party
DESCRIPTION:Στην καρδιά της πόλης\, η Πρωτογένους ανάβει φώτα για ένα εορταστικό διήμερο. Ο δρόμος μεταμορφώνεται σε μια μικρή “πολιτεία” μουσικής και δημιουργίας\, όπου οι DJs την πρώτη νύχτα ανεβάζουν τον ρυθμό\, ενώ τη δεύτερη νύχτα τη σκυτάλη παίρνουν οι ανερχόμενες μπάντες της εναλλακτικής σκηνής. Το κοινό περιμένουν happenings\, καλλιτέχνες και μικρές εκπλήξεις\, ενώ τα καταστήματα και τα εργαστήρια της γειτονιάς μένουν ανοιχτά για να ενισχύσουν τις δύο βραδιές με γεύσεις και αρώματα. Δύο νύχτες στις οποίες η πόλη πάλλεται και η Πρωτογένους γίνεται το απρόσμενο σημείο γιορτινής συνάντησης. \n\n20 Δεκεμβρίου: DJ sets\n21 Δεκεμβρίου: Live μπάντες
URL:https://cityfestival.thisisathens.org/event/protogenous-street-party/
LOCATION:Πρωτογένους\, Πρωτογένους\, Αθήνα\, Athens\, 105 54\, Greece
CATEGORIES:DJ SET,ΓΑΣΤΡΟΝΟΜΙΑ,ΔΩΡΕΑΝ,ΠΑΡΤΙ,ΣΥΝΑΥΛΙΑ,ΥΠΑΙΘΡΙΑ ΔΡΑΣΗ,ΨΥΧΑΓΩΓΙΑ
ATTACH;FMTTYPE=image/jpeg:https://cityfestival.thisisathens.org/wp-content/uploads/2025/11/Protogenous-Street-Party.jpg
END:VEVENT
BEGIN:VEVENT
DTSTART;TZID=Europe/Athens:20251220T190000
DTEND;TZID=Europe/Athens:20251220T190000
DTSTAMP:20260419T211452
CREATED:20251211T105810Z
LAST-MODIFIED:20251211T105810Z
UID:10004061-1766257200-1766257200@cityfestival.thisisathens.org
SUMMARY:Λαμπρινή Street Party
DESCRIPTION:Η Λαμπρινή μεταμορφώνεται στο νέο hot spot της ηλεκτρονικής σκηνής. Το ΕΝΤΕΚΑ Athens στήνει σε αυτή τη βόρεια γειτονιά του Δήμου Αθηναίων μία εντυπωσιακή\, φωτεινή και ολοζώντανη σκηνή\, καλώντας μερικούς από τους πιο δραστήριους DJs και παραγωγούς της πόλης σε μια βραδιά γεμάτη παλμό και ενέργεια. Οι ρυθμοί ανεβαίνουν και η γειτονιά ζει το πιο “ηλεκτρισμένο” πάρτυ της χρονιάς.
URL:https://cityfestival.thisisathens.org/event/labrini-street-party/
LOCATION:Πλατεία Αγίου Ανδρέα\, Πλατεία Τράλλεων\, Αθήνα\, Αθήνα\, 111 42\, Greece
CATEGORIES:DJ SET,ΠΑΡΤΙ,ΥΠΑΙΘΡΙΑ ΔΡΑΣΗ,ΨΥΧΑΓΩΓΙΑ
ATTACH;FMTTYPE=image/png:https://cityfestival.thisisathens.org/wp-content/uploads/2025/11/Enteka-Athens.png
END:VEVENT
BEGIN:VEVENT
DTSTART;TZID=Europe/Athens:20251220T190000
DTEND;TZID=Europe/Athens:20251220T233000
DTSTAMP:20260419T211452
CREATED:20251211T105533Z
LAST-MODIFIED:20251218T134249Z
UID:10004060-1766257200-1766273400@cityfestival.thisisathens.org
SUMMARY:Darkest Night Brightest Vibe (Moxy x En Lefko Xmas Party)
DESCRIPTION:Στο σημείο μηδέν της πόλης\, εκεί όπου οι δρόμοι συναντώνται και οι ρυθμοί μπλέκονται\, η Ομόνοια γίνεται το νέο επίκεντρο του χορού. Η Μεγαλύτερη Νύχτα του χρόνου μεταμορφώνει το Moxy Athens City σε μια ατμοσφαιρική dance – στοά που λάμπει από φως και κίνηση στο κέντρο της πόλης. Ο En Lefko 87.7 αναλαμβάνει τα decks\, φέρνοντας τους Εύα Θεοτοκάτου\, Λατέρνατιβ και Μανόλης Οικονόμου σε μια σκηνή με πολύ κέφι\, δημιουργικότητα και ξέφρενο χορό. Το απόλυτο πάρτυ έρχεται στην “καρδιά” της Αθήνας!
URL:https://cityfestival.thisisathens.org/event/moxy-en-lefko-xmas-party/
LOCATION:Moxy Athens City\, Σταδίου 65\, Αθήνα\, Αθήνα\, 105 51\, Greece
CATEGORIES:DJ SET,ΔΩΡΕΑΝ,ΨΥΧΑΓΩΓΙΑ
ATTACH;FMTTYPE=image/jpeg:https://cityfestival.thisisathens.org/wp-content/uploads/2025/11/En-Lekfo-Party-scaled.jpg
END:VEVENT
BEGIN:VEVENT
DTSTART;TZID=Europe/Athens:20251227T120000
DTEND;TZID=Europe/Athens:20251227T180000
DTSTAMP:20260419T211452
CREATED:20251211T105300Z
LAST-MODIFIED:20251211T105300Z
UID:10004079-1766836800-1766858400@cityfestival.thisisathens.org
SUMMARY:Kids Radio - Μια Μέρα για Όλη την Οικογένεια
DESCRIPTION:Ένα γιορτινό φεστιβάλ για όλη την οικογένεια σε συνεργασία με την Frontstage Entertainment: \n\nFace painting και bubble show\, εργαστήριο κατασκευής γουριού\, πειράματα με… χιόνι\, αφήγηση χριστουγεννιάτικου παραμυθιού\, «συνάντηση» με τον Άγιο Βασίλη\, DJ set με τους παραγωγούς του HiΤ 88.9\, αλλά και μια γιορτινή συναυλία με την Kids Radio Banda -από το πρωί έως το απόγευμα- στο Christmas Market\, στην Πλατεία Κοτζιά. \n\nΑναλυτικά\, το πρόγραμμα:\n12:00 – 18:00 | X-Mas Face Painting\n12:00 – 14:00 | DJ Set με τους παραγωγούς του HiΤ 88.9\n12:00 – 16:00 | Εργαστήριο κατασκευής γουριού\n12:00 – 17:00 | Santa is coming to town\n12:00 – 17:00 | Πειράματα: Φτιάχνουμε Χιόνι!\n17:00 – 18:00 | Kids Radio Banda\n15:00 – 16:00 | Αφήγηση Χριστουγεννιάτικου Παραμυθιού\n16:00 – 17:00 | Bubble Show
URL:https://cityfestival.thisisathens.org/event/kids-radio-mera-gia-tin-oikogeneia/
LOCATION:Πλατεία Κοτζιά\, Πλατεία Κοτζιά\, Αθήνα\, Αθήνα\, 105 51\, Greece
CATEGORIES:DJ SET,ΔΩΡΕΑΝ,ΕΡΓΑΣΤΗΡΙΑ,ΠΑΙΔΙ,ΣΥΝΑΥΛΙΑ,ΥΠΑΙΘΡΙΑ ΔΡΑΣΗ,ΨΥΧΑΓΩΓΙΑ
ATTACH;FMTTYPE=image/jpeg:https://cityfestival.thisisathens.org/wp-content/uploads/2025/12/20241211-TGR-Christmas-0219-scaled.jpg
END:VEVENT
BEGIN:VEVENT
DTSTART;TZID=Europe/Athens:20251230T170000
DTEND;TZID=Europe/Athens:20251230T233000
DTSTAMP:20260419T211452
CREATED:20251211T105414Z
LAST-MODIFIED:20251211T105414Z
UID:10004065-1767114000-1767137400@cityfestival.thisisathens.org
SUMMARY:Athens All Star Party Xmas 2025
DESCRIPTION:Η πιο επιβλητική πλατεία της Αθήνας μετατρέπεται σε μια μεγάλη πίστα χορού. Κάτω από τη λάμψη των αστεριών\, ακριβώς μπροστά από το Δημαρχιακό Μέγαρο της Αθήνας\, η μουσική ενώνει την πόλη σε ένα μαγικό αποχαιρετιστήριο πάρτυ για τη χρονιά που φεύγει\, με κορυφαίους promoters να δημιουργούν μια πρωτόγνωρη ατμόσφαιρα στα Χριστούγεννα στην Αθήνα. Όταν οι δυνάμεις των Street Outdoors Soundsystem\, Yucatan\, Deerislnd και Tropical ενώνουν τους ήχους τους\, το αποτέλεσμα είναι ένα: Χορός δίχως τέλος και μια νύχτα που θα γράψει τη δική της αστική ιστορία.
URL:https://cityfestival.thisisathens.org/event/athens-all-star-party-xmas-2025/
LOCATION:Πλατεία Κοτζιά\, Πλατεία Κοτζιά\, Αθήνα\, Αθήνα\, 105 51\, Greece
CATEGORIES:DJ SET,ΔΩΡΕΑΝ,ΠΑΡΤΙ,ΥΠΑΙΘΡΙΑ ΔΡΑΣΗ,ΨΥΧΑΓΩΓΙΑ
ATTACH;FMTTYPE=image/jpeg:https://cityfestival.thisisathens.org/wp-content/uploads/2025/12/20240602TiACF-ADR-AllStarLycabettusParty-0055-scaled.jpg
END:VEVENT
END:VCALENDAR