BEGIN:VCALENDAR
VERSION:2.0
PRODID:-//Το Φεστιβάλ του Δήμου Αθηναίων - ECPv6.12.0.1//NONSGML v1.0//EN
CALSCALE:GREGORIAN
METHOD:PUBLISH
X-WR-CALNAME:Το Φεστιβάλ του Δήμου Αθηναίων
X-ORIGINAL-URL:https://cityfestival.thisisathens.org
X-WR-CALDESC:Events for Το Φεστιβάλ του Δήμου Αθηναίων
REFRESH-INTERVAL;VALUE=DURATION:PT1H
X-Robots-Tag:noindex
X-PUBLISHED-TTL:PT1H
BEGIN:VTIMEZONE
TZID:Europe/Athens
BEGIN:DAYLIGHT
TZOFFSETFROM:+0200
TZOFFSETTO:+0300
TZNAME:EEST
DTSTART:20250330T010000
END:DAYLIGHT
BEGIN:STANDARD
TZOFFSETFROM:+0300
TZOFFSETTO:+0200
TZNAME:EET
DTSTART:20251026T010000
END:STANDARD
END:VTIMEZONE
BEGIN:VEVENT
DTSTART;TZID=Europe/Athens:20250523T180000
DTEND;TZID=Europe/Athens:20250523T190000
DTSTAMP:20260421T180351
CREATED:20250328T112723Z
LAST-MODIFIED:20250509T101535Z
UID:10003235-1748023200-1748026800@cityfestival.thisisathens.org
SUMMARY:Ανακαλύπτω την Αθήνα του Σπύρου Βασιλείου
DESCRIPTION:Έργα ζωγραφικής από το αρχείο του Σπύρου Βασιλείου «συνομιλούν» με τα εκθέματα του Παιδικού Μουσείου της Αθήνας και διαμορφώνουν ένα περιβάλλον\, που μας ταξιδεύει στην Αθήνα του προηγούμενου αιώνα.\n\nΟικογένειες με παιδιά 6-12 ετών εξερευνούν το έργο του καλλιτέχνη εστιάζοντας στις μεταβολές του αστικού τοπίου.\n\nΑπαιτείται η κράτηση θέσης.
URL:https://cityfestival.thisisathens.org/event/anakalypto-tin-athina-tou-spyrou-vasileiou/
LOCATION:Ελληνικό Παιδικό Μουσείο\, Βασ. Γεωργίου Β΄ 19\, Αθήνα\, Αθήνα\, 106 75\, Greece
CATEGORIES:ΔΩΡΕΑΝ,ΜΟΥΣΕΙΟ,ΠΑΙΔΙ
ATTACH;FMTTYPE=image/jpeg:https://cityfestival.thisisathens.org/wp-content/uploads/2025/03/Spryos-Vasiliou.jpg
END:VEVENT
BEGIN:VEVENT
DTSTART;TZID=Europe/Athens:20250524T103000
DTEND;TZID=Europe/Athens:20250524T113000
DTSTAMP:20260421T180351
CREATED:20250423T124207Z
LAST-MODIFIED:20250519T133802Z
UID:10003645-1748082600-1748086200@cityfestival.thisisathens.org
SUMMARY:Ξενάγηση στο Σπίτι του Ελύτη
DESCRIPTION:Στο νεοκλασικό κτήριο στην οδό Διοσκούρων 4 & Πολυγνώτου\, από την 1η Νοεμβρίου 2024 λειτουργεί το νέο Μουσείο «ΣΠΙΤΙ ΤΟΥ ΕΛΥΤΗ».\n\nΤο Μουσείο φιλοξενεί μία μόνιμη έκθεση αφιερωμένη στη ζωή και στο έργο του μεγάλου ποιητή. Χειρόγραφα\, εκδόσεις ελληνικές και ξένες\, εικαστικά έργα\, ποικίλα αυθεντικά τεκμήρια από το σπίτι του Ελύτη\, παρουσιάζονται μαζί με το σύνολο του γραφείου του ποιητή\, του χώρου όπου εργαζόταν από το 1962 έως το τέλος της ζωής του.\n\nΑπαιτείται η κράτηση θέσης: info@elytishousemuseum.gr\n\nΟι θέσεις έχουν καλυφθεί.
URL:https://cityfestival.thisisathens.org/event/xenagisi-spiti-elyti-2/
LOCATION:Σπίτι του Ελύτη – Μουσείο\, Πολυγνώτου 7\, Αθήνα\, Αθήνα\, 105 55\, Greece
CATEGORIES:ΔΩΡΕΑΝ,ΕΚΘΕΣΗ,ΛΟΓΟΤΕΧΝΙΑ,ΜΟΥΣΕΙΟ,ΠΕΡΙΗΓΗΣΗ
ATTACH;FMTTYPE=image/jpeg:https://cityfestival.thisisathens.org/wp-content/uploads/2025/03/elitis_banner.jpg
END:VEVENT
BEGIN:VEVENT
DTSTART;TZID=Europe/Athens:20250524T110000
DTEND;TZID=Europe/Athens:20250524T120000
DTSTAMP:20260421T180351
CREATED:20250423T122108Z
LAST-MODIFIED:20250506T120658Z
UID:10003637-1748084400-1748088000@cityfestival.thisisathens.org
SUMMARY:Κύπρος 74 - Δεν Ξεχνώ
DESCRIPTION:Ξενάγηση στην έκθεση μνήμης με αφορμή τη συμπλήρωση 50 χρόνων από την τουρκική εισβολή στην Κύπρο. Μέσα από σπάνιες αφίσες της εποχής και αντίστοιχο φωτογραφικό υλικό\, η έκθεση φιλοδοξεί να αναδείξει τα γεγονότα της κυπριακής τραγωδίας\, την πανελλήνια συμπαράσταση στον λαό της Κύπρου και τον συνεχή αγώνα του για ελευθερία και δικαιοσύνη.\n\nΑπαιτείται η κράτηση θέσης: +210 322 2266 (εσωτ. 109)\, Τρίτη-Παρασκευή\, 09:00-15:00.\nΟι κρατήσεις ανοίγουν μία εβδομάδα πριν τη δράση\, στις 12:00 το μεσημέρι.
URL:https://cityfestival.thisisathens.org/event/kypros-74-den-ksexnw-2/
LOCATION:Εθνικό Ιστορικό Μουσείο\, Σταδίου 13\, Αθήνα\, Αθήνα\, 105 61\, Greece
CATEGORIES:ΔΩΡΕΑΝ,ΕΚΘΕΣΗ,ΜΟΥΣΕΙΟ,ΠΕΡΙΗΓΗΣΗ
ATTACH;FMTTYPE=image/jpeg:https://cityfestival.thisisathens.org/wp-content/uploads/2025/04/ΚΥΠΡΟΣ.jpg
END:VEVENT
BEGIN:VEVENT
DTSTART;TZID=Europe/Athens:20250524T113000
DTEND;TZID=Europe/Athens:20250524T140000
DTSTAMP:20260421T180351
CREATED:20250326T111747Z
LAST-MODIFIED:20250506T120407Z
UID:10001225-1748086200-1748095200@cityfestival.thisisathens.org
SUMMARY:Προβολή Ιστορικών Ντοκιμαντέρ
DESCRIPTION:H αίθουσα «Αδαμάντιος Κοραής» του Πολεμικού Μουσείου φιλοξενεί την προβολή πέντε ιστορικών ντοκιμαντέρ. Μέσα από σπάνιο κινηματογραφικό υλικό\, τα ντοκιμαντέρ ζωντανεύουν κρίσιμες στιγμές της στρατιωτικής ιστορίας\, από τους Βαλκανικούς Πολέμους (1912-13) και τη Μάχη της Καλλίπολης (1915)\, μέχρι τη νικηφόρα Μάχη του Σκρα (1918)\, τη δραματική Μάχη της Κρήτης (1941) και την Απόβαση στη Νορμανδία (1944). Αυτά τα κορυφαία γεγονότα παρουσιάζονται με αυθεντικά πλάνα\, αναδεικνύοντας τη στρατηγική σημασία και την ηρωική δράση των εμπλεκομένων δυνάμεων.\n\n 	Βαλκανικοί Πόλεμοι 1912-13\, Κινηματογραφώντας την Ιστορία (διάρκεια: 52΄)\n 	Η Μάχη της Καλλίπολης 1915\, ΑΝΖΑΚ (διάρκεια: 27΄)\n 	Η Μάχη του Σκρα\, 1918 (διάρκεια: 22΄)\n 	Η Μάχη της Κρήτης\, Μαιος 1941 (διάρκεια: 25΄)\n 	Απόβαση στη Νορμανδία\, Ιούνιος 1944 (διάρκεια: 5΄)\n\nΘα τηρηθεί σειρά προτεραιότητας.
URL:https://cityfestival.thisisathens.org/event/provoli-documentary/
LOCATION:Πολεμικό Μουσείο\, Ριζάρη 2-4\, Αθήνα\, Αθήνα\, 106 75\, Greece
CATEGORIES:ΔΩΡΕΑΝ,ΙΣΤΟΡΙΑ,ΜΟΥΣΕΙΟ,ΣΙΝΕΜΑ
ATTACH;FMTTYPE=image/jpeg:https://cityfestival.thisisathens.org/wp-content/uploads/2025/03/ΑΙΘΡΙΟΣ-ΧΩΡΟΣ-scaled.jpg
END:VEVENT
BEGIN:VEVENT
DTSTART;TZID=Europe/Athens:20250524T180000
DTEND;TZID=Europe/Athens:20250524T193000
DTSTAMP:20260421T180352
CREATED:20250327T112619Z
LAST-MODIFIED:20250506T120037Z
UID:10001272-1748109600-1748115000@cityfestival.thisisathens.org
SUMMARY:Ιστορικός Περίπατος
DESCRIPTION:Το Εθνικό Αρχαιολογικό Μουσείο και ο Δρ Κώστας Πασχαλίδης παρουσιάζουν σε έναν απογευματινό περίπατο το συνοπτικό χρονικό του Ελληνικού Κράτους από την ίδρυσή του μέχρι σήμερα.\n\nΜια ιστορία που ξεκινάει πριν από δύο αιώνες\, από ένα οικόπεδο που ήταν αμπέλι\, κατόπιν έγινε λέσχη των Βαυαρών στρατιωτών\, σημείο ανέγερσης του μεγαλύτερου Μουσείου του αρχαίου κόσμου\, τόπος αγωνιώδους απόκρυψης αρχαιοτήτων εν όψει πολέμου\, εμβληματικό σημείο της Εθνικής Αντίστασης στην Κατοχή\, μάρτυρας της φοιτητικής εξέγερσης του Πολυτεχνείου\, κιβωτός αστείρευτων εκθέσεων. Ένας μικρός τόπος στην «καρδιά» της Αθήνας\, που έζησε τη γέννηση και τις περιπέτειες μιας ολόκληρης χώρας.\n\nΑπαιτείται η κράτηση θέσης.
URL:https://cityfestival.thisisathens.org/event/istorikos-peripatos/
LOCATION:Εθνικό Αρχαιολογικό Μουσείο\, Πατησίων 44\, Αθήνα\, Αθήνα\, 106 82\, Greece
CATEGORIES:ΔΩΡΕΑΝ,ΙΣΤΟΡΙΑ,ΜΟΥΣΕΙΟ,ΠΕΡΙΗΓΗΣΗ,ΥΠΑΙΘΡΙΑ ΔΡΑΣΗ
ATTACH;FMTTYPE=image/jpeg:https://cityfestival.thisisathens.org/wp-content/uploads/2025/03/20230527-TGR-AthensCityFestival-PeripatosArchaelogicalMuseum-0096-scaled.jpg
END:VEVENT
BEGIN:VEVENT
DTSTART;TZID=Europe/Athens:20250524T200000
DTEND;TZID=Europe/Athens:20250524T200000
DTSTAMP:20260421T180352
CREATED:20250424T073639Z
LAST-MODIFIED:20250506T115817Z
UID:10003699-1748116800-1748116800@cityfestival.thisisathens.org
SUMMARY:Όλο το MOMus-Μουσείο Άλεξ Μυλωνά με μία Επίσκεψη
DESCRIPTION:Καλεσμένοι σε μια ειδική ξενάγηση σε όλους τους χώρους του Μουσείου από τον επιμελητή Γιάννη Μπόλη\, ανακαλύπτουμε την ιστορία του κτιρίου\, της ιδρύτριάς του Άλεξ Μυλωνά\, των συλλογών του και της περιοδικής έκθεσης «a Cabinets of Curiosities»\, με τα έργα 78 εικαστικών στη βάση του απροσδόκητου\, του αμφίσημου\, του αινιγματικού\, του φανταστικού και του γκροτέσκο.\n\nΑπαιτείται η κράτηση θέσης: +210 321 5717 (Τρίτη-Κυριακή 10:00-18:00\, Πέμπτη 10:00-21:00)\n\nΟι κρατήσεις ανοίγουν 17/5\, στις 12:00 το μεσημέρι.
URL:https://cityfestival.thisisathens.org/event/momus-mouseio-alex-mylona-mia-episkepsi/
LOCATION:MOMus-Μουσείο Άλεξ Μυλωνά\, Πλατεία Αγίων Ασωμάτων 5\, Αθήνα\, Αθήνα\, 105 54\, Greece
CATEGORIES:ΔΩΡΕΑΝ,ΕΚΘΕΣΗ,ΜΟΥΣΕΙΟ,ΠΕΡΙΗΓΗΣΗ
ATTACH;FMTTYPE=image/jpeg:https://cityfestival.thisisathens.org/wp-content/uploads/2025/04/momusalexmylona_curiosities_photo-Talc-Studio-5-scaled.jpg
END:VEVENT
BEGIN:VEVENT
DTSTART;TZID=Europe/Athens:20250525T103000
DTEND;TZID=Europe/Athens:20250525T113000
DTSTAMP:20260421T180352
CREATED:20250423T120713Z
LAST-MODIFIED:20250506T115624Z
UID:10003633-1748169000-1748172600@cityfestival.thisisathens.org
SUMMARY:Από τη Μεγάλη στη Σύγχρονη Ελλάδα - Μέρος Β: Οι Πρόσφυγες
DESCRIPTION:Ξενάγηση στο δεύτερο μέρος της έκθεσης «Από τη Μεγάλη στη Σύγχρονη Ελλάδα»\, η οποία παρακολουθεί την ολοκλήρωση της δημιουργίας της χώρας από άποψη συνόρων και πληθυσμού. Το πρώτο μέρος\, που παρουσιάστηκε το 2022\, περιγράφει όσα γεγονότα οδήγησαν στην παγίωση των συνόρων μετά το τέλος του Α΄ Παγκοσμίου Πολέμου\, εστιάζοντας στη Μικρασιατική Εκστρατεία και το συλλογικό τραύμα της καταστροφής της Σμύρνης.\n\nΤο δεύτερο μέρος με τον υπότιτλο «Οι Πρόσφυγες» επικεντρώνεται στην πληθυσμιακή διαμόρφωση της Ελλάδας μέσα από τις μετακινήσεις πληθυσμών επί έναν αιώνα. Η έκθεση πραγματοποιείται με την αποκλειστική χορηγία της Τράπεζας Πειραιώς.\n\nΗ δράση απευθύνεται σε ενήλικες.\n\nΑπαιτείται η κράτηση θέσης: +210 32 22 266 (εσωτ. 109)\, Τρίτη-Παρασκευή\, 09:00-15:00.\nΟι κρατήσεις ανοίγουν μία εβδομάδα πριν τη δράση\, στις 12:00 το μεσημέρι.
URL:https://cityfestival.thisisathens.org/event/apo-ti-megali-sti-sygxroni-ellada-prosfyges-2/
LOCATION:Εθνικό Ιστορικό Μουσείο\, Σταδίου 13\, Αθήνα\, Αθήνα\, 105 61\, Greece
CATEGORIES:ΔΩΡΕΑΝ,ΕΚΘΕΣΗ,ΜΟΥΣΕΙΟ,ΠΕΡΙΗΓΗΣΗ
ATTACH;FMTTYPE=image/png:https://cityfestival.thisisathens.org/wp-content/uploads/2025/04/OWN-greater-contemporary-greece-2.png
END:VEVENT
BEGIN:VEVENT
DTSTART;TZID=Europe/Athens:20250525T113000
DTEND;TZID=Europe/Athens:20250525T130000
DTSTAMP:20260421T180352
CREATED:20250401T072126Z
LAST-MODIFIED:20250506T115439Z
UID:10003255-1748172600-1748178000@cityfestival.thisisathens.org
SUMMARY:Εκπαιδευτικό Πρόγραμμα: Η Δύναμη της Αφίσας
DESCRIPTION:Το εκπαιδευτικό πρόγραμμα περιλαμβάνει μια σύντομη περιήγηση στην έκθεση «Κύπρος ’74 – Δεν Ξεχνώ». Εστιάζει στις πηγές έμπνευσης των αφισών που εκτίθενται στην έκθεση και στον τρόπο κατασκευής τους. Στο πλαίσιο του προγράμματος\, τα παιδιά θα έχουν την ευκαιρία να δημιουργήσουν τη δική τους αφίσα\, με τη μέθοδο του κολλάζ.\n\nΗ δράση απευθύνεται σε παιδιά ηλικίας 6-12 ετών.\n\nΑπαιτείται η κράτηση θέσης: +210 32 22 266 (εσωτ. 109) το διάστημα 20-23 Μαΐου και ώρες 9.00-15.00.
URL:https://cityfestival.thisisathens.org/event/ekpaideutiko-programma-dynami-tis-afisas/
LOCATION:Εθνικό Ιστορικό Μουσείο\, Σταδίου 13\, Αθήνα\, Αθήνα\, 105 61\, Greece
CATEGORIES:ΔΩΡΕΑΝ,ΕΚΘΕΣΗ,ΜΟΥΣΕΙΟ,ΠΑΙΔΙ
ATTACH;FMTTYPE=image/jpeg:https://cityfestival.thisisathens.org/wp-content/uploads/2023/03/ΕΙΜ-Εξωτ..jpg
END:VEVENT
BEGIN:VEVENT
DTSTART;TZID=Europe/Athens:20250525T120000
DTEND;TZID=Europe/Athens:20250525T130000
DTSTAMP:20260421T180352
CREATED:20250423T115055Z
LAST-MODIFIED:20250423T115055Z
UID:10003629-1748174400-1748178000@cityfestival.thisisathens.org
SUMMARY:Περιήγηση στο Πολεμικό Μουσείο για Παιδιά
DESCRIPTION:Μία περιήγηση στη στρατιωτική ιστορία και την πολιτιστική κληρονομιά της χώρας\, μέσα από τις εκθέσεις του Πολεμικού Μουσείου. Οι επισκέπτες θα έχουν την ευκαιρία να ανακαλύψουν σπάνια εκθέματα\, ιστορικά τεκμήρια και αφηγήσεις από το παρελθόν.\n\nΗ δράση απευθύνεται σε παιδιά ηλικίας 12 ετών με έναν συνοδό.\n\nΑπαιτείται η κράτηση θέσης.
URL:https://cityfestival.thisisathens.org/event/periigisi-polemiko-mouseio-gia-paidia-2/
LOCATION:Πολεμικό Μουσείο\, Ριζάρη 2-4\, Αθήνα\, Αθήνα\, 106 75\, Greece
CATEGORIES:ΔΩΡΕΑΝ,ΕΚΘΕΣΗ,ΜΟΥΣΕΙΟ,ΠΑΙΔΙ
ATTACH;FMTTYPE=image/jpeg:https://cityfestival.thisisathens.org/wp-content/uploads/2025/03/06-1.jpg
END:VEVENT
BEGIN:VEVENT
DTSTART;TZID=Europe/Athens:20250525T120000
DTEND;TZID=Europe/Athens:20250525T133000
DTSTAMP:20260421T180352
CREATED:20250327T152331Z
LAST-MODIFIED:20250425T130459Z
UID:10003227-1748174400-1748179800@cityfestival.thisisathens.org
SUMMARY:Η Πόλη του Μέλλοντος: Από την Ακρόπολη στο Ντουμπάι και Πάλι Πίσω
DESCRIPTION:Πώς ήταν οι πόλεις στην αρχαία Ελλάδα; Άραγε είχαν συστήματα τεχνολογίας όπως αυτά που χρησιμοποιούμε εμείς σήμερα;\n\nΑκολουθούμε τα βήματα του Ήρωνα και του Αρχιμήδη για να ανακαλύψουμε πως ακριβώς οι αρχαίοι Έλληνες ανέπτυξαν μία «πράσινη» τεχνολογία προς όφελος της κοινωνίας τους καθώς και τις τεχνικές με τις οποίες βελτίωναν διαρκώς την ποιότητα της ζωής τους στην πόλη.\n\nΣε ένα ταξίδι με αφετηρία την Ακρόπολη και ενδιάμεσους σταθμούς την Αλεξάνδρεια\, το Λονδίνο\, τη Σιγκαπούρη και το Ντουμπάι\, θα φτάσουμε ως την πόλη του μέλλοντος\, την «πράσινη πόλη»\, για να δούμε τελικά πώς αυτή έχει ήδη σχεδιαστεί από τους αρχαίους Έλληνες μηχανικούς και εφευρέτες.\n\nΗ δράση απευθύνεται σε παιδιά ηλικίας 6-12 ετών.\n\nΑπαιτείται η κράτηση θέσης: info@kotsanas.com
URL:https://cityfestival.thisisathens.org/event/poli-tou-mellontos-akropoli-dubai-kai-piso/
LOCATION:Μουσείο Αρχαίας Ελληνικής Τεχνολογίας “Κώστας Κοτσανάς”\, Πινδάρου 6\, Αθήνα\, Αθήνα\, 106 71\, Greece
CATEGORIES:ΔΩΡΕΑΝ,ΜΟΥΣΕΙΟ,ΠΑΙΔΙ
ATTACH;FMTTYPE=image/jpeg:https://cityfestival.thisisathens.org/wp-content/uploads/2025/03/OWN-Museums-KotsanasMuseum1.jpg
END:VEVENT
BEGIN:VEVENT
DTSTART;TZID=Europe/Athens:20250525T130000
DTEND;TZID=Europe/Athens:20250525T140000
DTSTAMP:20260421T180352
CREATED:20250418T152717Z
LAST-MODIFIED:20250506T114956Z
UID:10003542-1748178000-1748181600@cityfestival.thisisathens.org
SUMMARY:Ξενάγηση στο Μουσείο Μαρία Κάλλας
DESCRIPTION:Το Μουσείο Μαρία Κάλλας και το Φεστιβάλ του Δήμου Αθηναίων σας προσκαλούν σε ένα συναρπαστικό ταξίδι στη ζωή και την τέχνη της κορυφαίας ντίβας της όπερας.\n\nΟι επισκέπτες θα έχουν την ευκαιρία να ανακαλύψουν τις πιο εμβληματικές στιγμές της Μαρίας Κάλλας\, να εξερευνήσουν άγνωστες πτυχές της πορείας της και να εμβαθύνουν στην προσωπικότητα και την καλλιτεχνική της κληρονομιά.\n\nΜε μια αφήγηση που ζωντανεύει τη διαδρομή της\, κάθε ξενάγηση φωτίζει λεπτομέρειες πέρα από τα εκθεσιακά κείμενα\, δημιουργώντας μια μοναδική εμπειρία που προσαρμόζεται στο κοινό.\n\nΑπαιτείται η κράτηση θέσης.
URL:https://cityfestival.thisisathens.org/event/xenagisi-mouseio-maria-callas-2/
LOCATION:Μουσείο Μαρία Κάλλας\, Μητροπόλεως 44\, Αθήνα\, Αθήνα\, 105 63\, Greece
CATEGORIES:ΔΩΡΕΑΝ,ΕΚΘΕΣΗ,ΜΟΥΣΕΙΟ
ATTACH;FMTTYPE=image/jpeg:https://cityfestival.thisisathens.org/wp-content/uploads/2025/04/General-photo_-Internal-photo-of-the-Museum-1st-floor_Vangelis-Patsialos_Maria-Callas-Museum.jpg
END:VEVENT
BEGIN:VEVENT
DTSTART;TZID=Europe/Athens:20250525T140000
DTEND;TZID=Europe/Athens:20250525T150000
DTSTAMP:20260421T180352
CREATED:20250416T135032Z
LAST-MODIFIED:20250506T114504Z
UID:10003513-1748181600-1748185200@cityfestival.thisisathens.org
SUMMARY:Περιήγηση στο Πολεμικό Μουσείο για Ενήλικες
DESCRIPTION:Μία περιήγηση στη στρατιωτική ιστορία και την πολιτιστική κληρονομιά της χώρας\, μέσα από τις εκθέσεις του του Πολεμικού Μουσείου. Οι επισκέπτες θα έχουν την ευκαιρία να ανακαλύψουν σπάνια εκθέματα\, ιστορικά τεκμήρια και αφηγήσεις από το παρελθόν.\n\nΗ δράση απευθύνεται σε ενήλικες.\n\nΑπαιτείται η κράτηση θέσης.
URL:https://cityfestival.thisisathens.org/event/periigisi-polemiko-mouseio-enilikes-2/
LOCATION:Πολεμικό Μουσείο\, Ριζάρη 2-4\, Αθήνα\, Αθήνα\, 106 75\, Greece
CATEGORIES:ΔΩΡΕΑΝ,ΕΚΘΕΣΗ,ΜΟΥΣΕΙΟ,ΠΕΡΙΗΓΗΣΗ
ATTACH;FMTTYPE=image/jpeg:https://cityfestival.thisisathens.org/wp-content/uploads/2025/03/02.jpg
END:VEVENT
END:VCALENDAR