BEGIN:VCALENDAR
VERSION:2.0
PRODID:-//Το Φεστιβάλ του Δήμου Αθηναίων - ECPv6.12.0.1//NONSGML v1.0//EN
CALSCALE:GREGORIAN
METHOD:PUBLISH
X-WR-CALNAME:Το Φεστιβάλ του Δήμου Αθηναίων
X-ORIGINAL-URL:https://cityfestival.thisisathens.org
X-WR-CALDESC:Events for Το Φεστιβάλ του Δήμου Αθηναίων
REFRESH-INTERVAL;VALUE=DURATION:PT1H
X-Robots-Tag:noindex
X-PUBLISHED-TTL:PT1H
BEGIN:VTIMEZONE
TZID:Europe/Athens
BEGIN:DAYLIGHT
TZOFFSETFROM:+0200
TZOFFSETTO:+0300
TZNAME:EEST
DTSTART:20260329T010000
END:DAYLIGHT
BEGIN:STANDARD
TZOFFSETFROM:+0300
TZOFFSETTO:+0200
TZNAME:EET
DTSTART:20261025T010000
END:STANDARD
END:VTIMEZONE
BEGIN:VEVENT
DTSTART;TZID=Europe/Athens:20260523T210000
DTEND;TZID=Europe/Athens:20260523T210000
DTSTAMP:20260423T014657
CREATED:20260417T142923Z
LAST-MODIFIED:20260417T143012Z
UID:10004318-1779570000-1779570000@cityfestival.thisisathens.org
SUMMARY:En Lefko 87.7
DESCRIPTION:Το ανοιξιάτικο ξεφάντωμα έχει εδώ και χρόνια ένα σταθερό όνομα στην πόλη: En Lefko Spring Party. Για τρίτη συνεχή χρονιά στο Φεστιβάλ του Δήμου Αθηναίων\, ο En Lefko 87.7 αφήνει τα στούντιο και κατεβαίνει στο κέντρο\, αυτή τη φορά με προορισμό τον εμβληματικό χώρο Ω2 του Ωδείου Αθηνών. Μέσα στην ξεχωριστή αρχιτεκτονική ατμόσφαιρα του κτιρίου του Δεσποτόπουλου\, η βραδιά αποκτά εξαρχής τη δική της αισθητική ταυτότητα: σύγχρονη\, κομψή\, αλλά και απολύτως χορευτική. Οι αγαπημένοι παραγωγοί του σταθμού φέρνουν μαζί τους ανατρεπτικά μουσικά θέματα\, χαρακτηριστικές επιλογές και τη γνωστή φαντασία που έχει κάνει τον En Lefko συνώνυμο μιας συγκεκριμένης αθηναϊκής αίσθησης. Το Ωδείο μετατρέπεται για λίγες ώρες σε ένα ζωντανό κύτταρο διασκέδασης\, αφιερωμένο στον ήχο της πόλης και στην ανάγκη μας να γιορτάσουμε την άνοιξη χορεύοντας. Μια βραδιά με ρυθμό\, ατμόσφαιρα και αυτή τη γνώριμη αίσθηση ότι η Αθήνα ξέρει πάντα πού να συναντηθεί.
URL:https://cityfestival.thisisathens.org/event/en-lefko-87-7/
LOCATION:Ωδείο Αθηνών\, Ρηγίλλης &\, Vasileos Georgiou B 17-19\, Αθήνα\, Αθήνα\, 106 75\, Greece
CATEGORIES:DJ SET,ΔΩΡΕΑΝ,ΠΑΡΤΙ,ΨΥΧΑΓΩΓΙΑ
ATTACH;FMTTYPE=image/jpeg:https://cityfestival.thisisathens.org/wp-content/uploads/2026/03/230520_GMK_En_Lefko_Spring_Party_28-scaled.jpg
GEO:37.973423563659;23.743181774147
X-APPLE-STRUCTURED-LOCATION;VALUE=URI;X-ADDRESS=Ωδείο Αθηνών Ρηγίλλης & Vasileos Georgiou B 17-19 Αθήνα Αθήνα 106 75 Greece;X-APPLE-RADIUS=500;X-TITLE=Ρηγίλλης &\, Vasileos Georgiou B 17-19:geo:23.743181774147,37.973423563659
END:VEVENT
BEGIN:VEVENT
DTSTART;TZID=Europe/Athens:20260524T190000
DTEND;TZID=Europe/Athens:20260524T230000
DTSTAMP:20260423T014657
CREATED:20260331T131000Z
LAST-MODIFIED:20260331T131000Z
UID:10004200-1779649200-1779663600@cityfestival.thisisathens.org
SUMMARY:Street Outdoors 2026
DESCRIPTION:Οι Street Outdoors\, η ομάδα που έχει συνδέσει το όνομά της με μερικά από τα πιο επιδραστικά υπαίθρια πάρτι της τελευταίας δεκαετίας\, επιστρέφουν στο Φεστιβάλ του Δήμου Αθηναίων 2026 και μετατρέπουν για άλλη μια χρονιά το Πάρκο Ελευθερίας σε σημείο συνάντησης για τη ζωντανή\, εξωστρεφή πλευρά της πόλης. Μακριά από τη λογική του κλειστού club\, εδώ η μουσική κυκλοφορεί ελεύθερα κάτω από τα δέντρα\, σε ένα σκηνικό που συνδυάζει αστική ενέργεια και ανοιχτό χώρο. Με ήχο που ισορροπεί ανάμεσα στις σύγχρονες τάσεις της ηλεκτρονικής μουσικής και το κλασικό πνεύμα ενός πραγματικού πάρτι\, οι Street Outdoors στήνουν μια εμπειρία που ξεκινά χαλαρά και εξελίσσεται σταδιακά σε μεγάλη γιορτή. Ο χορός\, η επικοινωνία και η αίσθηση του «μαζί» βρίσκονται στο κέντρο της βραδιάς\, σε ένα απόγευμα και βράδυ που δείχνει πόσο φυσικά μπορεί η πόλη να μεταμορφωθεί μέσα από τον ρυθμό. Μια ακόμη απόδειξη ότι η Αθήνα χτυπά πιο δυνατά όταν βγαίνει έξω.
URL:https://cityfestival.thisisathens.org/event/street-outdoors-2026/
LOCATION:Πάρκο Ελευθερίας\, Πάρκο Ελευθερίας\, Αθήνα\, Αθήνα\, 115 21\, Greece
CATEGORIES:DJ SET,ΔΩΡΕΑΝ,ΠΑΡΤΙ,ΥΠΑΙΘΡΙΑ ΔΡΑΣΗ,ΨΥΧΑΓΩΓΙΑ
ATTACH;FMTTYPE=image/jpeg:https://cityfestival.thisisathens.org/wp-content/uploads/2026/03/GKS3460-scaled.jpg
END:VEVENT
BEGIN:VEVENT
DTSTART;TZID=Europe/Athens:20260527T210000
DTEND;TZID=Europe/Athens:20260527T220000
DTSTAMP:20260423T014657
CREATED:20260421T134742Z
LAST-MODIFIED:20260421T134742Z
UID:10005335-1779915600-1779919200@cityfestival.thisisathens.org
SUMMARY:Στέλλα Καρύδα
DESCRIPTION:H Στέλλα Καρύδα μας προσκαλεί σε ένα μελωδικό ταξίδι ανάμεσα στη στεριά και στη θάλασσα. Με την αισθαντική και κρυστάλλινη φωνή της ερμηνεύει ένα πρόγραμμα που ισορροπεί ανάμεσα στις δισκογραφικές συνεργασίες της με τον Χρήστο Νικολόπουλο και τον Νίκο Οικονομίδη\, και στα μεγάλα κλασικά λαϊκά και ρεμπέτικα των Τσιτσάνη\, Βαμβακάρη\, Θεοδωράκη και Καλδάρα. Από τις σύγχρονες επιτυχίες του Μάλαμα και του Θανάση Παπακωνσταντίνου μέχρι τους παραδοσιακούς θησαυρούς της Μικράς Ασίας\, της Κρήτης και της Ηπείρου\, η βραδιά υπόσχεται μια αυθεντική μυσταγωγία.\n\nΤην ορχήστρα πλαισιώνουν ο κορυφαίος κιθαρίστας Στέλιος Καρύδας στην επιμέλεια\, και ο Δημήτρης Ρέππας στο μπουζούκι και το τραγούδι\, o Σωτήρης Μαργώνης στο βιολί και ο Γιάννης Καλαφατέλης στο ακορντεόν.
URL:https://cityfestival.thisisathens.org/event/stella-karyda/
LOCATION:Το Θεατράκι της Φωκίωνος Νέγρη\, Φωκίωνος Νέγρη\, Αθήνα\, Αθήνα\, 113 61\, Greece
CATEGORIES:ΔΩΡΕΑΝ,ΣΥΝΑΥΛΙΑ,ΥΠΑΙΘΡΙΑ ΔΡΑΣΗ,ΨΥΧΑΓΩΓΙΑ
ATTACH;FMTTYPE=image/jpeg:https://cityfestival.thisisathens.org/wp-content/uploads/2026/04/image0.jpeg
END:VEVENT
BEGIN:VEVENT
DTSTART;TZID=Europe/Athens:20260528T173000
DTEND;TZID=Europe/Athens:20260528T230000
DTSTAMP:20260423T014657
CREATED:20260406T101045Z
LAST-MODIFIED:20260406T101045Z
UID:10004977-1779989400-1780009200@cityfestival.thisisathens.org
SUMMARY:Nepenthe
DESCRIPTION:Το Φεστιβάλ του Δήμου Αθηναίων υποδέχεται το Nepenthe\, ένα project που επαναπροσδιορίζει τη χορευτική εμπειρία με έμφαση στη λεπτομέρεια\, την ατμόσφαιρα και τη σύνδεση με τον χώρο. Στην Πλατεία Κοραή\, μια από τις πιο ιδιαίτερες και ιστορικές γωνιές του κέντρου\, στήνεται μια επιμελημένη μουσική «ιεροτελεστία» που μεταμορφώνει τον δημόσιο χώρο σε ζωντανό σκηνικό. Καθώς το φως της ημέρας δίνει τη θέση του στο αστικό δειλινό\, ο παλμός της house μουσικής απλώνεται ανάμεσα στα εμβληματικά κτίρια της περιοχής\, δημιουργώντας μια ατμόσφαιρα που ισορροπεί ανάμεσα στο σύγχρονο clubbing και την αρχιτεκτονική μνήμη της πόλης. Το Nepenthe δεν είναι απλώς ένα party· είναι μια εμπειρία ρυθμού και συνύπαρξης\, μια πρόσκληση να σταθούμε για λίγο στο κέντρο της Αθήνας και να τη δούμε αλλιώς\, μέσα από τον ήχο\, το φως και την κοινή ενέργεια ενός πλήθους που χορεύει μαζί.
URL:https://cityfestival.thisisathens.org/event/nepenthe/
LOCATION:Πλατεία Κοραή\, Κοραή 1\, Αθήνα\, Αθήνα\, 105 64\, Greece
CATEGORIES:DJ SET,ΔΩΡΕΑΝ,ΠΑΡΤΙ,ΥΠΑΙΘΡΙΑ ΔΡΑΣΗ,ΨΥΧΑΓΩΓΙΑ
ATTACH;FMTTYPE=image/jpeg:https://cityfestival.thisisathens.org/wp-content/uploads/2026/03/NEPENTHE_LYCABETTUS_3_YEARS_00362.jpg
END:VEVENT
BEGIN:VEVENT
DTSTART;TZID=Europe/Athens:20260529T200000
DTEND;TZID=Europe/Athens:20260529T220000
DTSTAMP:20260423T014657
CREATED:20260331T131258Z
LAST-MODIFIED:20260331T131258Z
UID:10004975-1780084800-1780092000@cityfestival.thisisathens.org
SUMMARY:SFERA pres. Marseaux LIVE
DESCRIPTION:Το Άλσος Παγκρατίου αφήνει για λίγο την ήρεμη καθημερινότητά του και μεταμορφώνεται στο πιο ζωντανό υπαίθριο dancefloor της πόλης. Ο Sfera 102.2 υποδέχεται τη Marseaux σε ένα εκρηκτικό live που φέρνει την αστική pop κουλτούρα στην καταπράσινη καρδιά της Αθήνας. Με φόντο τα πεύκα και τη γνώριμη ενέργεια της γειτονιάς\, η Marseaux ανεβαίνει στη σκηνή με τον χαρακτηριστικό της ήχο και τη φρέσκια αισθητική που την καθιέρωσαν ως μία από τις πιο ξεχωριστές παρουσίες της νέας γενιάς. Trap ρυθμοί\, catchy hooks και στίχοι που ήδη έχουν γίνει σύνθημα δημιουργούν ένα σκηνικό που ισορροπεί ανάμεσα σε live και αυθόρμητο πάρτι. Είτε την ακολουθείς από τα πρώτα της βήματα με τους WNC είτε τη γνώρισες μέσα από το “Hanomai” και τις πιο πρόσφατες εμφανίσεις της\, αυτή είναι η στιγμή να τη δεις ζωντανά σε ένα setting που της ταιριάζει απόλυτα. Ένα βράδυ που υπόσχεται ενέργεια\, ρυθμό και εκείνη τη μοναδική αίσθηση ότι η πόλη… χορεύει μαζί σου.
URL:https://cityfestival.thisisathens.org/event/sfera-pres-marseaux-live/
LOCATION:Άλσος Παγκρατίου\, Άλσος Παγκρατίου\, Αθήνα\, Αθήνα\, 116 35\, Greece
CATEGORIES:ΔΩΡΕΑΝ,ΣΥΝΑΥΛΙΑ,ΥΠΑΙΘΡΙΑ ΔΡΑΣΗ,ΨΥΧΑΓΩΓΙΑ
ATTACH;FMTTYPE=image/jpeg:https://cityfestival.thisisathens.org/wp-content/uploads/2026/03/imgi_2_619801680_18375543511086074_3917536430242255867_n.jpg
END:VEVENT
BEGIN:VEVENT
DTSTART;TZID=Europe/Athens:20260530T180000
DTEND;TZID=Europe/Athens:20260530T193000
DTSTAMP:20260423T014657
CREATED:20260422T110937Z
LAST-MODIFIED:20260422T111526Z
UID:10004973-1780164000-1780169400@cityfestival.thisisathens.org
SUMMARY:NCSU Jazz Band: Οι "Wolfpack" της Βόρειας Καρολίνας
DESCRIPTION:Το Φεστιβάλ υποδέχεται φέτος 25 εκρηκτικούς μουσικούς από το North Carolina State University για μια βραδιά που φέρνει τον παλμό των μεγάλων jazz clubs της Αμερικής κατευθείαν στην καρδιά της Αθήνας. Οι “Wolfpack” αφήνουν για λίγο το campus τους στο Raleigh και ανεβαίνουν στη σκηνή με τον αυθεντικό Big Band ήχο: δυναμικά πνευστά\, αστείρευτο swing και αυτοσχεδιασμοί που κρατούν το κοινό σε διαρκή εγρήγορση. Το ρεπερτόριό τους τιμά τους μεγάλους θρύλους της jazz\, ενώ ταυτόχρονα ανοίγεται σε σύγχρονες ερμηνείες\, αποδεικνύοντας ότι το είδος παραμένει πιο ζωντανό από ποτέ. Ετοιμαστείτε να μπείτε στον ρυθμό γιατί το swing\, όταν είναι αληθινό\, δεν αφήνει κανέναν ακίνητο. Από τον Duke Ellington και τον Count Basie\, μέχρι τον Duke Pearson\, την Toshiko Akiyoshi\, τον Mark Taylor και τον Alan Baylock\, σίγουρα θα βρείτε κάτι να σας αγγίξει. Πρόκειται για ένα live όπου ο νεανικός ενθουσιασμός συναντά την υψηλή μουσική κατάρτιση\, δημιουργώντας μια μεταδοτική ατμόσφαιρα γιορτής. 
URL:https://cityfestival.thisisathens.org/event/ncsu-jazz-band-wolfpack-voreia-carolina/
LOCATION:Εθνικός Κήπος\, Βασ. Αμαλίας 1\, Αθήνα\, Αθήνα\, 105 57\, Greece
CATEGORIES:ΔΩΡΕΑΝ,ΣΥΝΑΥΛΙΑ,ΥΠΑΙΘΡΙΑ ΔΡΑΣΗ,ΨΥΧΑΓΩΓΙΑ
ATTACH;FMTTYPE=image/jpeg:https://cityfestival.thisisathens.org/wp-content/uploads/2026/03/image1-1-scaled.jpeg
END:VEVENT
BEGIN:VEVENT
DTSTART;TZID=Europe/Athens:20260530T190000
DTEND;TZID=Europe/Athens:20260530T203000
DTSTAMP:20260423T014657
CREATED:20260403T131350Z
LAST-MODIFIED:20260403T131410Z
UID:10005190-1780167600-1780173000@cityfestival.thisisathens.org
SUMMARY:Krama Brass Band: Tradition Reimagined
DESCRIPTION:Οι Krama Brass Band έρχονται από την Κύπρο για να παρουσιάσουν μια εκρηκτική μουσική πρόταση που επανασυστήνει την παράδοση μέσα από έναν σύγχρονο ήχο. Το οκταμελές σχήμα συνδυάζει πνευστά\, κιθάρα και κρουστά\, δημιουργώντας ένα δυναμικό ηχητικό τοπίο όπου οι κυπριακές μελωδίες συναντούν τη jazz και τη δομή της κλασικής μουσικής. Για 70 λεπτά\, το κοινό ταξιδεύει μέσα από πρωτότυπες συνθέσεις και ευφάνταστες ενορχηστρώσεις\, σε μια συναυλία που ισορροπεί ανάμεσα στη ρίζα και τον πειραματισμό. Μια ζωντανή\, πολυπολιτισμική εμπειρία που μετατρέπει την παράδοση σε κάτι σύγχρονο\, δυναμικό και απολύτως βιωματικό.
URL:https://cityfestival.thisisathens.org/event/krama-brass-band-tradition-reimagined/
LOCATION:Εθνικό Ιστορικό Μουσείο\, Σταδίου 13\, Αθήνα\, Αθήνα\, 105 61\, Greece
CATEGORIES:ΔΩΡΕΑΝ,ΣΥΝΑΥΛΙΑ,ΥΠΑΙΘΡΙΑ ΔΡΑΣΗ,ΨΥΧΑΓΩΓΙΑ
ATTACH;FMTTYPE=image/jpeg:https://cityfestival.thisisathens.org/wp-content/uploads/2026/04/51-Krama-Brass-Band-S1-02-02-26.jpeg
END:VEVENT
BEGIN:VEVENT
DTSTART;TZID=Europe/Athens:20260530T190000
DTEND;TZID=Europe/Athens:20260530T230000
DTSTAMP:20260423T014657
CREATED:20260403T132808Z
LAST-MODIFIED:20260403T132808Z
UID:10004182-1780167600-1780182000@cityfestival.thisisathens.org
SUMMARY:26 Χρόνια Athens DeeJay 95.2
DESCRIPTION:Ο Athens DeeJay 95.2 και ο δημιουργός του\, Μιχάλης Τσαουσόπουλος\, γιορτάζουν ένα μοναδικό ορόσημο: 25 χρόνια συνεχούς πρωτοπορίας στα ερτζιανά. Είναι 25 χρόνια γεμάτα μουσική\, αμέτρητες επιτυχίες\, χιλιάδες χαρούμενους ακροατές και μερικά από τα πιο ξέφρενα πάρτι που έχει γνωρίσει η πόλη. Για το Φεστιβάλ του Δήμου Αθηναίων 2026\, ο σταθμός που καθόρισε τον σύγχρονο ραδιοφωνικό ήχο της χώρας\, βγαίνει στον δρόμο για μια επετειακή συνάντηση. Στο τιμόνι βρίσκεται η πιο αναγνωρίσιμη φωνή του ελληνικού ραδιοφώνου\, ο Μιχάλης Τσαουσόπουλος. Αεικίνητος\, ακούραστος και πάντα με φρέσκες ιδέες\, ο άνθρωπος που ξέρει να διαβάζει τον παλμό της νεολαίας όσο κανείς\, συμμετέχει για 4η συνεχή χρονιά στο Φεστιβάλ με μια από τις εντυπωσιακές του εμφανίσεις. Το ραντεβού δίνεται στον πεζόδρομο της οδού Ερμού και Ασωμάτων\, εκεί όπου η καρδιά της Αθήνας θα χτυπήσει στους ρυθμούς της πιο «φρέσκιας» μουσικής των decks. Ετοιμαστείτε για ένα εκρηκτικό DJ set που συνδυάζει την εμπειρία δεκαετιών με τις τελευταίες παγκόσμιες επιτυχίες\, μετατρέποντας το Θησείο σε μια τεράστια υπαίθρια γιορτή.
URL:https://cityfestival.thisisathens.org/event/26-chronia-athens-deejay-95-2/
LOCATION:Πλατεία Αγίων Ασωμάτων\, Πλατεία Αγίων Ασωμάτων\, Αθήνα\, Αθήνα\, 105 53\, Greece
CATEGORIES:DJ SET,ΔΩΡΕΑΝ,ΠΑΡΤΙ,ΥΠΑΙΘΡΙΑ ΔΡΑΣΗ,ΨΥΧΑΓΩΓΙΑ
ATTACH;FMTTYPE=image/jpeg:https://cityfestival.thisisathens.org/wp-content/uploads/2025/05/Μιχάλης-Τσαουσόπουλος-2.jpg
END:VEVENT
BEGIN:VEVENT
DTSTART;TZID=Europe/Athens:20260531T190000
DTEND;TZID=Europe/Athens:20260531T230000
DTSTAMP:20260423T014657
CREATED:20260402T141528Z
LAST-MODIFIED:20260402T142142Z
UID:10004165-1780254000-1780268400@cityfestival.thisisathens.org
SUMMARY:TiACF 2026 Closing Party
DESCRIPTION:Για το μεγάλο κλείσιμο του Φεστιβάλ του Δήμου Αθηναίων 2026\, το ραντεβού δίνεται στην εμβληματική οδό Αθηνάς\, σε μια βραδιά που υπόσχεται να μετατρέψει το κέντρο της πόλης σε ένα ανοιχτό\, λαμπερό dancefloor. Ένας από τους πιο ιστορικούς δρόμους της Αθήνας αλλάζει πρόσωπο και γεμίζει μουσική\, φώτα και κόσμο\, σε ένα φινάλε που θα μείνει αξέχαστο. Η ατμόσφαιρα της βραδιάς είναι αφιερωμένη στη διαχρονική μαγεία της ντίσκο\, του ήχου που δεν σταμάτησε ποτέ να μας καλεί να χορέψουμε και που συνεχίζει να επηρεάζει μέχρι σήμερα τη σύγχρονη ηλεκτρονική μουσική. Στα decks ανεβαίνουν κορυφαίοι Έλληνες DJs\, έτοιμοι να δώσουν τον ρυθμό σε έναν χορευτικό μαραθώνιο γεμάτο λάμψη\, ενέργεια και νοσταλγική διάθεση\, με το βλέμμα πάντα στραμμένο στο σήμερα. Με δυνατό ηχοσύστημα\, εντυπωσιακό light show και χιλιάδες φίλους του Φεστιβάλ να γίνονται μια μεγάλη παρέα\, η οδός Αθηνάς μετατρέπεται στο ιδανικό σκηνικό για το πιο χαρούμενο και εκρηκτικό «αντίο» της χρονιάς. Μια τελευταία μεγάλη γιορτή στο κέντρο της πόλης\, μέχρι το επόμενο ραντεβού.
URL:https://cityfestival.thisisathens.org/event/tiacf-2026-closing-party/
LOCATION:Αθηνάς\, Αθηνάς\, Αθήνα\, Αθήνα\, 105 52\, Greece
CATEGORIES:DJ SET,ΔΩΡΕΑΝ,ΠΑΡΤΙ,ΥΠΑΙΘΡΙΑ ΔΡΑΣΗ,ΨΥΧΑΓΩΓΙΑ
ATTACH;FMTTYPE=image/jpeg:https://cityfestival.thisisathens.org/wp-content/uploads/2026/03/VGK_7749-scaled.jpg
END:VEVENT
END:VCALENDAR