BEGIN:VCALENDAR
VERSION:2.0
PRODID:-//Το Φεστιβάλ του Δήμου Αθηναίων - ECPv6.12.0.1//NONSGML v1.0//EN
CALSCALE:GREGORIAN
METHOD:PUBLISH
X-ORIGINAL-URL:https://cityfestival.thisisathens.org
X-WR-CALDESC:Events for Το Φεστιβάλ του Δήμου Αθηναίων
REFRESH-INTERVAL;VALUE=DURATION:PT1H
X-Robots-Tag:noindex
X-PUBLISHED-TTL:PT1H
BEGIN:VTIMEZONE
TZID:Europe/Athens
BEGIN:DAYLIGHT
TZOFFSETFROM:+0200
TZOFFSETTO:+0300
TZNAME:EEST
DTSTART:20250330T010000
END:DAYLIGHT
BEGIN:STANDARD
TZOFFSETFROM:+0300
TZOFFSETTO:+0200
TZNAME:EET
DTSTART:20251026T010000
END:STANDARD
END:VTIMEZONE
BEGIN:VEVENT
DTSTART;TZID=Europe/Athens:20250504T200000
DTEND;TZID=Europe/Athens:20250504T210000
DTSTAMP:20260422T045341
CREATED:20250401T124056Z
LAST-MODIFIED:20250506T133310Z
UID:10003262-1746388800-1746392400@cityfestival.thisisathens.org
SUMMARY:Κλιματική Αλλαγή: Έχει Πολλές Θερμίδες
DESCRIPTION:Η θεατρική ομάδα\, ΝΟΗΤΗ ΓΡΑΜΜΗ\, παρουσιάζει ένα έργο για την κλιματική αλλαγή\, που έχει στόχο να προσφέρει μια βιωματική εμπειρία και να προκαλέσει το κοινό να σκεφτεί διαφορετικά για το περιβάλλον. Ένας συνδυασμός θεάτρου\, μουσικής\, χορού και εικαστικών σε χώρους όπου οι θεατές συμμετέχουν ενεργά\, αλληλεπιδρώντας με ηθοποιούς\, ζώα και φυσικά στοιχεία.\n\nΣε έναν υπέροχο χώρο\, ένα από τα πρώτα νεοκλασικά κτίρια της Αθήνας και πλέον Πινακοθήκη του Δήμου Αθηναίων\, μέσα από πρωτότυπες ιδέες\, ήχους και αυτοσχέδιες τελετουργίες\, εξερευνώντας και αποδομώντας στερεότυπα\, αναδεικνύεται η σύνδεση ανθρώπου-περιβάλλοντος. Απώτερος σκοπός του έργου είναι να γίνει η κλιματική κρίση προσωπική και συλλογική υπόθεση\, ανοίγοντας νέους δρόμους για διάλογο.\n\nΗ παράσταση πραγματοποιείται υπό την αιγίδα και με την οικονομική υποστήριξη του Υπουργείου Πολιτισμού\, καθώς και με την υποστήριξη του ΟΠΑΝΔΑ (Οργανισμός Πολιτισμού\, Αθλητισμού και Νεολαίας Δήμου Αθηναίων).\n\nΣύλληψη/Σκηνοθεσία/Δραματουργία: Όλγα Ποζέλη\n\nΚείμενα:\nΣάκης Σερέφας: Limericks\nDarrah Cloud: Πώς να αρνηθείτε την κλιματική αλλαγή σε 5 απλά βήματα\nΟμάδα ΝΟΗΤΗ ΓΡΑΜΜΗ\n\nΕπιμέλεια σκηνικού χώρου: Κωστής Δάβαρης\n\nΠρωτότυπη μουσική: Γιώργος Ανδριώτης\n\nΒοηθός σκηνοθέτη: Γεωργία Τσάκου\n\nPerformers (με αλφαβητική σειρά):\nΓόνη Λούκα\, Βίκυ Κυριακοπούλου\, Όλγα Ποζέλη\, Στέβη Φόρτωμα\n\nΠαραγωγή: Ομάδα Θεάτρου ΝΟΗΤΗ ΓΡΑΜΜΗ\n\nΑπαιτείται η κράτηση θέσης.
URL:https://cityfestival.thisisathens.org/event/klimatiki-allagi-exei-polles-thermides/
LOCATION:Πινακοθήκη Δήμου Αθηναίων\, Municipal Gallery of Athens\, Αθήνα\, Αθήνα\, 104 36\, Greece
CATEGORIES:ΔΩΡΕΑΝ,ΘΕΑΤΡΟ
ATTACH;FMTTYPE=image/jpeg:https://cityfestival.thisisathens.org/wp-content/uploads/2025/04/IMG_1686-scaled.jpg
END:VEVENT
BEGIN:VEVENT
DTSTART;TZID=Europe/Athens:20250508T100000
DTEND;TZID=Europe/Athens:20250508T140000
DTSTAMP:20260422T045341
CREATED:20250428T203749Z
LAST-MODIFIED:20250506T132709Z
UID:10003882-1746698400-1746712800@cityfestival.thisisathens.org
SUMMARY:1ο Διεθνές Νεανικό Φεστιβάλ Θεάτρου Αθήνας
DESCRIPTION:Στο Πάρκο της Ακαδημίας Πλάτωνος\, έναν χώρο με ιδιαίτερη σημασία\, θα διεξαχθεί για πρώτη φορά το Διεθνές Νεανικό Φεστιβάλ Θεάτρου Αθήνας «Πόλις-Πολίτης-Πολιτισμός» στις 8 και 9 Μαΐου.\n\nΜε πρωτοβουλία του Φεστιβάλ  του Δήμου Αθηναίων και την υποστήριξη του Ιδρύματος Μιχάλης Κακογιάννης\, η Αθήνα μετατρέπεται σε ένα ζωντανό μνημείο\, προσκαλώντας τους συμμετέχοντες να σκεφτούν τις σύγχρονες προκλήσεις για τη Δημοκρατία\, το Κράτος και τον Πολίτη.\n\nΠερισσότεροι από 250 μαθητές από την Αθήνα\, την Καλλιθέα\, τις Αχαρνές\, τη Γλυφάδα\, τη Νέα Προποντίδα και τις Συρακούσες\, με αφετηρία το Αρχαίο Δράμα ως εκπαιδευτικό εργαλείο\, θα παρουσιάσουν θεατρικές παραστάσεις. Μέσα από αυτή τη δημιουργική συνύπαρξη\, θα ανταλλάξουν σκέψεις και συναισθήματα\, συστήνοντας την Αθήνα ως παγκόσμιο σύμβολο Δημοκρατίας.\n\nΤο «Πόλις-Πολίτης-Πολιτισμός» είναι η γέννηση ενός θεσμού που θα προβάλλει τουριστικά την Αθήνα\, θα αναδείξει την αξία της αρχαίας δραματουργίας και θα τονίσει τη σημασία της διαφύλαξης θεμελιωδών εννοιών όπως ο Πολίτης και η Δημοκρατία.\n\nΠέμπτη 8 Μαΐου\n10:00 – 10:40  Φωνές χωρίς σύνορα / 7ο ΓΕΛ Αχαρνών\n11:00 – 11:40 Οι εμφανίσεις του Διονύσου /  Liceo Tommaso Gargallo\n12:00 – 12:40  Μεταβαλλόμενες Δημοκρατίες – Η ελληνική περίπτωση / 7ο Γυμνάσιο Καλλιθέας\n13:00 – 13:50  Υπογραφή όνομα ολογράφως / Big Bang School\, Νέα Προποντίδα  
URL:https://cityfestival.thisisathens.org/event/1o-diethnes-neaniko-festival-theatrou-athinas/
LOCATION:Ακαδημία Πλάτωνος\, Μοναστηρίου 138\, Αθήνα\, Αθήνα\, 104 42\, Greece
CATEGORIES:ΘΕΑΤΡΟ,ΥΠΑΙΘΡΙΑ ΔΡΑΣΗ
ATTACH;FMTTYPE=image/jpeg:https://cityfestival.thisisathens.org/wp-content/uploads/2025/04/cover-pic.jpg
END:VEVENT
BEGIN:VEVENT
DTSTART;TZID=Europe/Athens:20250509T100000
DTEND;TZID=Europe/Athens:20250509T140000
DTSTAMP:20260422T045341
CREATED:20250428T204749Z
LAST-MODIFIED:20250506T131757Z
UID:10003884-1746784800-1746799200@cityfestival.thisisathens.org
SUMMARY:1ο Διεθνές Νεανικό Φεστιβάλ Θεάτρου Αθήνας
DESCRIPTION:Στο Πάρκο της Ακαδημίας Πλάτωνος\, έναν χώρο με ιδιαίτερη σημασία\, θα διεξαχθεί για πρώτη φορά το Διεθνές Νεανικό Φεστιβάλ Θεάτρου Αθήνας «Πόλις-Πολίτης-Πολιτισμός»\, στις 8 και 9 Μαΐου.\n\nΜε πρωτοβουλία του Φεστιβάλ  του Δήμου Αθηναίων και την υποστήριξη του Ιδρύματος Μιχάλης Κακογιάννης\, η Αθήνα μετατρέπεται σε ένα ζωντανό μνημείο\, προσκαλώντας τους συμμετέχοντες να σκεφτούν τις σύγχρονες προκλήσεις για τη Δημοκρατία\, το Κράτος και τον Πολίτη.\n\nΠερισσότεροι από 250 μαθητές από την Αθήνα\, την Καλλιθέα\, τις Αχαρνές\, τη Γλυφάδα\, τη Νέα Προποντίδα και τις Συρακούσες\, με αφετηρία το Αρχαίο Δράμα ως εκπαιδευτικό εργαλείο\, θα παρουσιάσουν θεατρικές παραστάσεις. Μέσα από αυτή τη δημιουργική συνύπαρξη\, θα ανταλλάξουν σκέψεις και συναισθήματα\, συστήνοντας την Αθήνα ως παγκόσμιο σύμβολο Δημοκρατίας.\n\nΤο «Πόλις-Πολίτης-Πολιτισμός» είναι η γέννηση ενός θεσμού που θα προβάλλει τουριστικά την Αθήνα\, θα αναδείξει την αξία της αρχαίας δραματουργίας και θα τονίσει τη σημασία της διαφύλαξης θεμελιωδών εννοιών όπως ο Πολίτης και η Δημοκρατία.\n\nΠαρασκευή 9 Μαΐου\n10:00 – 10:40   Όρνιθες /  Μουσικό Σχολείο Αθήνας\n11:00 – 11:40  Με ικεσίας κλαδιά / Βαρβάκειο Πρότυπο Γυμνάσιο\n12.00-12.40 Νέκυια 2015 μ.Χ. Εις μνήμην / 3ο ΕΠΑΛ Αχαρνών\n13.00-13.40 Θεσμοφοριάζουσες / 5ο Λύκειο Γλυφάδας
URL:https://cityfestival.thisisathens.org/event/1o-diethnes-neaniko-festibal-theatrou-athinas/
LOCATION:Ακαδημία Πλάτωνος\, Μοναστηρίου 138\, Αθήνα\, Αθήνα\, 104 42\, Greece
CATEGORIES:ΘΕΑΤΡΟ,ΥΠΑΙΘΡΙΑ ΔΡΑΣΗ
ATTACH;FMTTYPE=image/jpeg:https://cityfestival.thisisathens.org/wp-content/uploads/2025/04/cover-pic.jpg
END:VEVENT
BEGIN:VEVENT
DTSTART;TZID=Europe/Athens:20250510T110000
DTEND;TZID=Europe/Athens:20250510T120000
DTSTAMP:20260422T045341
CREATED:20250418T151015Z
LAST-MODIFIED:20250423T120527Z
UID:10003539-1746874800-1746878400@cityfestival.thisisathens.org
SUMMARY:Ο Καραγκιόζης Οικολόγος
DESCRIPTION:Μια νέα κωμωδία με ξεκαρδιστικές ατάκες από τον Καραγκιόζη του Μακρή για όλη την οικογένεια!\nΣτην παράσταση «Ο Καραγκιόζης οικολόγος»\, ο αγαπημένος μας ήρωας αντιμετωπίζει έναν νέο κίνδυνο\, ο οποίος κρύβεται στα φύλλα του δέντρου έξω από την παράγκα του. Όποιος περνάει κάτω από αυτό το δέντρο βρίσκει μεγάλα δεινά και συμφορές.\nΗ διαταγή του πασά είναι να κοπεί το δέντρο αυτό. Όμως\, ο λαϊκός μας ήρωας έχει αντίθετη γνώμη καθώς πιστεύει πως τα δέντρα δεν πρέπει να κόβονται αφού χαρίζουν τα πολύτιμα δώρα τους στην ανθρωπότητα.\nΤί λύση θα βρει τελικά ο ξυπόλυτος ήρωάς μας ώστε και να σώσει το δέντρο που δίνει οξυγόνο\, σκιά και ομορφιά στην πόλη αλλά και να διώξει το κακό που κρύβεται ανάμεσα στις φυλλωσιές του;\n\nΑπαιτείται η κράτηση θέσης.
URL:https://cityfestival.thisisathens.org/event/karagkiozis-oikologos/
LOCATION:Μουσείο Ελληνικών Λαϊκών Μουσικών Οργάνων “Φοίβος Ανωγειανάκης” – Κέντρο Εθνομουσικολογίας\, Διογένους 1\, Αθήνα\, Αθήνα\, 105 56\, Greece
CATEGORIES:ΔΩΡΕΑΝ,ΘΕΑΤΡΟ,ΜΟΥΣΕΙΟ,ΠΑΙΔΙ,ΨΥΧΑΓΩΓΙΑ
ATTACH;FMTTYPE=image/jpeg:https://cityfestival.thisisathens.org/wp-content/uploads/2025/04/a-1-1.jpg
END:VEVENT
BEGIN:VEVENT
DTSTART;TZID=Europe/Athens:20250510T120000
DTEND;TZID=Europe/Athens:20250510T150000
DTSTAMP:20260422T045341
CREATED:20250418T145531Z
LAST-MODIFIED:20250425T124021Z
UID:10003535-1746878400-1746889200@cityfestival.thisisathens.org
SUMMARY:Οι Βαλίτσες των Σκιών Αφηγούνται
DESCRIPTION:Μια μοναδική εμπειρία για τους μικρούς και τους μεγάλους φίλους του αγαπημένου λαϊκού ήρωα. Αυθεντικά τεκμήρια μιας μεγάλης παράδοσης\, μέσα από τη ζωή και το έργο μεγάλων καραγκιοζοπαιχτών σε μία ιστορική αναδρομή από το 1890 έως και το 2000.\n\nΔέκα εικαστικές εγκαταστάσεις\, δέκα βαλίτσες γεμάτες φυσικά εκθέματα όπως φιγούρες\, σκηνικά\, εργαλεία\, χειρόγραφα καθώς και σπάνιες ηχογραφήσεις\, μια μεγάλη ιστορία και η χαρά της ανακάλυψής της.
URL:https://cityfestival.thisisathens.org/event/valitses-skion-afigountai/
LOCATION:Μουσείο Ελληνικών Λαϊκών Μουσικών Οργάνων “Φοίβος Ανωγειανάκης” – Κέντρο Εθνομουσικολογίας\, Διογένους 1\, Αθήνα\, Αθήνα\, 105 56\, Greece
CATEGORIES:ΔΩΡΕΑΝ,ΕΚΘΕΣΗ,ΘΕΑΤΡΟ,ΜΟΥΣΕΙΟ,ΠΑΙΔΙ,ΨΥΧΑΓΩΓΙΑ
ATTACH;FMTTYPE=image/png:https://cityfestival.thisisathens.org/wp-content/uploads/2025/04/LOGO-OI-VALITSES-TWN-SKIWN-AFIGOUNTAI-sm-1-1-1-1-1-1-1-1-1-1-1-1-1-1.png
END:VEVENT
BEGIN:VEVENT
DTSTART;TZID=Europe/Athens:20250511T110000
DTEND;TZID=Europe/Athens:20250511T120000
DTSTAMP:20260422T045341
CREATED:20250418T151200Z
LAST-MODIFIED:20250424T070605Z
UID:10003540-1746961200-1746964800@cityfestival.thisisathens.org
SUMMARY:Ο Καραγκιόζης Οικολόγος
DESCRIPTION:Μια νέα κωμωδία με ξεκαρδιστικές ατάκες από τον Καραγκιόζη του Μακρή για όλη την οικογένεια!\nΣτην παράσταση «Ο Καραγκιόζης οικολόγος»\, ο αγαπημένος μας ήρωας αντιμετωπίζει έναν νέο κίνδυνο\, ο οποίος κρύβεται στα φύλλα του δέντρου έξω από την παράγκα του. Όποιος περνάει κάτω από αυτό το δέντρο βρίσκει μεγάλα δεινά και συμφορές.\nΗ διαταγή του πασά είναι να κοπεί το δέντρο αυτό. Όμως\, ο λαϊκός μας ήρωας έχει αντίθετη γνώμη καθώς πιστεύει πως τα δέντρα δεν πρέπει να κόβονται αφού χαρίζουν τα πολύτιμα δώρα τους στην ανθρωπότητα.\nΤί λύση θα βρει τελικά ο ξυπόλυτος ήρωάς μας ώστε και να σώσει το δέντρο που δίνει οξυγόνο\, σκιά και ομορφιά στην πόλη αλλά και να διώξει το κακό που κρύβεται ανάμεσα στις φυλλωσιές του;\n\nΑπαιτείται η κράτηση θέσης.
URL:https://cityfestival.thisisathens.org/event/%ce%bf-%ce%ba%ce%b1%cf%81%ce%b1%ce%b3%ce%ba%ce%b9%cf%8c%ce%b6%ce%b7%cf%82-%ce%bf%ce%b9%ce%ba%ce%bf%ce%bb%cf%8c%ce%b3%ce%bf%cf%82/
LOCATION:Μουσείο Ελληνικών Λαϊκών Μουσικών Οργάνων “Φοίβος Ανωγειανάκης” – Κέντρο Εθνομουσικολογίας\, Διογένους 1\, Αθήνα\, Αθήνα\, 105 56\, Greece
CATEGORIES:ΔΩΡΕΑΝ,ΘΕΑΤΡΟ,ΜΟΥΣΕΙΟ,ΠΑΙΔΙ,ΨΥΧΑΓΩΓΙΑ
ATTACH;FMTTYPE=image/jpeg:https://cityfestival.thisisathens.org/wp-content/uploads/2025/04/a-1-1.jpg
END:VEVENT
BEGIN:VEVENT
DTSTART;TZID=Europe/Athens:20250511T120000
DTEND;TZID=Europe/Athens:20250511T150000
DTSTAMP:20260422T045341
CREATED:20250418T145630Z
LAST-MODIFIED:20250425T123919Z
UID:10003536-1746964800-1746975600@cityfestival.thisisathens.org
SUMMARY:Οι Βαλίτσες των Σκιών Αφηγούνται
DESCRIPTION:Μια μοναδική εμπειρία για τους μικρούς και τους μεγάλους φίλους του αγαπημένου λαϊκού ήρωα. Αυθεντικά τεκμήρια μιας μεγάλης παράδοσης\, μέσα από τη ζωή και το έργο μεγάλων καραγκιοζοπαιχτών σε μία ιστορική αναδρομή από το 1890 έως και το 2000.\n\nΔέκα εικαστικές εγκαταστάσεις\, δέκα βαλίτσες γεμάτες φυσικά εκθέματα όπως φιγούρες\, σκηνικά\, εργαλεία\, χειρόγραφα καθώς και σπάνιες ηχογραφήσεις\, μια μεγάλη ιστορία και η χαρά της ανακάλυψής της.
URL:https://cityfestival.thisisathens.org/event/%ce%bf%ce%b9-%ce%b2%ce%b1%ce%bb%ce%af%cf%84%cf%83%ce%b5%cf%82-%cf%84%cf%89%ce%bd-%cf%83%ce%ba%ce%b9%cf%8e%ce%bd-%ce%b1%cf%86%ce%b7%ce%b3%ce%bf%cf%8d%ce%bd%cf%84%ce%b1%ce%b9/
LOCATION:Μουσείο Ελληνικών Λαϊκών Μουσικών Οργάνων “Φοίβος Ανωγειανάκης” – Κέντρο Εθνομουσικολογίας\, Διογένους 1\, Αθήνα\, Αθήνα\, 105 56\, Greece
CATEGORIES:ΔΩΡΕΑΝ,ΕΚΘΕΣΗ,ΘΕΑΤΡΟ,ΜΟΥΣΕΙΟ,ΠΑΙΔΙ,ΨΥΧΑΓΩΓΙΑ
ATTACH;FMTTYPE=image/png:https://cityfestival.thisisathens.org/wp-content/uploads/2025/04/LOGO-OI-VALITSES-TWN-SKIWN-AFIGOUNTAI-sm-1-1-1-1-1-1-1-1-1-1-1-1-1-1.png
END:VEVENT
BEGIN:VEVENT
DTSTART;TZID=Europe/Athens:20250511T180000
DTEND;TZID=Europe/Athens:20250511T193000
DTSTAMP:20260422T045341
CREATED:20250423T125037Z
LAST-MODIFIED:20250506T130525Z
UID:10003648-1746986400-1746991800@cityfestival.thisisathens.org
SUMMARY:Περίπατος Μαθητείας: 20 και 1 Στάσεις
DESCRIPTION:Επίσημα χαρακτηρισμένος ως «ιστορικός τόπος»\, ο Εθνικός (άλλοτε Βασιλικός) Κήπος είναι ένα σημείο νηνεμίας\, περιτριγυρισμένο από την ένταση της πόλης\, που φέρει μέσα του τη μνήμη και την ιστορία της. Ανάμεσα στα 500 είδη φυτών\, που ήρθαν απ’ όλο τον κόσμο με τη φροντίδα της βασίλισσας Αμαλίας και των βοτανολόγων της\, περιμένουν να συναντήσουν τους επισκέπτες μορφές μαρμάρινες: ο Διονύσιος Σολωμός\, ο Αριστοτέλης Βαλαωρίτης\, ο Ζαν Μωρεάς\, ο Καποδίστριας\, αλλά και ο Ιωάννης Εϋνάρδος\, άξια τέκνα μιας Ελλάδας που δεν της έλειψε η φωτισμένη ηγεσία.\n\nΟ Θοδωρής Γκόνης\, με βασικούς ερμηνευτές την Ελένη Ουζουνίδου και τον Θανάση Δήμου\, προτείνει μια ποιητική περιήγηση με υλικό\, κείμενα και ντοκουμέντα αυτών των μόνιμων κατοίκων του Κήπου\, των ποιητών\, των πολιτικών\, των γεωπόνων και των μηχανικών που τον διαμόρφωσαν και της εικοσάχρονης βασίλισσας που τον ονειρεύτηκε και μας τον χάρισε.\n\nΣύλληψη-Σκηνοθεσία: Θοδωρής Γκόνης\nΔραματουργία: Θοδωρής Γκόνης\, Ελένη Στρούλια\nΚοστούμια: Ματίνα Μέγκλα\nΗθοποιοί: Ελένη Ουζουνίδου\, Θανάσης Δήμου\, Ρωξάνη Καρφή\, Χριστίνα Χαλκιά\nΜουσικοί: Πάρις Κιμιωνής- Δανάη Τσιρώνη\n\nΠροτείνεται οι θεατές να φορούν άνετα ρούχα και υποδήματα.\n\nΣημείο Συνάντησης: Ηλιακό ρολόι (είσοδος από Λεωφ. Αμαλίας)
URL:https://cityfestival.thisisathens.org/event/peripatos-mathiteias-20-1-staseis/
LOCATION:Εθνικός Κήπος\, Βασ. Αμαλίας 1\, Αθήνα\, Αθήνα\, 105 57\, Greece
CATEGORIES:ΔΩΡΕΑΝ,ΘΕΑΤΡΟ,ΠΕΡΙΗΓΗΣΗ,ΥΠΑΙΘΡΙΑ ΔΡΑΣΗ,ΨΥΧΑΓΩΓΙΑ
ATTACH;FMTTYPE=image/jpeg:https://cityfestival.thisisathens.org/wp-content/uploads/2025/03/IMG_6798-scaled.jpg
END:VEVENT
BEGIN:VEVENT
DTSTART;TZID=Europe/Athens:20250512T180000
DTEND;TZID=Europe/Athens:20250512T193000
DTSTAMP:20260422T045341
CREATED:20250423T125243Z
LAST-MODIFIED:20250506T130157Z
UID:10003649-1747072800-1747078200@cityfestival.thisisathens.org
SUMMARY:Περίπατος Μαθητείας: 20 και 1 Στάσεις
DESCRIPTION:Επίσημα χαρακτηρισμένος ως «ιστορικός τόπος»\, ο Εθνικός (άλλοτε Βασιλικός) Κήπος είναι ένα σημείο νηνεμίας\, περιτριγυρισμένο από την ένταση της πόλης\, που φέρει μέσα του τη μνήμη και την ιστορία της. Ανάμεσα στα 500 είδη φυτών\, που ήρθαν απ’ όλο τον κόσμο με τη φροντίδα της βασίλισσας Αμαλίας και των βοτανολόγων της\, περιμένουν να συναντήσουν τους επισκέπτες μορφές μαρμάρινες: ο Διονύσιος Σολωμός\, ο Αριστοτέλης Βαλαωρίτης\, ο Ζαν Μωρεάς\, ο Καποδίστριας\, αλλά και ο Ιωάννης Εϋνάρδος\, άξια τέκνα μιας Ελλάδας που δεν της έλειψε η φωτισμένη ηγεσία.\n\nΟ Θοδωρής Γκόνης\, με βασικούς ερμηνευτές την Ελένη Ουζουνίδου και τον Θανάση Δήμου\, προτείνει μια ποιητική περιήγηση με υλικό\, κείμενα και ντοκουμέντα αυτών των μόνιμων κατοίκων του Κήπου\, των ποιητών\, των πολιτικών\, των γεωπόνων και των μηχανικών που τον διαμόρφωσαν και της εικοσάχρονης βασίλισσας που τον ονειρεύτηκε και μας τον χάρισε.\n\nΣύλληψη-Σκηνοθεσία: Θοδωρής Γκόνης\nΔραματουργία: Θοδωρής Γκόνης\, Ελένη Στρούλια\nΚοστούμια: Ματίνα Μέγκλα\nΗθοποιοί: Ελένη Ουζουνίδου\, Θανάσης Δήμου\, Ρωξάνη Καρφή\, Χριστίνα Χαλκιά\nΜουσικοί: Πάρις Κιμιωνής- Δανάη Τσιρώνη\n\nΠροτείνεται οι θεατές να φορούν άνετα ρούχα και υποδήματα\n\nΣημείο Συνάντησης: Ηλιακό ρολόι (είσοδος από Λεωφ. Αμαλίας)
URL:https://cityfestival.thisisathens.org/event/peripatos-mathiteias-20-1-staseis-2/
LOCATION:Εθνικός Κήπος\, Βασ. Αμαλίας 1\, Αθήνα\, Αθήνα\, 105 57\, Greece
CATEGORIES:ΔΩΡΕΑΝ,ΘΕΑΤΡΟ,ΠΕΡΙΗΓΗΣΗ,ΥΠΑΙΘΡΙΑ ΔΡΑΣΗ,ΨΥΧΑΓΩΓΙΑ
ATTACH;FMTTYPE=image/jpeg:https://cityfestival.thisisathens.org/wp-content/uploads/2025/03/IMG_6798-scaled.jpg
END:VEVENT
BEGIN:VEVENT
DTSTART;TZID=Europe/Athens:20250518T180000
DTEND;TZID=Europe/Athens:20250518T193000
DTSTAMP:20260422T045341
CREATED:20250423T125326Z
LAST-MODIFIED:20250506T123749Z
UID:10003650-1747591200-1747596600@cityfestival.thisisathens.org
SUMMARY:Περίπατος Μαθητείας: 20 και 1 Στάσεις
DESCRIPTION:Επίσημα χαρακτηρισμένος ως «ιστορικός τόπος»\, ο Εθνικός (άλλοτε Βασιλικός) Κήπος είναι ένα σημείο νηνεμίας\, περιτριγυρισμένο από την ένταση της πόλης\, που φέρει μέσα του τη μνήμη και την ιστορία της. Ανάμεσα στα 500 είδη φυτών\, που ήρθαν απ’ όλο τον κόσμο με τη φροντίδα της βασίλισσας Αμαλίας και των βοτανολόγων της\, περιμένουν να συναντήσουν τους επισκέπτες μορφές μαρμάρινες: ο Διονύσιος Σολωμός\, ο Αριστοτέλης Βαλαωρίτης\, ο Ζαν Μωρεάς\, ο Καποδίστριας\, αλλά και ο Ιωάννης Εϋνάρδος\, άξια τέκνα μιας Ελλάδας που δεν της έλειψε η φωτισμένη ηγεσία.\n\nΟ Θοδωρής Γκόνης\, με βασικούς ερμηνευτές την Ελένη Ουζουνίδου και τον Θανάση Δήμου\, προτείνει μια ποιητική περιήγηση με υλικό\, κείμενα και ντοκουμέντα αυτών των μόνιμων κατοίκων του Κήπου\, των ποιητών\, των πολιτικών\, των γεωπόνων και των μηχανικών που τον διαμόρφωσαν και της εικοσάχρονης βασίλισσας που τον ονειρεύτηκε και μας τον χάρισε.\n\nΣύλληψη-Σκηνοθεσία: Θοδωρής Γκόνης\nΔραματουργία: Θοδωρής Γκόνης\, Ελένη Στρούλια\nΚοστούμια: Ματίνα Μέγκλα\nΗθοποιοί: Ελένη Ουζουνίδου\, Θανάσης Δήμου\, Ρωξάνη Καρφή\, Χριστίνα Χαλκιά\nΜουσικοί: Πάρις Κιμιωνής- Δανάη Τσιρώνη\n\nΠροτείνεται οι θεατές να φορούν άνετα ρούχα και υποδήματα\n\nΣημείο Συνάντησης: Ηλιακό ρολόι (είσοδος από Λεωφ. Αμαλίας)
URL:https://cityfestival.thisisathens.org/event/%cf%80%ce%b5%cf%81%ce%af%cf%80%ce%b1%cf%84%ce%bf%cf%82-%ce%bc%ce%b1%ce%b8%ce%b7%cf%84%ce%b5%ce%af%ce%b1%cf%82-201-%cf%83%cf%84%ce%ac%cf%83%ce%b5%ce%b9%cf%82/
LOCATION:Εθνικός Κήπος\, Βασ. Αμαλίας 1\, Αθήνα\, Αθήνα\, 105 57\, Greece
CATEGORIES:ΔΩΡΕΑΝ,ΘΕΑΤΡΟ,ΠΕΡΙΗΓΗΣΗ,ΥΠΑΙΘΡΙΑ ΔΡΑΣΗ,ΨΥΧΑΓΩΓΙΑ
ATTACH;FMTTYPE=image/jpeg:https://cityfestival.thisisathens.org/wp-content/uploads/2025/03/IMG_6798-scaled.jpg
END:VEVENT
BEGIN:VEVENT
DTSTART;TZID=Europe/Athens:20250519T180000
DTEND;TZID=Europe/Athens:20250519T193000
DTSTAMP:20260422T045341
CREATED:20250423T125507Z
LAST-MODIFIED:20250506T123549Z
UID:10003651-1747677600-1747683000@cityfestival.thisisathens.org
SUMMARY:Περίπατος Μαθητείας: 20 και 1 Στάσεις
DESCRIPTION:Επίσημα χαρακτηρισμένος ως «ιστορικός τόπος»\, ο Εθνικός (άλλοτε Βασιλικός) Κήπος είναι ένα σημείο νηνεμίας\, περιτριγυρισμένο από την ένταση της πόλης\, που φέρει μέσα του τη μνήμη και την ιστορία της. Ανάμεσα στα 500 είδη φυτών\, που ήρθαν απ’ όλο τον κόσμο με τη φροντίδα της βασίλισσας Αμαλίας και των βοτανολόγων της\, περιμένουν να συναντήσουν τους επισκέπτες μορφές μαρμάρινες: ο Διονύσιος Σολωμός\, ο Αριστοτέλης Βαλαωρίτης\, ο Ζαν Μωρεάς\, ο Καποδίστριας\, αλλά και ο Ιωάννης Εϋνάρδος\, άξια τέκνα μιας Ελλάδας που δεν της έλειψε η φωτισμένη ηγεσία.\n\nΟ Θοδωρής Γκόνης\, με βασικούς ερμηνευτές την Ελένη Ουζουνίδου και τον Θανάση Δήμου\, προτείνει μια ποιητική περιήγηση με υλικό\, κείμενα και ντοκουμέντα αυτών των μόνιμων κατοίκων του Κήπου\, των ποιητών\, των πολιτικών\, των γεωπόνων και των μηχανικών που τον διαμόρφωσαν και της εικοσάχρονης βασίλισσας που τον ονειρεύτηκε και μας τον χάρισε.\n\nΣύλληψη-Σκηνοθεσία: Θοδωρής Γκόνης\nΔραματουργία: Θοδωρής Γκόνης\, Ελένη Στρούλια\nΚοστούμια: Ματίνα Μέγκλα\nΗθοποιοί: Ελένη Ουζουνίδου\, Θανάσης Δήμου\, Ρωξάνη Καρφή\, Χριστίνα Χαλκιά\nΜουσικοί: Πάρις Κιμιωνής- Δανάη Τσιρώνη\n\nΠροτείνεται οι θεατές να φορούν άνετα ρούχα και υποδήματα\n\nΣημείο Συνάντησης: Ηλιακό ρολόι (είσοδος από Λεωφ. Αμαλίας)
URL:https://cityfestival.thisisathens.org/event/peripatos-mathiteias-20-1-staseis-4/
LOCATION:Εθνικός Κήπος\, Βασ. Αμαλίας 1\, Αθήνα\, Αθήνα\, 105 57\, Greece
CATEGORIES:ΔΩΡΕΑΝ,ΘΕΑΤΡΟ,ΠΕΡΙΗΓΗΣΗ,ΥΠΑΙΘΡΙΑ ΔΡΑΣΗ,ΨΥΧΑΓΩΓΙΑ
ATTACH;FMTTYPE=image/jpeg:https://cityfestival.thisisathens.org/wp-content/uploads/2025/03/IMG_6798-scaled.jpg
END:VEVENT
BEGIN:VEVENT
DTSTART;TZID=Europe/Athens:20250520T200000
DTEND;TZID=Europe/Athens:20250520T230000
DTSTAMP:20260422T045341
CREATED:20250327T133755Z
LAST-MODIFIED:20250506T125141Z
UID:10002445-1747771200-1747782000@cityfestival.thisisathens.org
SUMMARY:3ο Προσβάσιμο Stand-Up Comedy Festival
DESCRIPTION:Οι Cool Crips επιστρέφουν με το Accessible Comedy Nights Vol. 3\, δυο βραδιές stand-up comedy\, που διαμορφώνονται με γνώμονα την ισότιμη πρόσβαση όλων. Η εκδήλωση θα πραγματοποιηθεί στις 20 και 21 Μαΐου στο Μηχανουργείο της Τεχνόπολης του Δήμου Αθηναίων.\n\nΤα Accessible Comedy Nights ξεκίνησαν για να αποδείξουν ότι η κωμωδία μπορεί να είναι πραγματικά για όλες\, όλους και όλα. Δεν πρόκειται για μια «ειδική» παράσταση\, αλλά για stand-up όπως το ξέρουμε\, χωρίς να αποκλείεται κανένα άτομο λόγω έλλειψης προσβασιμότητας.\n\nΗ εκδήλωση θα πραγματοποιηθεί σε χώρο προσβάσιμο σε άτομα με κινητικές αναπηρίες και θα περιλαμβάνει ζωντανή διερμηνεία στην Ελληνική Νοηματική Γλώσσα\, καθώς και ζωντανό υπερτιτλισμό στα ελληνικά. Οι κωμικές εμφανίσεις θα είναι επίσης σχεδιασμένες ώστε να είναι φιλικές προς τυφλά άτομα.\n\nΣτη σκηνή θα ανέβουν η Κατερίνα Βρανά\, ο Αριστοτέλης Ρήγας\, η Μελίνα Κόλλια\, ο Αριστείδης Ψυλλιάκος\, ο Κώστας Κρύος και ο Αλέξανδρος Τιτκώβ\, ενώ δύο νέοι ανάπηροι κωμικοί θα έχουν την δυνατότητα να παρουσιάσουν το act τους.\n\nΤο Accessible Comedy Nights Vol. 3 είναι μια ακόμα υπενθύμιση ότι η τέχνη και η ψυχαγωγία δεν μπορούν να είναι πραγματικά ανοιχτές αν δεν είναι σχεδιασμένες με γνώμονα την προσβασιμότητα.\n\nΓιατί το γέλιο ανήκει σε όλες\, όλους και όλα!
URL:https://cityfestival.thisisathens.org/event/3o-prosvasimo-stand-up-comedy-festival/
LOCATION:Τεχνόπολη Δήμου Αθηναίων\, Πειραιώς 100\, Αθήνα\, Αθήνα\, 118 54\, Greece
CATEGORIES:ΘΕΑΤΡΟ,ΨΥΧΑΓΩΓΙΑ
ATTACH;FMTTYPE=image/webp:https://cityfestival.thisisathens.org/wp-content/uploads/2025/03/20230519-OSF-AthensCityFestival-Hip-Hop-Festival-0055-X3.jpg.webp
END:VEVENT
BEGIN:VEVENT
DTSTART;TZID=Europe/Athens:20250521T190000
DTEND;TZID=Europe/Athens:20250521T203000
DTSTAMP:20260422T045341
CREATED:20250403T104958Z
LAST-MODIFIED:20250506T121848Z
UID:10002459-1747854000-1747859400@cityfestival.thisisathens.org
SUMMARY:Παραμύθια στο Πάρκο - Τζωρτζίνα Κώνστα - Γιάννης Ψαριώτης
DESCRIPTION:Της άνοιξης καμώματα…με παραμυθιών μπαλώματα!\n\nΚόκκινη κλωστή δεμένη μες το δάσος περιμένει\, μία μπλε να συναντήσει\, παραμύθι ν’ αρχινίσει.\nΤα μαγιάτικα λουλούδια στήνουν όμορφα τραγούδια και όλα μοιάζουν μουσική\, σαν μια υπέροχη ζωή. Παραμύθια κ’ άνοιξη μαζί\, είν’ αλήθεια μια γιορτή.\n\nΆνοιξη και παραμύθια λένε πάντα την αλήθεια Όλα γύρω μας ανθίζουν κ’ οι μυρτιές μοσχομυρίζουν.\nΚάθε λέξη είν’ ωραία με μιαν όμορφη παρέα. Έλα δίπλα να καθίσεις κ’ ιστορίες ν’ αγαπήσεις!\nΚοπιάστε να πούμε παραμύθια κάτω από το μπλε του αττικού ουρανού και μέσα στο φως και τις μυρωδιές της άνοιξης ν’ ακουστούν παντού!\n\nΑφήγηση: Τζωρτζίνα Κώνστα\nΜουσική: Γιάννης Ψαριώτης
URL:https://cityfestival.thisisathens.org/event/paramythia-sto-parko-tzorntina-konsta-yiannis-psariotis/
LOCATION:Άλσος Παγκρατίου\, Άλσος Παγκρατίου\, Αθήνα\, Αθήνα\, 116 35\, Greece
CATEGORIES:ΔΩΡΕΑΝ,ΘΕΑΤΡΟ,ΠΑΙΔΙ,ΨΥΧΑΓΩΓΙΑ
ATTACH;FMTTYPE=image/jpeg:https://cityfestival.thisisathens.org/wp-content/uploads/2025/04/20240512-TiACF-TGR-PolyfonikaXefotaFilopappou-0098-scaled.jpg
END:VEVENT
BEGIN:VEVENT
DTSTART;TZID=Europe/Athens:20250521T200000
DTEND;TZID=Europe/Athens:20250521T230000
DTSTAMP:20260422T045341
CREATED:20250418T160709Z
LAST-MODIFIED:20250506T125119Z
UID:10003545-1747857600-1747868400@cityfestival.thisisathens.org
SUMMARY:3ο Προσβάσιμο Stand-Up Comedy Festival
DESCRIPTION:Οι Cool Crips επιστρέφουν με το Accessible Comedy Nights Vol. 3\, δυο βραδιές stand-up comedy\, που διαμορφώνονται με γνώμονα την ισότιμη πρόσβαση όλων. Η εκδήλωση θα πραγματοποιηθεί στις 20 και 21 Μαΐου στο Μηχανουργείο της Τεχνόπολης του Δήμου Αθηναίων.\n\nΤα Accessible Comedy Nights ξεκίνησαν για να αποδείξουν ότι η κωμωδία μπορεί να είναι πραγματικά για όλες\, όλους και όλα. Δεν πρόκειται για μια «ειδική» παράσταση\, αλλά για stand-up όπως το ξέρουμε\, χωρίς να αποκλείεται κανένα άτομο λόγω έλλειψης προσβασιμότητας.\n\nΗ εκδήλωση θα πραγματοποιηθεί σε χώρο προσβάσιμο σε άτομα με κινητικές αναπηρίες και θα περιλαμβάνει ζωντανή διερμηνεία στην Ελληνική Νοηματική Γλώσσα\, καθώς και ζωντανό υπερτιτλισμό στα ελληνικά. Οι κωμικές εμφανίσεις θα είναι επίσης σχεδιασμένες ώστε να είναι φιλικές προς τυφλά άτομα.\n\nΣτη σκηνή θα ανέβουν η Κατερίνα Βρανά\, ο Αριστοτέλης Ρήγας\, η Μελίνα Κόλλια\, ο Αριστείδης Ψυλλιάκος\, ο Κώστας Κρύος και ο Αλέξανδρος Τιτκώβ\, ενώ δύο νέοι ανάπηροι κωμικοί θα έχουν την δυνατότητα να παρουσιάσουν το act τους.\n\nΤο Accessible Comedy Nights Vol. 3 είναι μια ακόμα υπενθύμιση ότι η τέχνη και η ψυχαγωγία δεν μπορούν να είναι πραγματικά ανοιχτές αν δεν είναι σχεδιασμένες με γνώμονα την προσβασιμότητα.\n\nΓιατί το γέλιο ανήκει σε όλες\, όλους και όλα!
URL:https://cityfestival.thisisathens.org/event/3-prosvasimo-stand-up-comedy-festival/
LOCATION:Τεχνόπολη Δήμου Αθηναίων\, Πειραιώς 100\, Αθήνα\, Αθήνα\, 118 54\, Greece
CATEGORIES:ΘΕΑΤΡΟ,ΨΥΧΑΓΩΓΙΑ
ATTACH;FMTTYPE=image/webp:https://cityfestival.thisisathens.org/wp-content/uploads/2025/03/20230519-OSF-AthensCityFestival-Hip-Hop-Festival-0055-X3.jpg.webp
END:VEVENT
BEGIN:VEVENT
DTSTART;TZID=Europe/Athens:20250522T190000
DTEND;TZID=Europe/Athens:20250522T203000
DTSTAMP:20260422T045341
CREATED:20250327T141352Z
LAST-MODIFIED:20250506T121224Z
UID:10002463-1747940400-1747945800@cityfestival.thisisathens.org
SUMMARY:Παραμύθια στην Πλατεία: Σουσουράδες
DESCRIPTION:Παραμύθια σε πρίμο – σιγόντο. Μια αφηγηματική παράσταση παραμυθιακών διφωνιών.\n\nΔιφωνίες που βγάζουν φτερούγες και πετούν\, που φτιάχνουν παραμύθια από κλωστές ονείρου\, που νανουρίζουν για να ‘ρθει ύπνος ζαχαρένιος πάνω σε μαξιλάρι ολόπλουμο.\n\nΜια κόκκινη κλωστή δένει τόπους αλλιώτικους μεταξύ τους και πλέκει δυο φωνές\, για να πουν πότε μαζί και πότε η μια μετά την άλλη ιστορίες που είπαν\, ονειρεύτηκαν και τραγούδησαν οι λαοί του κόσμου. Ιστορίες που λέγονται κουβεντιαστά\, ψιθυριστά\, τραγουδιστά\, ακόμα και με νοήματα των χεριών\, έρχονται να θυμίσουν ότι μια βαθιά ευχή να πετάξεις μπορεί να κινήσει ουρανό και γη.
URL:https://cityfestival.thisisathens.org/event/paramythia-stin-plateia-sousourades/
LOCATION:Πλατεία Αγίου Σώστη\, Πλατεία Αγίου Σώστη\, Αθήνα\, Αθήνα\, 117 45\, Greece
CATEGORIES:ΔΩΡΕΑΝ,ΘΕΑΤΡΟ,ΠΑΙΔΙ,ΥΠΑΙΘΡΙΑ ΔΡΑΣΗ
ATTACH;FMTTYPE=image/webp:https://cityfestival.thisisathens.org/wp-content/uploads/2025/03/σουσουράδες-Φώτο-2048x1353.jpg.webp
END:VEVENT
END:VCALENDAR