BEGIN:VCALENDAR
VERSION:2.0
PRODID:-//Το Φεστιβάλ του Δήμου Αθηναίων - ECPv6.12.0.1//NONSGML v1.0//EN
CALSCALE:GREGORIAN
METHOD:PUBLISH
X-ORIGINAL-URL:https://cityfestival.thisisathens.org
X-WR-CALDESC:Events for Το Φεστιβάλ του Δήμου Αθηναίων
REFRESH-INTERVAL;VALUE=DURATION:PT1H
X-Robots-Tag:noindex
X-PUBLISHED-TTL:PT1H
BEGIN:VTIMEZONE
TZID:Europe/Athens
BEGIN:DAYLIGHT
TZOFFSETFROM:+0200
TZOFFSETTO:+0300
TZNAME:EEST
DTSTART:20250330T010000
END:DAYLIGHT
BEGIN:STANDARD
TZOFFSETFROM:+0300
TZOFFSETTO:+0200
TZNAME:EET
DTSTART:20251026T010000
END:STANDARD
END:VTIMEZONE
BEGIN:VEVENT
DTSTART;TZID=Europe/Athens:20250503T113000
DTEND;TZID=Europe/Athens:20250503T140000
DTSTAMP:20260426T062139
CREATED:20250326T110636Z
LAST-MODIFIED:20250506T134042Z
UID:10001223-1746271800-1746280800@cityfestival.thisisathens.org
SUMMARY:Προβολή Ιστορικών Ντοκιμαντέρ
DESCRIPTION:H αίθουσα «Αδαμάντιος Κοραής» του Πολεμικού Μουσείου φιλοξενεί την προβολή πέντε ιστορικών ντοκιμαντέρ. Μέσα από σπάνιο κινηματογραφικό υλικό\, τα ντοκιμαντέρ ζωντανεύουν κρίσιμες στιγμές της στρατιωτικής ιστορίας\, από τους Βαλκανικούς Πολέμους (1912-13) και τη Μάχη της Καλλίπολης (1915)\, μέχρι τη νικηφόρα Μάχη του Σκρα (1918)\, τη δραματική Μάχη της Κρήτης (1941) και την Απόβαση στη Νορμανδία (1944). Αυτά τα κορυφαία γεγονότα παρουσιάζονται με αυθεντικά πλάνα\, αναδεικνύοντας τη στρατηγική σημασία και την ηρωική δράση των εμπλεκομένων δυνάμεων.\n\n 	Βαλκανικοί Πόλεμοι 1912-13\, Κινηματογραφώντας την Ιστορία (διάρκεια: 52΄)\n 	Η Μάχη της Καλλίπολης 1915\, ΑΝΖΑΚ (διάρκεια: 27΄)\n 	Η Μάχη του Σκρα 1918 (διάρκεια: 22΄)\n 	Η Μάχη της Κρήτης\, Μάιος 1941 (διάρκεια: 25΄)\n 	Απόβαση στη Νορμανδία\, Ιούνιος 1944 (διάρκεια: 5΄)\n\nΘα τηρηθεί σειρά προτεραιότητας.
URL:https://cityfestival.thisisathens.org/event/provoli-documentary-2/
LOCATION:Πολεμικό Μουσείο\, Ριζάρη 2-4\, Αθήνα\, Αθήνα\, 106 75\, Greece
CATEGORIES:ΔΩΡΕΑΝ,ΙΣΤΟΡΙΑ,ΜΟΥΣΕΙΟ,ΣΙΝΕΜΑ
ATTACH;FMTTYPE=image/jpeg:https://cityfestival.thisisathens.org/wp-content/uploads/2025/03/01.jpg
END:VEVENT
BEGIN:VEVENT
DTSTART;TZID=Europe/Athens:20250508T180000
DTEND;TZID=Europe/Athens:20250508T233000
DTSTAMP:20260426T062139
CREATED:20250422T094324Z
LAST-MODIFIED:20250506T132240Z
UID:10003565-1746727200-1746747000@cityfestival.thisisathens.org
SUMMARY:Queer Movie Nights
DESCRIPTION:Τα Queer Movie Nights αποτελούν μια μοναδική γιορτή για το LGBTQI+ σινεμά στην Αθήνα. Ξεκίνησαν τον Μάιο του 2022 με αφορμή τη Διεθνή Ημέρα κατά της Ομοφοβίας\, Τρανσφοβίας\, Αμφιφοβίας και Ιντερφοβίας και από τότε έχουν καθιερωθεί ως μια πλατφόρμα προβολής queer ταινιών μικρού και μεγάλου μήκους\, καθώς και ντοκιμαντέρ.\nΣτόχος των Queer Movie Nights είναι να δημιουργήσουν έναν ασφαλή χώρο ελεύθερης έκφρασης\, όπου οι ιστορίες της queer κοινότητας από όλο τον κόσμο θα μπορούν να λάμπουν μέσα από την μαγική τέχνη του κινηματογράφου.
URL:https://cityfestival.thisisathens.org/event/queer-movie-nights/
LOCATION:Κινηματογράφος “Τριανόν”\, Κοδριγκτώνος 21\, Αθήνα\, Αθήνα\, 104 34\, Greece
CATEGORIES:ΣΙΝΕΜΑ,ΨΥΧΑΓΩΓΙΑ
ATTACH;FMTTYPE=image/webp:https://cityfestival.thisisathens.org/wp-content/uploads/2025/03/Queer-Movie-Nights-για-site-1399x1536.jpg-1.webp
END:VEVENT
BEGIN:VEVENT
DTSTART;TZID=Europe/Athens:20250508T193000
DTEND;TZID=Europe/Athens:20250508T230000
DTSTAMP:20260426T062139
CREATED:20250327T131719Z
LAST-MODIFIED:20250506T132033Z
UID:10002433-1746732600-1746745200@cityfestival.thisisathens.org
SUMMARY:Midnight Express: Μad Μax
DESCRIPTION:Το Midnight Express είναι το απόλυτο δημιούργημα του κινηματογραφικού μας γκουρού\, Άκη Καπράνου. Μετά από αμέτρητες ώρες στις μαγικές μεταμεσονύκτιες προβολές του Αλφαβίλ και του Σινέ Δεξαμενή\, θέλησε να φέρει αυτή την εμπειρία πίσω στη ζωή μας. Για να θυμηθούν οι παλιοί\, να μάθουν οι νέοι και να βιώσουμε όλοι μαζί μια κορυφαία κινηματογραφική εμπειρία! Πόσο καλύτερο να γίνει;\n\nΤο Midnight Express βγαίνει από τις σκοτεινές αίθουσες και έρχεται κάτω από τα αστέρια! Στον πανέμορφο κήπο του Αστεροσκοπείου Αθηνών\, η θρυλική ταινία Mad Max θα μας ταξιδέψει πίσω στον χρόνο και θα μας δείξει τί σημαίνει πρωτοποριακό σινεμά.\n\nΑπαιτείται η κράτηση θέσης.
URL:https://cityfestival.thisisathens.org/event/midnight-express-mad-max/
LOCATION:Εθνικό Αστεροσκοπείο Αθηνών\, Λόφος Νυμφών\, Αθήνα\, Αθήνα\, 118 10\, Greece
CATEGORIES:ΔΩΡΕΑΝ,ΣΙΝΕΜΑ,ΥΠΑΙΘΡΙΑ ΔΡΑΣΗ,ΨΥΧΑΓΩΓΙΑ
ATTACH;FMTTYPE=image/jpeg:https://cityfestival.thisisathens.org/wp-content/uploads/2025/03/Mad-Max-1-scaled.jpg
END:VEVENT
BEGIN:VEVENT
DTSTART;TZID=Europe/Athens:20250509T180000
DTEND;TZID=Europe/Athens:20250509T233000
DTSTAMP:20260426T062139
CREATED:20250422T094405Z
LAST-MODIFIED:20250422T094405Z
UID:10003566-1746813600-1746833400@cityfestival.thisisathens.org
SUMMARY:Queer Movie Nights
DESCRIPTION:Τα Queer Movie Nights αποτελούν μια μοναδική γιορτή για το LGBTQI+ σινεμά στην Αθήνα. Ξεκίνησαν τον Μάιο του 2022 με αφορμή τη Διεθνή Ημέρα κατά της Ομοφοβίας\, Τρανσφοβίας\, Αμφιφοβίας και Ιντερφοβίας και από τότε έχουν καθιερωθεί ως μια πλατφόρμα προβολής queer ταινιών μικρού και μεγάλου μήκους\, καθώς και ντοκιμαντέρ.\nΣτόχος των Queer Movie Nights είναι να δημιουργήσουν έναν ασφαλή χώρο ελεύθερης έκφρασης\, όπου οι ιστορίες της queer κοινότητας από όλο τον κόσμο θα μπορούν να λάμπουν μέσα από την μαγική τέχνη του κινηματογράφου.
URL:https://cityfestival.thisisathens.org/event/queer-movie-nights-2/
LOCATION:Κινηματογράφος “Τριανόν”\, Κοδριγκτώνος 21\, Αθήνα\, Αθήνα\, 104 34\, Greece
CATEGORIES:ΣΙΝΕΜΑ,ΨΥΧΑΓΩΓΙΑ
ATTACH;FMTTYPE=image/webp:https://cityfestival.thisisathens.org/wp-content/uploads/2025/03/Queer-Movie-Nights-για-site-1399x1536.jpg-1.webp
END:VEVENT
BEGIN:VEVENT
DTSTART;TZID=Europe/Athens:20250510T180000
DTEND;TZID=Europe/Athens:20250510T233000
DTSTAMP:20260426T062139
CREATED:20250422T094438Z
LAST-MODIFIED:20250506T131038Z
UID:10003567-1746900000-1746919800@cityfestival.thisisathens.org
SUMMARY:Queer Movie Nights
DESCRIPTION:Τα Queer Movie Nights αποτελούν μια μοναδική γιορτή για το LGBTQI+ σινεμά στην Αθήνα. Ξεκίνησαν τον Μάιο του 2022 με αφορμή τη Διεθνή Ημέρα κατά της Ομοφοβίας\, Τρανσφοβίας\, Αμφιφοβίας και Ιντερφοβίας και από τότε έχουν καθιερωθεί ως μια πλατφόρμα προβολής queer ταινιών μικρού και μεγάλου μήκους\, καθώς και ντοκιμαντέρ.\nΣτόχος των Queer Movie Nights είναι να δημιουργήσουν έναν ασφαλή χώρο ελεύθερης έκφρασης\, όπου οι ιστορίες της queer κοινότητας από όλο τον κόσμο θα μπορούν να λάμπουν μέσα από την μαγική τέχνη του κινηματογράφου.
URL:https://cityfestival.thisisathens.org/event/queer-movie-nights-3/
LOCATION:Κινηματογράφος “Τριανόν”\, Κοδριγκτώνος 21\, Αθήνα\, Αθήνα\, 104 34\, Greece
CATEGORIES:ΣΙΝΕΜΑ,ΨΥΧΑΓΩΓΙΑ
ATTACH;FMTTYPE=image/webp:https://cityfestival.thisisathens.org/wp-content/uploads/2025/03/Queer-Movie-Nights-για-site-1399x1536.jpg-1.webp
END:VEVENT
BEGIN:VEVENT
DTSTART;TZID=Europe/Athens:20250511T180000
DTEND;TZID=Europe/Athens:20250511T233000
DTSTAMP:20260426T062139
CREATED:20250422T094532Z
LAST-MODIFIED:20250506T130232Z
UID:10003568-1746986400-1747006200@cityfestival.thisisathens.org
SUMMARY:Queer Movie Nights
DESCRIPTION:Τα Queer Movie Nights αποτελούν μια μοναδική γιορτή για το LGBTQI+ σινεμά στην Αθήνα. Ξεκίνησαν τον Μάιο του 2022 με αφορμή τη Διεθνή Ημέρα κατά της Ομοφοβίας\, Τρανσφοβίας\, Αμφιφοβίας και Ιντερφοβίας και από τότε έχουν καθιερωθεί ως μια πλατφόρμα προβολής queer ταινιών μικρού και μεγάλου μήκους\, καθώς και ντοκιμαντέρ.\nΣτόχος των Queer Movie Nights είναι να δημιουργήσουν έναν ασφαλή χώρο ελεύθερης έκφρασης\, όπου οι ιστορίες της queer κοινότητας από όλο τον κόσμο θα μπορούν να λάμπουν μέσα από την μαγική τέχνη του κινηματογράφου.
URL:https://cityfestival.thisisathens.org/event/queer-movie-nights-4/
LOCATION:Κινηματογράφος “Τριανόν”\, Κοδριγκτώνος 21\, Αθήνα\, Αθήνα\, 104 34\, Greece
CATEGORIES:ΣΙΝΕΜΑ,ΨΥΧΑΓΩΓΙΑ
ATTACH;FMTTYPE=image/webp:https://cityfestival.thisisathens.org/wp-content/uploads/2025/03/Queer-Movie-Nights-για-site-1399x1536.jpg-1.webp
END:VEVENT
BEGIN:VEVENT
DTSTART;TZID=Europe/Athens:20250512T180000
DTEND;TZID=Europe/Athens:20250512T233000
DTSTAMP:20260426T062139
CREATED:20250422T094605Z
LAST-MODIFIED:20250506T130122Z
UID:10003569-1747072800-1747092600@cityfestival.thisisathens.org
SUMMARY:Queer Movie Nights
DESCRIPTION:Τα Queer Movie Nights αποτελούν μια μοναδική γιορτή για το LGBTQI+ σινεμά στην Αθήνα. Ξεκίνησαν τον Μάιο του 2022 με αφορμή τη Διεθνή Ημέρα κατά της Ομοφοβίας\, Τρανσφοβίας\, Αμφιφοβίας και Ιντερφοβίας και από τότε έχουν καθιερωθεί ως μια πλατφόρμα προβολής queer ταινιών μικρού και μεγάλου μήκους\, καθώς και ντοκιμαντέρ.\nΣτόχος των Queer Movie Nights είναι να δημιουργήσουν έναν ασφαλή χώρο ελεύθερης έκφρασης\, όπου οι ιστορίες της queer κοινότητας από όλο τον κόσμο θα μπορούν να λάμπουν μέσα από την μαγική τέχνη του κινηματογράφου.
URL:https://cityfestival.thisisathens.org/event/queer-movie-nights-5/
LOCATION:Κινηματογράφος “Τριανόν”\, Κοδριγκτώνος 21\, Αθήνα\, Αθήνα\, 104 34\, Greece
CATEGORIES:ΣΙΝΕΜΑ,ΨΥΧΑΓΩΓΙΑ
ATTACH;FMTTYPE=image/webp:https://cityfestival.thisisathens.org/wp-content/uploads/2025/03/Queer-Movie-Nights-για-site-1399x1536.jpg-1.webp
END:VEVENT
BEGIN:VEVENT
DTSTART;TZID=Europe/Athens:20250515T193000
DTEND;TZID=Europe/Athens:20250515T230000
DTSTAMP:20260426T062139
CREATED:20250327T113505Z
LAST-MODIFIED:20250506T125640Z
UID:10001278-1747337400-1747350000@cityfestival.thisisathens.org
SUMMARY:Midnight Express: Star Trek
DESCRIPTION:Το Midnight Express είναι το πνευματικό παιδί του κριτικού κινηματογράφου Άκη Καπράνου\, ο οποίος\, ορμώμενος από τη νοσταλγία για τις μαγικές μεταμεσονύκτιες προβολές του Αλφαβίλ και του Σινέ Δεξαμενή\, ξεκίνησε έναν αγώνα για να τις αναβιώσει.\n\nΤο Midnight Express αφήνει για λίγο τις αίθουσες και βγαίνει στο φως. Στον πανέμορφο κήπο του Αστεροσκοπείου Αθηνών\, η πρώτη ταινία «Star Trek» έρχεται να θυμίσει τον πρωτοποριακό κινηματογράφο του τότε. Για να θυμηθούν οι παλιοί\, να μάθουν οι νέοι και να βιώσουμε όλοι μαζί μια κορυφαία κινηματογραφική εμπειρία!\n\nΑπαιτείται η κράτηση θέσης.
URL:https://cityfestival.thisisathens.org/event/midnight-express-star-trek/
LOCATION:Εθνικό Αστεροσκοπείο Αθηνών\, Λόφος Νυμφών\, Αθήνα\, Αθήνα\, 118 10\, Greece
CATEGORIES:ΔΩΡΕΑΝ,ΣΙΝΕΜΑ,ΨΥΧΑΓΩΓΙΑ
ATTACH;FMTTYPE=image/jpeg:https://cityfestival.thisisathens.org/wp-content/uploads/2023/02/20220519-GMK-AthensCityFestival-Αστεροσκοπείο-011.jpg
END:VEVENT
BEGIN:VEVENT
DTSTART;TZID=Europe/Athens:20250518T113000
DTEND;TZID=Europe/Athens:20250518T130000
DTSTAMP:20260426T062139
CREATED:20250507T105556Z
LAST-MODIFIED:20250509T174435Z
UID:10003934-1747567800-1747573200@cityfestival.thisisathens.org
SUMMARY:Ομιλούντες Λίθοι
DESCRIPTION:Προβολή τριών ντοκιμαντέρ βιωματικής διδασκαλίας.\nΜε αφετηρία επιγραφές που εκτίθενται στο Μουσείο\, τα ντοκιμαντέρ δραματοποιούν σημαντικά γεγονότα της αρχαίας ελληνικής ιστορίας:\n«Η Γέννηση του Θεάτρου»\n«Το ψήφισμα του Θεμιστοκλή»\n«Ο λοιμός στην Αθήνα»\n\nΑπαιτείται η κράτηση θέσης: Δήλωση συμμετοχής στα τηλέφωνα του Επιγραφικού Μουσείου 210 88 47 576 και 210 82 32 950 (εσωτ: 203\, 205\, 209) και ώρες 08:00 – 14:00\n\nΟι κρατήσεις ανοίγουν 11/5\, στις 12:00 το μεσημέρι.
URL:https://cityfestival.thisisathens.org/event/omilountes-lithoi/
LOCATION:Επιγραφικό Μουσείο\, Τοσίτσα 1\, Αθήνα\, Αθήνα\, 106 82\, Greece
CATEGORIES:ΔΩΡΕΑΝ,ΜΟΥΣΕΙΟ,ΣΙΝΕΜΑ
ATTACH;FMTTYPE=image/jpeg:https://cityfestival.thisisathens.org/wp-content/uploads/2025/04/ΣΥΝΑΥΛΙΑ-17.5.25.jpg
END:VEVENT
BEGIN:VEVENT
DTSTART;TZID=Europe/Athens:20250522T193000
DTEND;TZID=Europe/Athens:20250522T230000
DTSTAMP:20260426T062139
CREATED:20250321T121438Z
LAST-MODIFIED:20250506T121127Z
UID:10000056-1747942200-1747954800@cityfestival.thisisathens.org
SUMMARY:Midnight Express: Purple Rain
DESCRIPTION:Το Midnight Express είναι το «πνευματικό παιδί» του κριτικού κινηματογράφου Άκη Καπράνου που ορμώμενος από τη νοσταλγία για τις μαγικές μεταμεσονύκτιες προβολές του Αλφαβίλ και του Σινέ Δεξαμενή ξεκίνησε έναν αγώνα για να τις αναβιώσει: να θυμηθούν οι παλιότεροι\, να μοιραστούν την εμπειρία οι νεότεροι\, να ζήσουν το κοινό πάθος για ατόφια κινηματογραφική απόλαυση όλοι μαζί.\n\nΤο Midnight Express αφήνει για λίγο τις αίθουσες και βγαίνει στο φως. Στον κήπο του Αστεροσκοπείου Αθηνών\, με το Purple Rain\, ένα ανεκτίμητο κομμάτι της κουλτούρας των ‘80s.\n\nΑπαιτείται η κράτηση θέσης.
URL:https://cityfestival.thisisathens.org/event/midnight-express-purple-rain/
LOCATION:Εθνικό Αστεροσκοπείο Αθηνών\, Λόφος Νυμφών\, Αθήνα\, Αθήνα\, 118 10\, Greece
CATEGORIES:ΔΩΡΕΑΝ,ΣΙΝΕΜΑ,ΥΠΑΙΘΡΙΑ ΔΡΑΣΗ,ΨΥΧΑΓΩΓΙΑ
ATTACH;FMTTYPE=image/jpeg:https://cityfestival.thisisathens.org/wp-content/uploads/2025/03/MV5BMjI3OTYwMDMzOV5BMl5BanBnXkFtZTgwOTY1NDk2ODE@._V1_.jpg
END:VEVENT
BEGIN:VEVENT
DTSTART;TZID=Europe/Athens:20250524T113000
DTEND;TZID=Europe/Athens:20250524T140000
DTSTAMP:20260426T062139
CREATED:20250326T111747Z
LAST-MODIFIED:20250506T120407Z
UID:10001225-1748086200-1748095200@cityfestival.thisisathens.org
SUMMARY:Προβολή Ιστορικών Ντοκιμαντέρ
DESCRIPTION:H αίθουσα «Αδαμάντιος Κοραής» του Πολεμικού Μουσείου φιλοξενεί την προβολή πέντε ιστορικών ντοκιμαντέρ. Μέσα από σπάνιο κινηματογραφικό υλικό\, τα ντοκιμαντέρ ζωντανεύουν κρίσιμες στιγμές της στρατιωτικής ιστορίας\, από τους Βαλκανικούς Πολέμους (1912-13) και τη Μάχη της Καλλίπολης (1915)\, μέχρι τη νικηφόρα Μάχη του Σκρα (1918)\, τη δραματική Μάχη της Κρήτης (1941) και την Απόβαση στη Νορμανδία (1944). Αυτά τα κορυφαία γεγονότα παρουσιάζονται με αυθεντικά πλάνα\, αναδεικνύοντας τη στρατηγική σημασία και την ηρωική δράση των εμπλεκομένων δυνάμεων.\n\n 	Βαλκανικοί Πόλεμοι 1912-13\, Κινηματογραφώντας την Ιστορία (διάρκεια: 52΄)\n 	Η Μάχη της Καλλίπολης 1915\, ΑΝΖΑΚ (διάρκεια: 27΄)\n 	Η Μάχη του Σκρα\, 1918 (διάρκεια: 22΄)\n 	Η Μάχη της Κρήτης\, Μαιος 1941 (διάρκεια: 25΄)\n 	Απόβαση στη Νορμανδία\, Ιούνιος 1944 (διάρκεια: 5΄)\n\nΘα τηρηθεί σειρά προτεραιότητας.
URL:https://cityfestival.thisisathens.org/event/provoli-documentary/
LOCATION:Πολεμικό Μουσείο\, Ριζάρη 2-4\, Αθήνα\, Αθήνα\, 106 75\, Greece
CATEGORIES:ΔΩΡΕΑΝ,ΙΣΤΟΡΙΑ,ΜΟΥΣΕΙΟ,ΣΙΝΕΜΑ
ATTACH;FMTTYPE=image/jpeg:https://cityfestival.thisisathens.org/wp-content/uploads/2025/03/ΑΙΘΡΙΟΣ-ΧΩΡΟΣ-scaled.jpg
END:VEVENT
BEGIN:VEVENT
DTSTART;TZID=Europe/Athens:20250526T200000
DTEND;TZID=Europe/Athens:20250526T230000
DTSTAMP:20260426T062139
CREATED:20250422T110033Z
LAST-MODIFIED:20250527T153449Z
UID:10003598-1748289600-1748300400@cityfestival.thisisathens.org
SUMMARY:Greek Cinema Nights
DESCRIPTION:Φώτα\, κάμερα\, πάμε ΞΑΝΑ!\nΚαλοκαίρι στην Αθήνα σημαίνει θερινό σινεμά!\n\n4 ελληνικές ταινίες\n4 προβολές κάτω από τον ουρανό της Αθήνας\n\nΠΡΟΓΡΑΜΜΑ ΠΡΟΒΟΛΩΝ\n\nΔευτέρα 26/5 –  Buzzheart (110′) του Ντένη Ηλιάδη\nΜε τους: Γιώργο Λάντο\, Κωνσταντίνα Μεσσήνη\, Εβελίνα Παπούλια\, Κλαούντιο Κάγια\nΌταν ο Αργύρης γνωρίζει τη Μαίρη σε ένα «στούντιο μασάζ»\, της ζητά ραντεβού και εκείνη του προτείνει να τη συνοδεύσει σε μια τριήμερη εκδρομή στο απομονωμένο εξοχικό των γονιών της\, όπου τον περιμένουν μια σειρά από εκπλήξεις.\n\nΤρίτη 27/5 – Το καλοκαίρι της Κάρμεν (106′) του Ζαχαρία Μαυροειδή\nΜε τους: Ανδρέα Λαμπρόπουλο\, Ρουμπίνη Βασιλακοπούλου\, Γιώργο Τσιαντούλα\nΑπολαμβάνοντας ένα ολοήμερο μπάνιο\, ο Δημοσθένης βοηθά το φίλο του Νικήτα στη συγγραφή ενός σεναρίου βασισμένου στα προσωπικά τους βιώματα.\n\nΚυριακή 1/6 – Στέλλα (90′) του Μιχάλη Κακογιάννη \nΜε τους: Μελίνα Μερκούρη\, Αλέκο Αλεξανδράκη\, Γιώργο Φούντα\, Χριστίνα Καλογερίκου\, Διονύση Παπαγιαννόπουλο\, Βούλα Ζαμπουλάκη\, Σοφία Βέμπο\nΗ θρυλική ταινία της Μελίνας Μερκούρη που προβλήθηκε με επιτυχία στο Φεστιβάλ Καννών το 1955 και απέσπασε το βραβείο καλύτερης ξένης ταινίας. Μια λαική τραγουδίστρια αν και ερωτευμένη με έναν ποδοσφαιριστή\, αρνείται να τον παντρευτεί για να διατηρήσει την ατομικοτητά της.\n\nΚυριακή 1/6 – Νοτιάς (99′) του Τάσου Μπουλμέτη\nΜε τους: Γιάννη Νιάρρο\, Μαρία Καλλιμάνη\, Θέμη Πάνου\, Ταξιάρχη Χάνο\, Μελισσάνθη Μαχούτ\nΑπό τη μέρα που εμφανίζονται στον Σταύρο οι πρώτες ερωτικές ανησυχίες\, φουντώνει και η επιθυμία του να λέει ιστορίες με δικό του\, ανατρεπτικό τρόπο. Από την εφηβεία προς την ενηλικίωση\, η Ελλάδα του ’60 και του ’70 θα τον τροφοδοτήσει με αρχαίους και σύγχρονους μύθους\, φανταστικά ταξίδια και όμορφες γυναίκες.\n\nΟι ταινίες προβάλλονται με υπότιτλους στα αγγλικά.
URL:https://cityfestival.thisisathens.org/event/greek-cinema-nights/
LOCATION:Πάρκο Ελευθερίας\, Πάρκο Ελευθερίας\, Αθήνα\, Αθήνα\, 115 21\, Greece
CATEGORIES:ΔΩΡΕΑΝ,ΣΙΝΕΜΑ,ΨΥΧΑΓΩΓΙΑ
ATTACH;FMTTYPE=image/jpeg:https://cityfestival.thisisathens.org/wp-content/uploads/2023/02/20220526-OSF-AthensCityFestival-CinemaNights-0030.jpg
END:VEVENT
BEGIN:VEVENT
DTSTART;TZID=Europe/Athens:20250527T200000
DTEND;TZID=Europe/Athens:20250527T230000
DTSTAMP:20260426T062139
CREATED:20250422T110132Z
LAST-MODIFIED:20250527T153454Z
UID:10003599-1748376000-1748386800@cityfestival.thisisathens.org
SUMMARY:Greek Cinema Nights
DESCRIPTION:Φώτα\, κάμερα\, πάμε ΞΑΝΑ!\nΚαλοκαίρι στην Αθήνα σημαίνει θερινό σινεμά!\n\n4 ελληνικές ταινίες\n4 προβολές κάτω από τον ουρανό της Αθήνας\n\nΠΡΟΓΡΑΜΜΑ ΠΡΟΒΟΛΩΝ\n\nΔευτέρα 26/5 –  Buzzheart (110′) του Ντένη Ηλιάδη\nΜε τους: Γιώργο Λάντο\, Κωνσταντίνα Μεσσήνη\, Εβελίνα Παπούλια\, Κλαούντιο Κάγια\nΌταν ο Αργύρης γνωρίζει τη Μαίρη σε ένα «στούντιο μασάζ»\, της ζητά ραντεβού και εκείνη του προτείνει να τη συνοδεύσει σε μια τριήμερη εκδρομή στο απομονωμένο εξοχικό των γονιών της\, όπου τον περιμένουν μια σειρά από εκπλήξεις.\n\nΤρίτη 27/5 – Το καλοκαίρι της Κάρμεν (106′) του Ζαχαρία Μαυροειδή\nΜε τους: Ανδρέα Λαμπρόπουλο\, Ρουμπίνη Βασιλακοπούλου\, Γιώργο Τσιαντούλα\nΑπολαμβάνοντας ένα ολοήμερο μπάνιο\, ο Δημοσθένης βοηθά το φίλο του Νικήτα στη συγγραφή ενός σεναρίου βασισμένου στα προσωπικά τους βιώματα.\n\nΚυριακή 1/6 – Στέλλα (90′) του Μιχάλη Κακογιάννη \nΜε τους: Μελίνα Μερκούρη\, Αλέκο Αλεξανδράκη\, Γιώργο Φούντα\, Χριστίνα Καλογερίκου\, Διονύση Παπαγιαννόπουλο\, Βούλα Ζαμπουλάκη\, Σοφία Βέμπο\nΗ θρυλική ταινία της Μελίνας Μερκούρη που προβλήθηκε με επιτυχία στο Φεστιβάλ Καννών το 1955 και απέσπασε το βραβείο καλύτερης ξένης ταινίας. Μια λαική τραγουδίστρια αν και ερωτευμένη με έναν ποδοσφαιριστή\, αρνείται να τον παντρευτεί για να διατηρήσει την ατομικοτητά της.\n\nΚυριακή 1/6 – Νοτιάς (99′) του Τάσου Μπουλμέτη\nΜε τους: Γιάννη Νιάρρο\, Μαρία Καλλιμάνη\, Θέμη Πάνου\, Ταξιάρχη Χάνο\, Μελισσάνθη Μαχούτ\nΑπό τη μέρα που εμφανίζονται στον Σταύρο οι πρώτες ερωτικές ανησυχίες\, φουντώνει και η επιθυμία του να λέει ιστορίες με δικό του\, ανατρεπτικό τρόπο. Από την εφηβεία προς την ενηλικίωση\, η Ελλάδα του ’60 και του ’70 θα τον τροφοδοτήσει με αρχαίους και σύγχρονους μύθους\, φανταστικά ταξίδια και όμορφες γυναίκες.\n\nΟι ταινίες προβάλλονται με υπότιτλους στα αγγλικά.
URL:https://cityfestival.thisisathens.org/event/greek-cinema-nights-2/
LOCATION:Πάρκο Ελευθερίας\, Πάρκο Ελευθερίας\, Αθήνα\, Αθήνα\, 115 21\, Greece
CATEGORIES:ΔΩΡΕΑΝ,ΣΙΝΕΜΑ,ΨΥΧΑΓΩΓΙΑ
ATTACH;FMTTYPE=image/jpeg:https://cityfestival.thisisathens.org/wp-content/uploads/2023/02/20220526-OSF-AthensCityFestival-CinemaNights-0030.jpg
END:VEVENT
BEGIN:VEVENT
DTSTART;TZID=Europe/Athens:20250529T200000
DTEND;TZID=Europe/Athens:20250529T233000
DTSTAMP:20260426T062140
CREATED:20250422T100732Z
LAST-MODIFIED:20250522T145402Z
UID:10003577-1748548800-1748561400@cityfestival.thisisathens.org
SUMMARY:Φεστιβάλ Ισπανόφωνου Κινηματογράφου στον Αελλώ
DESCRIPTION:Το Φεστιβάλ Ισπανόφωνου Κινηματογράφου Αθήνας – FeCHA επιστρέφει για 9η χρονιά για να αναδείξει για μια ακόμη χρονιά τον κινηματογραφικό πλούτο των ισπανόφωνων χωρών. Το 9ο FeCHA θα πραγματοποιηθεί στους θερινούς κινηματογράφους Ελληνίς Cinemax Europa Cinemas και Αελλώ Cinemax.\n\nΠρόγραμμα 2025 Αελλώ Cinemax\n\n 
URL:https://cityfestival.thisisathens.org/event/festival-ispanofonou-kinimatografou-aello-4/
LOCATION:Θερινός Κινηματογράφος «Αελλώ»\, Πατησίων 140\, Athens\, Athens\, 112 57\, Greece
CATEGORIES:ΣΙΝΕΜΑ,ΨΥΧΑΓΩΓΙΑ
ATTACH;FMTTYPE=image/jpeg:https://cityfestival.thisisathens.org/wp-content/uploads/2025/04/20230531-OSF-AthensCityFestival-Ispanofono_Cinema-0002-scaled.jpg
END:VEVENT
BEGIN:VEVENT
DTSTART;TZID=Europe/Athens:20250529T200000
DTEND;TZID=Europe/Athens:20250529T233000
DTSTAMP:20260426T062140
CREATED:20250422T104632Z
LAST-MODIFIED:20250525T110811Z
UID:10003589-1748548800-1748561400@cityfestival.thisisathens.org
SUMMARY:Φεστιβάλ Ισπανόφωνου Κινηματογράφου στον Ελληνίς
DESCRIPTION:Το Φεστιβάλ Ισπανόφωνου Κινηματογράφου Αθήνας – FeCHA επιστρέφει για 9η χρονιά για να αναδείξει για μια ακόμη χρονιά τον κινηματογραφικό πλούτο των ισπανόφωνων χωρών. Το 9ο FeCHA θα πραγματοποιηθεί στους θερινούς κινηματογράφους Ελληνίς Cinemax Europa Cinemas και Αελλώ Cinemax.\n\nΜπορείτε να δείτε το πρόγραμμα στον παρακάτω σύνδεσμο:\n\nΠρόγραμμα 2025 Ελληνίς Cinemax
URL:https://cityfestival.thisisathens.org/event/festival-ispanofonou-kinimatografou-ellinis-4/
LOCATION:Θερινός Κινηματογράφος «Ελληνίς»\, Λεωφ. Κηφισίας 29\, Αθήνα\, Αθήνα\, 115 23\, Greece
CATEGORIES:ΣΙΝΕΜΑ,ΨΥΧΑΓΩΓΙΑ
ATTACH;FMTTYPE=image/jpeg:https://cityfestival.thisisathens.org/wp-content/uploads/2025/03/20230531-OSF-AthensCityFestival-Ispanofono_Cinema-0006-scaled.jpg
END:VEVENT
BEGIN:VEVENT
DTSTART;TZID=Europe/Athens:20250530T200000
DTEND;TZID=Europe/Athens:20250530T233000
DTSTAMP:20260426T062140
CREATED:20250422T100808Z
LAST-MODIFIED:20250522T145329Z
UID:10003578-1748635200-1748647800@cityfestival.thisisathens.org
SUMMARY:Φεστιβάλ Ισπανόφωνου Κινηματογράφου στον Αελλώ
DESCRIPTION:Το Φεστιβάλ Ισπανόφωνου Κινηματογράφου Αθήνας – FeCHA επιστρέφει για 9η χρονιά για να αναδείξει για μια ακόμη χρονιά τον κινηματογραφικό πλούτο των ισπανόφωνων χωρών. Το 9ο FeCHA θα πραγματοποιηθεί στους θερινούς κινηματογράφους Ελληνίς Cinemax Europa Cinemas και Αελλώ Cinemax.\n\nΠρόγραμμα 2025 Αελλώ Cinemax\n\n 
URL:https://cityfestival.thisisathens.org/event/festival-ispanofonou-kinimatografou-aello-5/
LOCATION:Θερινός Κινηματογράφος «Αελλώ»\, Πατησίων 140\, Athens\, Athens\, 112 57\, Greece
CATEGORIES:ΣΙΝΕΜΑ,ΨΥΧΑΓΩΓΙΑ
ATTACH;FMTTYPE=image/jpeg:https://cityfestival.thisisathens.org/wp-content/uploads/2025/04/20230531-OSF-AthensCityFestival-Ispanofono_Cinema-0002-scaled.jpg
END:VEVENT
BEGIN:VEVENT
DTSTART;TZID=Europe/Athens:20250530T200000
DTEND;TZID=Europe/Athens:20250530T233000
DTSTAMP:20260426T062140
CREATED:20250422T104705Z
LAST-MODIFIED:20250525T110806Z
UID:10003590-1748635200-1748647800@cityfestival.thisisathens.org
SUMMARY:Φεστιβάλ Ισπανόφωνου Κινηματογράφου στον Ελληνίς
DESCRIPTION:Το Φεστιβάλ Ισπανόφωνου Κινηματογράφου Αθήνας – FeCHA επιστρέφει για 9η χρονιά για να αναδείξει για μια ακόμη χρονιά τον κινηματογραφικό πλούτο των ισπανόφωνων χωρών. Το 9ο FeCHA θα πραγματοποιηθεί στους θερινούς κινηματογράφους Ελληνίς Cinemax Europa Cinemas και Αελλώ Cinemax.\n\nΜπορείτε να δείτε το πρόγραμμα στον παρακάτω σύνδεσμο:\n\nΠρόγραμμα 2025 Ελληνίς Cinemax
URL:https://cityfestival.thisisathens.org/event/festival-ispanofonou-kinimatografou-ellinis-5/
LOCATION:Θερινός Κινηματογράφος «Ελληνίς»\, Λεωφ. Κηφισίας 29\, Αθήνα\, Αθήνα\, 115 23\, Greece
CATEGORIES:ΣΙΝΕΜΑ,ΨΥΧΑΓΩΓΙΑ
ATTACH;FMTTYPE=image/jpeg:https://cityfestival.thisisathens.org/wp-content/uploads/2025/03/20230531-OSF-AthensCityFestival-Ispanofono_Cinema-0006-scaled.jpg
END:VEVENT
BEGIN:VEVENT
DTSTART;TZID=Europe/Athens:20250531T200000
DTEND;TZID=Europe/Athens:20250531T233000
DTSTAMP:20260426T062140
CREATED:20250422T100847Z
LAST-MODIFIED:20250522T145307Z
UID:10003579-1748721600-1748734200@cityfestival.thisisathens.org
SUMMARY:Φεστιβάλ Ισπανόφωνου Κινηματογράφου στον Αελλώ
DESCRIPTION:Το Φεστιβάλ Ισπανόφωνου Κινηματογράφου Αθήνας – FeCHA επιστρέφει για 9η χρονιά για να αναδείξει για μια ακόμη χρονιά τον κινηματογραφικό πλούτο των ισπανόφωνων χωρών. Το 9ο FeCHA θα πραγματοποιηθεί στους θερινούς κινηματογράφους Ελληνίς Cinemax Europa Cinemas και Αελλώ Cinemax.\n\nΠρόγραμμα 2025 Αελλώ Cinemax\n\n 
URL:https://cityfestival.thisisathens.org/event/festival-ispanofonou-kinimatografou-aello-6/
LOCATION:Θερινός Κινηματογράφος «Αελλώ»\, Πατησίων 140\, Athens\, Athens\, 112 57\, Greece
CATEGORIES:ΣΙΝΕΜΑ,ΨΥΧΑΓΩΓΙΑ
ATTACH;FMTTYPE=image/jpeg:https://cityfestival.thisisathens.org/wp-content/uploads/2025/04/20230531-OSF-AthensCityFestival-Ispanofono_Cinema-0002-scaled.jpg
END:VEVENT
BEGIN:VEVENT
DTSTART;TZID=Europe/Athens:20250531T200000
DTEND;TZID=Europe/Athens:20250531T233000
DTSTAMP:20260426T062140
CREATED:20250422T104738Z
LAST-MODIFIED:20250525T110801Z
UID:10003591-1748721600-1748734200@cityfestival.thisisathens.org
SUMMARY:Φεστιβάλ Ισπανόφωνου Κινηματογράφου στον Ελληνίς
DESCRIPTION:Το Φεστιβάλ Ισπανόφωνου Κινηματογράφου Αθήνας – FeCHA επιστρέφει για 9η χρονιά για να αναδείξει για μια ακόμη χρονιά τον κινηματογραφικό πλούτο των ισπανόφωνων χωρών. Το 9ο FeCHA θα πραγματοποιηθεί στους θερινούς κινηματογράφους Ελληνίς Cinemax Europa Cinemas και Αελλώ Cinemax.\n\nΜπορείτε να δείτε το πρόγραμμα στον παρακάτω σύνδεσμο:\n\nΠρόγραμμα 2025 Ελληνίς Cinemax
URL:https://cityfestival.thisisathens.org/event/festival-ispanofonou-kinimatografou-ellinis-6/
LOCATION:Θερινός Κινηματογράφος «Ελληνίς»\, Λεωφ. Κηφισίας 29\, Αθήνα\, Αθήνα\, 115 23\, Greece
CATEGORIES:ΣΙΝΕΜΑ,ΨΥΧΑΓΩΓΙΑ
ATTACH;FMTTYPE=image/jpeg:https://cityfestival.thisisathens.org/wp-content/uploads/2025/03/20230531-OSF-AthensCityFestival-Ispanofono_Cinema-0006-scaled.jpg
END:VEVENT
END:VCALENDAR