BEGIN:VCALENDAR
VERSION:2.0
PRODID:-//Το Φεστιβάλ του Δήμου Αθηναίων - ECPv6.12.0.1//NONSGML v1.0//EN
CALSCALE:GREGORIAN
METHOD:PUBLISH
X-ORIGINAL-URL:https://cityfestival.thisisathens.org
X-WR-CALDESC:Events for Το Φεστιβάλ του Δήμου Αθηναίων
REFRESH-INTERVAL;VALUE=DURATION:PT1H
X-Robots-Tag:noindex
X-PUBLISHED-TTL:PT1H
BEGIN:VTIMEZONE
TZID:Europe/Athens
BEGIN:DAYLIGHT
TZOFFSETFROM:+0200
TZOFFSETTO:+0300
TZNAME:EEST
DTSTART:20250330T010000
END:DAYLIGHT
BEGIN:STANDARD
TZOFFSETFROM:+0300
TZOFFSETTO:+0200
TZNAME:EET
DTSTART:20251026T010000
END:STANDARD
END:VTIMEZONE
BEGIN:VEVENT
DTSTART;TZID=Europe/Athens:20250503T113000
DTEND;TZID=Europe/Athens:20250503T140000
DTSTAMP:20260424T235406
CREATED:20250326T110636Z
LAST-MODIFIED:20250506T134042Z
UID:10001223-1746271800-1746280800@cityfestival.thisisathens.org
SUMMARY:Προβολή Ιστορικών Ντοκιμαντέρ
DESCRIPTION:H αίθουσα «Αδαμάντιος Κοραής» του Πολεμικού Μουσείου φιλοξενεί την προβολή πέντε ιστορικών ντοκιμαντέρ. Μέσα από σπάνιο κινηματογραφικό υλικό\, τα ντοκιμαντέρ ζωντανεύουν κρίσιμες στιγμές της στρατιωτικής ιστορίας\, από τους Βαλκανικούς Πολέμους (1912-13) και τη Μάχη της Καλλίπολης (1915)\, μέχρι τη νικηφόρα Μάχη του Σκρα (1918)\, τη δραματική Μάχη της Κρήτης (1941) και την Απόβαση στη Νορμανδία (1944). Αυτά τα κορυφαία γεγονότα παρουσιάζονται με αυθεντικά πλάνα\, αναδεικνύοντας τη στρατηγική σημασία και την ηρωική δράση των εμπλεκομένων δυνάμεων.\n\n 	Βαλκανικοί Πόλεμοι 1912-13\, Κινηματογραφώντας την Ιστορία (διάρκεια: 52΄)\n 	Η Μάχη της Καλλίπολης 1915\, ΑΝΖΑΚ (διάρκεια: 27΄)\n 	Η Μάχη του Σκρα 1918 (διάρκεια: 22΄)\n 	Η Μάχη της Κρήτης\, Μάιος 1941 (διάρκεια: 25΄)\n 	Απόβαση στη Νορμανδία\, Ιούνιος 1944 (διάρκεια: 5΄)\n\nΘα τηρηθεί σειρά προτεραιότητας.
URL:https://cityfestival.thisisathens.org/event/provoli-documentary-2/
LOCATION:Πολεμικό Μουσείο\, Ριζάρη 2-4\, Αθήνα\, Αθήνα\, 106 75\, Greece
CATEGORIES:ΔΩΡΕΑΝ,ΙΣΤΟΡΙΑ,ΜΟΥΣΕΙΟ,ΣΙΝΕΜΑ
ATTACH;FMTTYPE=image/jpeg:https://cityfestival.thisisathens.org/wp-content/uploads/2025/03/01.jpg
END:VEVENT
BEGIN:VEVENT
DTSTART;TZID=Europe/Athens:20250504T110000
DTEND;TZID=Europe/Athens:20250504T123000
DTSTAMP:20260424T235406
CREATED:20250422T125942Z
LAST-MODIFIED:20250506T133603Z
UID:10003616-1746356400-1746361800@cityfestival.thisisathens.org
SUMMARY:Όσοι δεν Πρόλαβαν - Διαδρομή Μνήμης 1940-1944
DESCRIPTION:Η διαδρομή μνήμης είναι ένας φόρος τιμής στα χιλιάδες ανώνυμα θύματα της πείνας κατά τη διάρκεια της κατοχής\, καθώς και στα θύματα των εκτελέσεων από τις δυνάμεις κατοχής. Αναζητώντας το χθες στο σήμερα\, ξεδιπλώνονται ιστορίες του τόπου και των ανθρώπων. Συγχρόνως\, επανασυστήνεται στο κοινό το Γ’ Νεκροταφείο ως ιστορικός τόπος μνήμης για «όσους δεν πρόλαβαν» να δουν τη χώρα μας ελεύθερη.\n\nΤην περιήγηση θα πραγματοποιήσουν η Ζέττα Αντωνοπούλου\, Ιστορικός-Αρχαιολόγος\, και η Ελίζα Νεοφύτου\, Αρχιτέκτονας-Μουσειολόγος.\n\nΣημείο συνάντησης: Είσοδος Γ’ Κοιμητηρίου\n\nΑπαιτείται η κράτηση θέσης.
URL:https://cityfestival.thisisathens.org/event/osoi-den-prolavan-diadromi-mnimis-140-1944/
LOCATION:Γ’ Κοιμητήριο Αθηνών\, Θηβών & Κοτυόρων\, Αθήνα\, Αθήνα\, 184 54\, Greece
CATEGORIES:ΔΩΡΕΑΝ,ΙΣΤΟΡΙΑ,ΠΕΡΙΗΓΗΣΗ,ΥΠΑΙΘΡΙΑ ΔΡΑΣΗ
ATTACH;FMTTYPE=image/jpeg:https://cityfestival.thisisathens.org/wp-content/uploads/2025/03/IMG_20241010_144006-scaled.jpg
END:VEVENT
BEGIN:VEVENT
DTSTART;TZID=Europe/Athens:20250504T110000
DTEND;TZID=Europe/Athens:20250504T130000
DTSTAMP:20260424T235406
CREATED:20250401T132019Z
LAST-MODIFIED:20250502T124331Z
UID:10003267-1746356400-1746363600@cityfestival.thisisathens.org
SUMMARY:Η Αθήνα της Διαμαρτυρίας - Αγώνες για τη Δημοκρατία στη Δεκαετία του 60
DESCRIPTION:Με αφορμή τη συμπλήρωση 60 χρόνων από τα Ιουλιανά (1965)\, το Φεστιβάλ του Δήμου Αθηναίων διοργανώνει έναν ιστορικό περίπατο στο κέντρο της πόλης\, αφιερωμένο στον αγώνα για τη δημοκρατία.\n\nΞεκινώντας από τα Χαυτεία και καταλήγοντας στο Σύνταγμα\, ο περίπατος ακολουθεί μια διαδρομή στη μεταπολεμική ιστορία της χώρας\, «ξαναδιαβάζοντας» σημεία-ορόσημα της πόλης\, όπως το Μνημείο του Άγνωστου Στρατιώτη και τα Προπύλαια\, αλλά και ανακαλύπτοντας άγνωστα σημεία\, όπου εκτυλίχθηκαν σημαντικά γεγονότα μιας ταραγμένης δεκαετίας.\n\nΤον περίπατο θα πραγματοποιήσουν οι: Βαγγέλης Καραμανωλάκης\, καθηγητής Ιστορίας ΕΚΠΑ\, Ζήσιμος Συνοδινός\, αρχειονόμος-επιστημονικός υπεύθυνος ΕΜΙΑΝ/ΑΣΚΙ\, Αγγελική Χριστοδούλου\, επιστημονική συνεργάτης ΑΣΚΙ.\n\nΣημείο συνάντησης: Συμβολή Πλατεία Ομονοίας & Παναγή Τσαλδάρη (Πειραιώς)\n\nΑπαιτείται η κράτηση θέσης.
URL:https://cityfestival.thisisathens.org/event/athina-dimartirias-agones-gia-dimokratia-dekaetia-60/
LOCATION:Πλατεία Ομονοίας\, Πλατεία Ομονοίας\, Αθήνα\, Αθήνα\, 104 31\, Greece
CATEGORIES:ΔΩΡΕΑΝ,ΙΣΤΟΡΙΑ,ΠΕΡΙΗΓΗΣΗ,ΥΠΑΙΘΡΙΑ ΔΡΑΣΗ
ATTACH;FMTTYPE=image/jpeg:https://cityfestival.thisisathens.org/wp-content/uploads/2025/04/ΑΘΗΝΑ-ΔΙΑΜΑΡΤΥΡΙΑΣ-2.jpg
END:VEVENT
BEGIN:VEVENT
DTSTART;TZID=Europe/Athens:20250508T183000
DTEND;TZID=Europe/Athens:20250508T200000
DTSTAMP:20260424T235406
CREATED:20250321T182939Z
LAST-MODIFIED:20250506T132212Z
UID:10000826-1746729000-1746734400@cityfestival.thisisathens.org
SUMMARY:Ξενάγηση στον Σύλλογο των Αθηναίων και Oμιλία με Θέμα: Αθηναϊκή Μετοικεσία
DESCRIPTION:Οι επισκέπτες θα ξεναγηθούν στον Σύλλογο των Αθηναίων και στο Αθηναϊκό Μουσείο\, ενώ θα παρακολουθήσουν την ομιλία του Προέδρου\, Ελευθέριου Γ. Σκιαδά\, με αφορμή την έκδοση του νέου του βιβλίου με τίτλο: «ΑΘΗΝΑΪΚΗ ΜΕΤΟΪΚΕΣΙΑ: Το έθιμο της ομαδικής μετακόμισης κάθε 1η Σεπτεμβρίου και το real estate από τα χρόνια του βασιλιά Όθωνα».\n\nΑπαιτείται κράτηση θέσης στο info@syllogostonathinaion.gr (Oνοματεπώνυμο\, Aριθμός Ατόμων\, Ημερομηνία Δράσης).
URL:https://cityfestival.thisisathens.org/event/xenagisi-sillogo-athinaion-omilia-athinaiki-metoikesia/
LOCATION:Σύλλογος των Αθηναίων\, Κέκροπος 10\, Αθήνα\, Αθήνα\, 105 58\, Greece
CATEGORIES:ΔΩΡΕΑΝ,ΙΣΤΟΡΙΑ,ΛΟΓΟΤΕΧΝΙΑ,ΜΟΥΣΕΙΟ,ΠΕΡΙΗΓΗΣΗ
ATTACH;FMTTYPE=image/png:https://cityfestival.thisisathens.org/wp-content/uploads/2025/03/ΑTHCF_8-ΜΑΪΟΥ.png
END:VEVENT
BEGIN:VEVENT
DTSTART;TZID=Europe/Athens:20250510T110000
DTEND;TZID=Europe/Athens:20250510T130000
DTSTAMP:20260424T235406
CREATED:20250416T140717Z
LAST-MODIFIED:20250502T100027Z
UID:10003517-1746874800-1746882000@cityfestival.thisisathens.org
SUMMARY:Περιήγηση στο Ριζόκαστρο και τα Αναφιώτικα
DESCRIPTION:Ο αρχαιολόγος και διπλωματούχος ξεναγος Μιχάλης Γιοχάλας\, σε συνεργασία με το Φεστιβάλ του Δήμου Αθηναίων\, πραγματοποιεί μία περιήγηση στα Αναφιώτικα και την ιστορία τους.\n\nΤο Ριζόκαστρο\, η περιοχή κάτω από την ρίζα του Βράχου\, και τα Αναφιώτικα είναι δύο εκ των πλέον ιστορικών περιοχών της Αθήνας. Με οδηγούς τα μέχρι σήμερα σωζόμενα μνημεία και κτίρια\, τα σπαράγματα αυτών που δεν υπάρχουν πλέον αλλά και τα ονόματα των δρόμων\, θα επιχειρήσουμε να ανασυνθέσουμε τη μνήμη και την εικόνα μίας πόλης διαφορετικής\, αλλά όχι ολότελα χαμένης\, αφουγκραζόμενοι τις απηχήσεις των δοξασιών\, των μύθων και των θρύλων των αρχαίων τοποθεσιών\, που επιβιώνουν μέχρι σήμερα.\n\nΣημείο Συνάντησης: Σταθμός Μετρό Ακρόπολη – Έξοδος Οδός Μακρυγιάννη\n\nΑπαιτείται η κράτηση θέσης.
URL:https://cityfestival.thisisathens.org/event/periigisi-rizokastro-anafiotika/
LOCATION:Σταθμός Μετρό Ακρόπολη\, Μακρυγιάννη 9\, Αθήνα\, Αθήνα\, 117 42\, Greece
CATEGORIES:ΔΩΡΕΑΝ,ΙΣΤΟΡΙΑ,ΠΕΡΙΗΓΗΣΗ,ΥΠΑΙΘΡΙΑ ΔΡΑΣΗ
ATTACH;FMTTYPE=image/jpeg:https://cityfestival.thisisathens.org/wp-content/uploads/2025/04/20240516-TiACF-GMK-RizokastroAnafiotikaTour-0026-scaled.jpg
END:VEVENT
BEGIN:VEVENT
DTSTART;TZID=Europe/Athens:20250515T183000
DTEND;TZID=Europe/Athens:20250515T200000
DTSTAMP:20260424T235406
CREATED:20250509T205831Z
LAST-MODIFIED:20250509T210505Z
UID:10003939-1747333800-1747339200@cityfestival.thisisathens.org
SUMMARY:Η Ιστορία της Οικίας Κατακουζηνού Μέσα στον Χρόνο και ο Ρόλος Ενός Σπιτιού-Μουσείου στην Εποχή μας
DESCRIPTION:Μια ομιλία για το φιλολογικό σαλόνι των Κατακουζηνών του 1960\, με αναφορά στην ιστορία\, στο έργο και στην προσφορά του ζεύγους Κατακουζηνού. Θα μάθουμε πώς η οικία Κατακουζηνού μετατράπηκε σε μουσείο το 2008 και τι μπορεί να προσφέρει σε μια εποχή που όλα αλλάζουν συνεχώς.\n\nΟμιλητής: Σοφία Ε. Πελοποννησίου-Βασιλάκου\, μουσειολόγος\, επιμελήτρια της οικίας Κατακουζηνού.\n\nΑπαιτείται η κράτηση θέσης. Οι κρατήσεις ανοίγουν 10/5\, στις 12:00 το μεσημέρι.
URL:https://cityfestival.thisisathens.org/event/katakouzinou/
LOCATION:Ίδρυμα Αγγελου & Λητώς Κατακουζηνού\, Βασιλίσσης Αμαλίας 4\, Αθήνα\, Αθήνα\, 105 57\, Greece
CATEGORIES:ΔΩΡΕΑΝ,ΙΣΤΟΡΙΑ,ΜΟΥΣΕΙΟ
ATTACH;FMTTYPE=image/jpeg:https://cityfestival.thisisathens.org/wp-content/uploads/2025/05/Salon-1.jpg
END:VEVENT
BEGIN:VEVENT
DTSTART;TZID=Europe/Athens:20250516T180000
DTEND;TZID=Europe/Athens:20250516T200000
DTSTAMP:20260424T235406
CREATED:20250416T141303Z
LAST-MODIFIED:20250502T100015Z
UID:10003519-1747418400-1747425600@cityfestival.thisisathens.org
SUMMARY:Περιήγηση στο Ριζόκαστρο και τα Αναφιώτικα
DESCRIPTION:Ο αρχαιολόγος και διπλωματούχος ξεναγός Μιχάλης Γιοχάλας\, σε συνεργασία με το Φεστιβάλ του Δήμου Αθηναίων\, πραγματοποιεί μία περιήγηση στα Αναφιώτικα και την ιστορία τους.\n\nΤο Ριζόκαστρο\, η περιοχή κάτω από την ρίζα του Βράχου\, και τα Αναφιώτικα είναι δύο εκ των πλέον ιστορικών περιοχών της Αθήνας. Με οδηγούς τα μέχρι σήμερα σωζόμενα μνημεία και κτίρια\, τα σπαράγματα αυτών που δεν υπάρχουν πλέον αλλά και τα ονόματα των δρόμων\, θα επιχειρήσουμε να ανασυνθέσουμε τη μνήμη και την εικόνα μίας πόλης διαφορετικής\, αλλά όχι ολότελα χαμένης\, αφουγκραζόμενοι τις απηχήσεις των δοξασιών\, των μύθων και των θρύλων των αρχαίων τοποθεσιών\, που επιβιώνουν μέχρι σήμερα.\n\nΣημείο Συνάντησης: Σταθμός Μετρό Ακρόπολη – Έξοδος Οδός Μακρυγιάννη\n\nΑπαιτείται η κράτηση θέσης.
URL:https://cityfestival.thisisathens.org/event/periigisi-rizokastro-anafiotika-2/
LOCATION:Σταθμός Μετρό Ακρόπολη\, Μακρυγιάννη 9\, Αθήνα\, Αθήνα\, 117 42\, Greece
CATEGORIES:ΔΩΡΕΑΝ,ΙΣΤΟΡΙΑ,ΠΕΡΙΗΓΗΣΗ,ΥΠΑΙΘΡΙΑ ΔΡΑΣΗ
ATTACH;FMTTYPE=image/jpeg:https://cityfestival.thisisathens.org/wp-content/uploads/2025/04/20240516-TiACF-GMK-RizokastroAnafiotikaTour-0026-scaled.jpg
END:VEVENT
BEGIN:VEVENT
DTSTART;TZID=Europe/Athens:20250516T183000
DTEND;TZID=Europe/Athens:20250516T200000
DTSTAMP:20260424T235406
CREATED:20250328T131826Z
LAST-MODIFIED:20250422T100802Z
UID:10003246-1747420200-1747425600@cityfestival.thisisathens.org
SUMMARY:Η Ιστορία της Οικίας Κατακουζηνού Μέσα στον Χρόνο και ο Ρόλος Ενός Σπιτιού-Μουσείου στην Εποχή μας
DESCRIPTION:Μια ομιλία για το φιλολογικό σαλόνι των Κατακουζηνών του 1960\, με αναφορά στην ιστορία\, στο έργο και στην προσφορά του ζεύγους Κατακουζηνού. Θα μάθουμε πώς η οικία Κατακουζηνού μετατράπηκε σε μουσείο το 2008 και τι μπορεί να προσφέρει σε μια εποχή που όλα αλλάζουν συνεχώς.\n\nΟμιλητής: Σοφία Ε. Πελοποννησίου-Βασιλάκου\, μουσειολόγος\, επιμελήτρια της οικίας Κατακουζηνού.\n\nΑπαιτείται η κράτηση θέσης. Οι κρατήσεις ανοίγουν 9/5\, στις 12:00 το μεσημέρι.
URL:https://cityfestival.thisisathens.org/event/oikia-katakouzinou/
LOCATION:Ίδρυμα Αγγελου & Λητώς Κατακουζηνού\, Βασιλίσσης Αμαλίας 4\, Αθήνα\, Αθήνα\, 105 57\, Greece
CATEGORIES:ΔΩΡΕΑΝ,ΙΣΤΟΡΙΑ,ΜΟΥΣΕΙΟ
ATTACH;FMTTYPE=image/jpeg:https://cityfestival.thisisathens.org/wp-content/uploads/2025/03/OWN-Museums-KatakouzenosMuseum1.jpg
END:VEVENT
BEGIN:VEVENT
DTSTART;TZID=Europe/Athens:20250517T110000
DTEND;TZID=Europe/Athens:20250517T133000
DTSTAMP:20260424T235406
CREATED:20250407T093005Z
LAST-MODIFIED:20250516T094859Z
UID:10003370-1747479600-1747488600@cityfestival.thisisathens.org
SUMMARY:Δεκεμβριανά – Το Συλλαλητήριο του ΕΑΜ στην Πλατεία Συντάγματος
DESCRIPTION:Σε αυτόν τον περίπατο\, που θα πραγματοποιήσει ο ιστορικός Μενέλαος Χαραλαμπίδης\, εξετάζουμε όσα διαδραματίστηκαν την κρίσιμη ημέρα της 3ης Δεκεμβρίου 1944 στην πλατεία Συντάγματος και τους γύρω δρόμους. Δίνουμε απάντηση στο κεντρικό ερώτημα για το ποιοι πυροβόλησαν κατά τη διάρκεια του συλλαλητηρίου\, προκαλώντας την έναρξη των Δεκεμβριανών. Μέσα από τις μαρτυρίες Αμερικανών\, Βρετανών και Ελλήνων\, δημοσιογράφων\, στρατιωτικών και αντιστασιακών\, που βρίσκονταν στην πλατεία Συντάγματος\, εξετάζουμε αναλυτικά τις εξελίξεις εκείνο το κυριακάτικο πρωινό στο κέντρο της πόλης.\n\nΣημείο συνάντησης: Είσοδος Ωδείου Αθηνών\, από την οδό Ρηγίλλης.\n\nΑπαιτείται η κράτηση θέσης.
URL:https://cityfestival.thisisathens.org/event/dekemvriana-syllalitirio-eam-plateia-syntagmatos/
LOCATION:Ωδείο Αθηνών\, Ρηγίλλης &\, Vasileos Georgiou B 17-19\, Αθήνα\, Αθήνα\, 106 75\, Greece
CATEGORIES:ΔΩΡΕΑΝ,ΙΣΤΟΡΙΑ,ΠΕΡΙΗΓΗΣΗ,ΥΠΑΙΘΡΙΑ ΔΡΑΣΗ
ATTACH;FMTTYPE=image/jpeg:https://cityfestival.thisisathens.org/wp-content/uploads/2025/04/image6.jpeg
GEO:37.973423563659;23.743181774147
X-APPLE-STRUCTURED-LOCATION;VALUE=URI;X-ADDRESS=Ωδείο Αθηνών Ρηγίλλης & Vasileos Georgiou B 17-19 Αθήνα Αθήνα 106 75 Greece;X-APPLE-RADIUS=500;X-TITLE=Ρηγίλλης &\, Vasileos Georgiou B 17-19:geo:23.743181774147,37.973423563659
END:VEVENT
BEGIN:VEVENT
DTSTART;TZID=Europe/Athens:20250517T113000
DTEND;TZID=Europe/Athens:20250517T130000
DTSTAMP:20260424T235406
CREATED:20250403T124000Z
LAST-MODIFIED:20250506T125153Z
UID:10003365-1747481400-1747486800@cityfestival.thisisathens.org
SUMMARY:Εκπαιδευτικό Πρόγραμμα - Πρόσφυγες Περασμένων Αιώνων
DESCRIPTION:Το εκπαιδευτικό πρόγραμμα περιλαμβάνει μια σύντομη περιήγηση στην έκθεση «Από τη Μεγάλη… στη Σύγχρονη Ελλάδα (Μέρος Β΄): Οι Πρόσφυγες»\, η οποία εστιάζει σε συγκεκριμένα γεγονότα\, που σχετίζονται με την προσφυγική εμπειρία κατά την περίοδο διαμόρφωσης της πληθυσμιακής σύστασης του ελληνικού κράτους\, τον 19ο και τον 20ο αιώνα.\n\nΣτο πλαίσιο του προγράμματος\, με την καθοδήγηση των επιμελητριών της έκθεσης\, τα παιδιά θα δημιουργήσουν τη δική τους πάνινη τσάντα διακοσμημένη με την τεχνική των σταμπωτών\, εμπνευσμένη από μία σταμπωτή σφραγίδα υφάσματος που περιλαμβάνεται στις Συλλογές του ΕΙΜ και εκτίθεται στην έκθεση.\n\nΗ δράση απευθύνεται σε παιδιά ηλικάς 6-12 ετών.\n\nΑπαιτείται η κράτηση θέσης: +210 32 22 266 (εσωτ. 109) το διάστημα 13-16 Μαΐου και ώρες 09.00-15.00.
URL:https://cityfestival.thisisathens.org/event/ekpaideutiko-programma-prosfyges-perasmenon-aionon/
LOCATION:Εθνικό Ιστορικό Μουσείο\, Σταδίου 13\, Αθήνα\, Αθήνα\, 105 61\, Greece
CATEGORIES:ΔΩΡΕΑΝ,ΕΚΘΕΣΗ,ΙΣΤΟΡΙΑ,ΜΟΥΣΕΙΟ,ΠΑΙΔΙ
ATTACH;FMTTYPE=image/png:https://cityfestival.thisisathens.org/wp-content/uploads/2025/04/OWN-greater-contemporary-greece-2.png
END:VEVENT
BEGIN:VEVENT
DTSTART;TZID=Europe/Athens:20250518T100000
DTEND;TZID=Europe/Athens:20250518T110000
DTSTAMP:20260424T235406
CREATED:20250423T123039Z
LAST-MODIFIED:20250506T124316Z
UID:10003640-1747562400-1747566000@cityfestival.thisisathens.org
SUMMARY:Ξενάγηση στην Έκθεση: Κύπρος 1974 - Η Μνήμη Είναι η Μόνη Πατρίδα των Ανθρώπων
DESCRIPTION:Ποια είναι η εμπειρία του 1974;\n\nΠώς καταγράφονται η εισβολή και η προσφυγιά στον δημόσιο βίο\, στην καθημερινότητα\, στην ιστορία\, στην τέχνη και στη λογοτεχνία; Πώς συγκροτείται η συλλογική και ατομική ταυτότητα των ανθρώπων που ξεριζώθηκαν\, που βίωσαν την απώλεια αλλά βρήκαν τη δύναμη να δημιουργήσουν ξανά;\n\nΗ έκθεση αφηγείται τα ιστορικά γεγονότα\, το πραξικόπημα\, την εισβολή\, την προσφυγιά\, τον αντικατοχικό αγώνα αλλά και την ανασυγκρότηση\, τη μέριμνα για την πολιτιστική κληρονομιά και την εκπαίδευση\, τη δημιουργία και τη ματιά στο μέλλον.\n\nΗ δράση απευθύνεται σε ενήλικες.\n\nΑπαιτείται η κράτηση θέσης έως 15 Μαΐου\, στο +210 367 3273\, από Δευτέρα έως Παρασκευή 9:00-16:00.
URL:https://cityfestival.thisisathens.org/event/xenagisi-ekthesi-kypros-1974-mnini-patrida-anthropon/
LOCATION:Δημόσιο Καπνεργοστάσιο\, Λένορμαν 218\, Αθήνα\, Αθήνα\, 104 43\, Greece
CATEGORIES:ΔΩΡΕΑΝ,ΕΚΘΕΣΗ,ΙΣΤΟΡΙΑ,ΠΕΡΙΗΓΗΣΗ
ATTACH;FMTTYPE=image/jpeg:https://cityfestival.thisisathens.org/wp-content/uploads/2025/03/IMG__30_09_2024_049-1-scaled.jpg
END:VEVENT
BEGIN:VEVENT
DTSTART;TZID=Europe/Athens:20250518T110000
DTEND;TZID=Europe/Athens:20250518T123000
DTSTAMP:20260424T235406
CREATED:20250422T130047Z
LAST-MODIFIED:20250506T124106Z
UID:10003617-1747566000-1747571400@cityfestival.thisisathens.org
SUMMARY:Όσοι δεν Πρόλαβαν - Διαδρομή Μνήμης 1940-1944
DESCRIPTION:Η διαδρομή μνήμης είναι ένας φόρος τιμής στα χιλιάδες ανώνυμα θύματα της πείνας κατά τη διάρκεια της κατοχής\, καθώς και στα θύματα των εκτελέσεων από τις δυνάμεις κατοχής. Αναζητώντας το χθες στο σήμερα\, ξεδιπλώνονται ιστορίες του τόπου και των ανθρώπων. Συγχρόνως\, επανασυστήνεται στο κοινό το Γ’ Νεκροταφείο ως ιστορικός τόπος μνήμης για «όσους δεν πρόλαβαν» να δουν τη χώρα μας ελεύθερη.\n\nΤην περιήγηση θα πραγματοποιήσουν η Ζέττα Αντωνοπούλου\, Ιστορικός-Αρχαιολόγος\, και η Ελίζα Νεοφύτου\, Αρχιτέκτονας-Μουσειολόγος.\n\nΣημείο συνάντησης: Είσοδος Γ’ Κοιμητηρίου\n\nΑπαιτείται η κράτηση θέσης.
URL:https://cityfestival.thisisathens.org/event/osoi-den-prolavan-diadromi-mnimis-140-1944-2/
LOCATION:Γ’ Κοιμητήριο Αθηνών\, Θηβών & Κοτυόρων\, Αθήνα\, Αθήνα\, 184 54\, Greece
CATEGORIES:ΔΩΡΕΑΝ,ΙΣΤΟΡΙΑ,ΠΕΡΙΗΓΗΣΗ,ΥΠΑΙΘΡΙΑ ΔΡΑΣΗ
ATTACH;FMTTYPE=image/jpeg:https://cityfestival.thisisathens.org/wp-content/uploads/2025/03/IMG_20241010_144006-scaled.jpg
END:VEVENT
BEGIN:VEVENT
DTSTART;TZID=Europe/Athens:20250518T110000
DTEND;TZID=Europe/Athens:20250518T130000
DTSTAMP:20260424T235406
CREATED:20250514T141817Z
LAST-MODIFIED:20250516T095047Z
UID:10003963-1747566000-1747573200@cityfestival.thisisathens.org
SUMMARY:Στα Χνάρια των Φιλελλήνων
DESCRIPTION:Περιπατητική περιήγηση στην Πλάκα πολιτιστικού και ιστορικού ενδιαφέροντος\, με σημεία-σταθμούς και κοινό παρονομαστή την ιστορία της Νεότερης Ελλάδας και του Φιλελληνικού κινήματος.\nΕνδεικτικοί σταθμοί: η Αγγλικανική Εκκλησία επί της οδού Φιλελλήνων\, στην οποία φυλάσσονται λείψανα του μεγάλου Φιλέλληνα πλοιάρχου Frank Abney Hastings\, η οικία Church\, το Οθώνειο Πανεπιστήμιο\, η οικία Finley\, η Σχολή Χιλλ\, το Μνημείο Λυσικράτους\, οι προτομές του Εϋνάρδου και του Καποδίστρια στον Εθνικό Κήπο.\nΟ περίπατος περιλαμβάνει επίσης\, επίσκεψη και ξενάγηση στη Βουλή των Ελλήνων και στις εκθέσεις για τον Φιλελληνισμό\, από τον έφορο της Συλλογής Έργων Τέχνης της Βουλής\, Δρ. Θοδωρή Κουτσογιάννη.\n\nΟι θέσεις έχουν καλυφθεί.
URL:https://cityfestival.thisisathens.org/event/filellines/
LOCATION:Ρώσικη Εκκλησία\, Φιλελλήνων\, Αθήνα\, Αθήνα\, 105 57\, Greece
CATEGORIES:ΔΩΡΕΑΝ,ΕΚΘΕΣΗ,ΙΣΤΟΡΙΑ,ΠΕΡΙΗΓΗΣΗ,ΥΠΑΙΘΡΙΑ ΔΡΑΣΗ
ATTACH;FMTTYPE=image/png:https://cityfestival.thisisathens.org/wp-content/uploads/2025/05/ThisIsAthensFestival2025.png
END:VEVENT
BEGIN:VEVENT
DTSTART;TZID=Europe/Athens:20250518T130000
DTEND;TZID=Europe/Athens:20250518T140000
DTSTAMP:20260424T235407
CREATED:20250423T123222Z
LAST-MODIFIED:20250506T123823Z
UID:10003641-1747573200-1747576800@cityfestival.thisisathens.org
SUMMARY:Ξενάγηση στην Έκθεση: Κύπρος 1974: Η Μνήμη Είναι η Μόνη Πατρίδα των Ανθρώπων
DESCRIPTION:Ποια είναι η εμπειρία του 1974;\n\nΠώς καταγράφονται η εισβολή και η προσφυγιά στον δημόσιο βίο\, στην καθημερινότητα\, στην ιστορία\, στην τέχνη και στη λογοτεχνία; Πώς συγκροτείται η συλλογική και ατομική ταυτότητα των ανθρώπων που ξεριζώθηκαν\, που βίωσαν την απώλεια αλλά βρήκαν τη δύναμη να δημιουργήσουν ξανά;\n\nΗ έκθεση αφηγείται τα ιστορικά γεγονότα\, το πραξικόπημα\, την εισβολή\, την προσφυγιά\, τον αντικατοχικό αγώνα αλλά και την ανασυγκρότηση\, τη μέριμνα για την πολιτιστική κληρονομιά και την εκπαίδευση\, τη δημιουργία και τη ματιά στο μέλλον.\n\nΗ δράση απευθύνεται σε ενήλικες.\n\nΑπαιτείται η κράτηση θέσης έως 15 Μαΐου\, στο +210 367 3273\, από Δευτέρα έως Παρασκευή 9:00-16:00.
URL:https://cityfestival.thisisathens.org/event/xenagisi-ekthesi-kypros-1974-mnini-patrida-anthropon-2/
LOCATION:Δημόσιο Καπνεργοστάσιο\, Λένορμαν 218\, Αθήνα\, Αθήνα\, 104 43\, Greece
CATEGORIES:ΔΩΡΕΑΝ,ΕΚΘΕΣΗ,ΙΣΤΟΡΙΑ,ΠΕΡΙΗΓΗΣΗ
ATTACH;FMTTYPE=image/jpeg:https://cityfestival.thisisathens.org/wp-content/uploads/2025/03/IMG__30_09_2024_049-1-scaled.jpg
END:VEVENT
BEGIN:VEVENT
DTSTART;TZID=Europe/Athens:20250524T110000
DTEND;TZID=Europe/Athens:20250524T130000
DTSTAMP:20260424T235407
CREATED:20250509T152502Z
LAST-MODIFIED:20250509T153944Z
UID:10003937-1748084400-1748091600@cityfestival.thisisathens.org
SUMMARY:Τριάστερον Αρχιτεκτονικόν Στέμμα: Η Νεοκλασική Τριλογία των Αθηνών
DESCRIPTION:Ο αρχαιολόγος και διπλωματούχος ξεναγός Μιχάλης Γιοχάλας\, σε συνεργασία με το Φεστιβάλ του Δήμου Αθηναίων\, πραγματοποιεί μία ξενάγηση στην Αθηναϊκή Τριλογία.\n\nΠανεπιστήμιο\, Ακαδημία\, Βιβλιοθήκη: Opus Magnum των αδελφών Hans Christian και Theophilus Hansen\, η νεοκλασική τριλογία των Αθηνών\, το\, κατά τον Αλέξανδρο Φιλαδελφέα\, «τριάστερον αρχιτεκτονικόν στέμμα της ημετέρας πόλεως»\, από την ολοκλήρωσή της έως σήμερα συνιστά τοπόσημο διαχρονικό και εμβληματικό.\n\nΣτην καρδιά του αστικού ιστού\, εικονογραφικές και φιλολογικές αναφορές στην αρχαία ιστορία και μυθολογία διαπλέκονται με την κυρίαρχη ιδεολογία\, καθώς το εγγύς παρελθόν αναμετράται με το απώτερο\, αντανακλώντας την ψυχή\, τις προσδοκίες και τα οράματα μίας περασμένης εποχής.\n\nΣημείο Συνάντησης: Σταθμός Μετρό Πανεπιστήμιο – Έξοδος Πανεπιστημίου\n\nΑπαιτείται η κράτηση θέσης.
URL:https://cityfestival.thisisathens.org/event/triasteron/
LOCATION:Αθηναϊκή Τριλογία\, Πανεπιστημίου 39\, Αθήνα\, Αθήνα\, 105 64\, Greece
CATEGORIES:ΔΩΡΕΑΝ,ΙΣΤΟΡΙΑ,ΠΕΡΙΗΓΗΣΗ,ΥΠΑΙΘΡΙΑ ΔΡΑΣΗ
ATTACH;FMTTYPE=image/jpeg:https://cityfestival.thisisathens.org/wp-content/uploads/2025/03/ΤΡΙΛΟΓΙΑ-ΜΕΡΟΣ-Β-scaled.jpg
END:VEVENT
BEGIN:VEVENT
DTSTART;TZID=Europe/Athens:20250524T110000
DTEND;TZID=Europe/Athens:20250524T133000
DTSTAMP:20260424T235407
CREATED:20250407T092819Z
LAST-MODIFIED:20250506T120620Z
UID:10003391-1748084400-1748093400@cityfestival.thisisathens.org
SUMMARY:Δεκεμβριανά – Η Μάχη στου Μακρυγιάννη
DESCRIPTION:Σε αυτόν τον περίπατο\, που θα πραγματοποιήσει ο ιστορικός Μενέλαος Χαραλαμπίδης\, θα ασχοληθούμε με μια από τις πιο σημαντικές μάχες των Δεκεμβριανών\, αυτή των στρατώνων του Συντάγματος Χωροφυλακής Μακρυγιάννη.\n\nΘα δούμε τον τρόπο υλοποίησής της από τον ΕΛΑΣ\, την αγωνιώδη άμυνα των χωροφυλάκων\, την καθοριστική επέμβαση των βρετανικών δυνάμεων και τις κινήσεις αντιπερισπασμού σε άλλα μέτωπα της μάχης.\n\nΣημείο συνάντησης: Είσοδος Ζαππείου Μεγάρου\n\nΑπαιτείται η κράτηση θέσης.
URL:https://cityfestival.thisisathens.org/event/dekemvriana-maxi-makriyianni/
LOCATION:Ζάππειο Μέγαρο\, Zappeion Hall\, Αθήνα\, Αθήνα\, 105 57\, Greece
CATEGORIES:ΔΩΡΕΑΝ,ΙΣΤΟΡΙΑ,ΠΕΡΙΗΓΗΣΗ,ΥΠΑΙΘΡΙΑ ΔΡΑΣΗ
ATTACH;FMTTYPE=image/jpeg:https://cityfestival.thisisathens.org/wp-content/uploads/2025/04/image5.jpeg
GEO:37.971705378867;23.736738299693
X-APPLE-STRUCTURED-LOCATION;VALUE=URI;X-ADDRESS=Ζάππειο Μέγαρο Zappeion Hall Αθήνα Αθήνα 105 57 Greece;X-APPLE-RADIUS=500;X-TITLE=Zappeion Hall:geo:23.736738299693,37.971705378867
END:VEVENT
BEGIN:VEVENT
DTSTART;TZID=Europe/Athens:20250524T113000
DTEND;TZID=Europe/Athens:20250524T140000
DTSTAMP:20260424T235407
CREATED:20250326T111747Z
LAST-MODIFIED:20250506T120407Z
UID:10001225-1748086200-1748095200@cityfestival.thisisathens.org
SUMMARY:Προβολή Ιστορικών Ντοκιμαντέρ
DESCRIPTION:H αίθουσα «Αδαμάντιος Κοραής» του Πολεμικού Μουσείου φιλοξενεί την προβολή πέντε ιστορικών ντοκιμαντέρ. Μέσα από σπάνιο κινηματογραφικό υλικό\, τα ντοκιμαντέρ ζωντανεύουν κρίσιμες στιγμές της στρατιωτικής ιστορίας\, από τους Βαλκανικούς Πολέμους (1912-13) και τη Μάχη της Καλλίπολης (1915)\, μέχρι τη νικηφόρα Μάχη του Σκρα (1918)\, τη δραματική Μάχη της Κρήτης (1941) και την Απόβαση στη Νορμανδία (1944). Αυτά τα κορυφαία γεγονότα παρουσιάζονται με αυθεντικά πλάνα\, αναδεικνύοντας τη στρατηγική σημασία και την ηρωική δράση των εμπλεκομένων δυνάμεων.\n\n 	Βαλκανικοί Πόλεμοι 1912-13\, Κινηματογραφώντας την Ιστορία (διάρκεια: 52΄)\n 	Η Μάχη της Καλλίπολης 1915\, ΑΝΖΑΚ (διάρκεια: 27΄)\n 	Η Μάχη του Σκρα\, 1918 (διάρκεια: 22΄)\n 	Η Μάχη της Κρήτης\, Μαιος 1941 (διάρκεια: 25΄)\n 	Απόβαση στη Νορμανδία\, Ιούνιος 1944 (διάρκεια: 5΄)\n\nΘα τηρηθεί σειρά προτεραιότητας.
URL:https://cityfestival.thisisathens.org/event/provoli-documentary/
LOCATION:Πολεμικό Μουσείο\, Ριζάρη 2-4\, Αθήνα\, Αθήνα\, 106 75\, Greece
CATEGORIES:ΔΩΡΕΑΝ,ΙΣΤΟΡΙΑ,ΜΟΥΣΕΙΟ,ΣΙΝΕΜΑ
ATTACH;FMTTYPE=image/jpeg:https://cityfestival.thisisathens.org/wp-content/uploads/2025/03/ΑΙΘΡΙΟΣ-ΧΩΡΟΣ-scaled.jpg
END:VEVENT
BEGIN:VEVENT
DTSTART;TZID=Europe/Athens:20250524T180000
DTEND;TZID=Europe/Athens:20250524T193000
DTSTAMP:20260424T235407
CREATED:20250327T112619Z
LAST-MODIFIED:20250506T120037Z
UID:10001272-1748109600-1748115000@cityfestival.thisisathens.org
SUMMARY:Ιστορικός Περίπατος
DESCRIPTION:Το Εθνικό Αρχαιολογικό Μουσείο και ο Δρ Κώστας Πασχαλίδης παρουσιάζουν σε έναν απογευματινό περίπατο το συνοπτικό χρονικό του Ελληνικού Κράτους από την ίδρυσή του μέχρι σήμερα.\n\nΜια ιστορία που ξεκινάει πριν από δύο αιώνες\, από ένα οικόπεδο που ήταν αμπέλι\, κατόπιν έγινε λέσχη των Βαυαρών στρατιωτών\, σημείο ανέγερσης του μεγαλύτερου Μουσείου του αρχαίου κόσμου\, τόπος αγωνιώδους απόκρυψης αρχαιοτήτων εν όψει πολέμου\, εμβληματικό σημείο της Εθνικής Αντίστασης στην Κατοχή\, μάρτυρας της φοιτητικής εξέγερσης του Πολυτεχνείου\, κιβωτός αστείρευτων εκθέσεων. Ένας μικρός τόπος στην «καρδιά» της Αθήνας\, που έζησε τη γέννηση και τις περιπέτειες μιας ολόκληρης χώρας.\n\nΑπαιτείται η κράτηση θέσης.
URL:https://cityfestival.thisisathens.org/event/istorikos-peripatos/
LOCATION:Εθνικό Αρχαιολογικό Μουσείο\, Πατησίων 44\, Αθήνα\, Αθήνα\, 106 82\, Greece
CATEGORIES:ΔΩΡΕΑΝ,ΙΣΤΟΡΙΑ,ΜΟΥΣΕΙΟ,ΠΕΡΙΗΓΗΣΗ,ΥΠΑΙΘΡΙΑ ΔΡΑΣΗ
ATTACH;FMTTYPE=image/jpeg:https://cityfestival.thisisathens.org/wp-content/uploads/2025/03/20230527-TGR-AthensCityFestival-PeripatosArchaelogicalMuseum-0096-scaled.jpg
END:VEVENT
BEGIN:VEVENT
DTSTART;TZID=Europe/Athens:20250525T110000
DTEND;TZID=Europe/Athens:20250525T130000
DTSTAMP:20260424T235407
CREATED:20250514T143248Z
LAST-MODIFIED:20250516T095032Z
UID:10003964-1748170800-1748178000@cityfestival.thisisathens.org
SUMMARY:Στα Χνάρια των Φιλελλήνων
DESCRIPTION:Περιπατητική περιήγηση στην Πλάκα πολιτιστικού και ιστορικού ενδιαφέροντος\, με σημεία-σταθμούς και κοινό παρονομαστή την ιστορία της Νεότερης Ελλάδας και του Φιλελληνικού κινήματος.\nΕνδεικτικοί σταθμοί: η Αγγλικανική Εκκλησία επί της οδού Φιλελλήνων\, στην οποία φυλάσσονται λείψανα του μεγάλου Φιλέλληνα πλοιάρχου Frank Abney Hastings\, η οικία Church\, το Οθώνειο Πανεπιστήμιο\, η οικία Finley\, η Σχολή Χιλλ\, το Μνημείο Λυσικράτους\, οι προτομές του Εϋνάρδου και του Καποδίστρια στον Εθνικό Κήπο.\nΟ περίπατος περιλαμβάνει επίσης\, επίσκεψη και ξενάγηση στη Βουλή των Ελλήνων και στις εκθέσεις για τον Φιλελληνισμό\, από τον έφορο της Συλλογής Έργων Τέχνης της Βουλής\, Δρ. Θοδωρή Κουτσογιάννη.\n\nΟι θέσεις έχουν καλυφθεί.
URL:https://cityfestival.thisisathens.org/event/filellines-2/
LOCATION:Ρώσικη Εκκλησία\, Φιλελλήνων\, Αθήνα\, Αθήνα\, 105 57\, Greece
CATEGORIES:ΔΩΡΕΑΝ,ΕΚΘΕΣΗ,ΙΣΤΟΡΙΑ,ΠΕΡΙΗΓΗΣΗ,ΥΠΑΙΘΡΙΑ ΔΡΑΣΗ
ATTACH;FMTTYPE=image/png:https://cityfestival.thisisathens.org/wp-content/uploads/2025/05/ThisIsAthensFestival2025.png
END:VEVENT
BEGIN:VEVENT
DTSTART;TZID=Europe/Athens:20250530T180000
DTEND;TZID=Europe/Athens:20250530T200000
DTSTAMP:20260424T235407
CREATED:20250416T145345Z
LAST-MODIFIED:20250502T100004Z
UID:10003522-1748628000-1748635200@cityfestival.thisisathens.org
SUMMARY:Περιήγηση στο Ριζόκαστρο και τα Αναφιώτικα
DESCRIPTION:Ο αρχαιολόγος και διπλωματούχος ξεναγός Μιχάλης Γιοχάλας\, σε συνεργασία με το Φεστιβάλ του Δήμου Αθηναίων\, πραγματοποιεί μία περιήγηση στα Αναφιώτικα και την ιστορία τους.\n\nΤο Ριζόκαστρο\, η περιοχή κάτω από την ρίζα του Βράχου\, και τα Αναφιώτικα είναι δύο εκ των πλέον ιστορικών περιοχών της Αθήνας. Με οδηγούς τα μέχρι σήμερα σωζόμενα μνημεία και κτίρια\, τα σπαράγματα αυτών που δεν υπάρχουν πλέον αλλά και τα ονόματα των δρόμων\, θα επιχειρήσουμε να ανασυνθέσουμε τη μνήμη και την εικόνα μίας πόλης διαφορετικής\, αλλά όχι ολότελα χαμένης\, αφουγκραζόμενοι τις απηχήσεις των δοξασιών\, των μύθων και των θρύλων των αρχαίων τοποθεσιών\, που επιβιώνουν μέχρι σήμερα.\n\nΣημείο Συνάντησης: Σταθμός Μετρό Ακρόπολη – Έξοδος Οδός Μακρυγιάννη\n\nΑπαιτείται η κράτηση θέσης.
URL:https://cityfestival.thisisathens.org/event/periigisi-rizokastro-anafiotika-3/
LOCATION:Σταθμός Μετρό Ακρόπολη\, Μακρυγιάννη 9\, Αθήνα\, Αθήνα\, 117 42\, Greece
CATEGORIES:ΔΩΡΕΑΝ,ΙΣΤΟΡΙΑ,ΠΕΡΙΗΓΗΣΗ,ΥΠΑΙΘΡΙΑ ΔΡΑΣΗ
ATTACH;FMTTYPE=image/jpeg:https://cityfestival.thisisathens.org/wp-content/uploads/2025/04/20240516-TiACF-GMK-RizokastroAnafiotikaTour-0026-scaled.jpg
END:VEVENT
END:VCALENDAR